BEGIN:VCALENDAR
VERSION:2.0
PRODID:-//EZFacility.com, Inc.//EZL 2.5.5.28621
BEGIN:VEVENT
UID:14880919@ezleagues.ezfacility.com
DTSTAMP:20260423T022350Z
CREATED:20260423T022350Z
DTSTART:20230203T035500Z
DTEND:20230203T045000Z
LOCATION:PFFC Dome - 4
CONTACT:
SUMMARY:Schwarzgelb United (Neon Yellow) VS. Woodford FC (Light Blue)
DESCRIPTION:League Name: MSL WINTER 2023 - WED/THURS MEN'S FIRST GAME\nGame
  Type: Regular\nGame Status: Complete\nHome Team: Schwarzgelb United (Neon
  Yellow)\nAway Team: Woodford FC (Light Blue)\nHome Score: 0\nAway Score: 
 3
END:VEVENT
BEGIN:VEVENT
UID:14907266@ezleagues.ezfacility.com
DTSTAMP:20260423T022350Z
CREATED:20260423T022350Z
DTSTART:20230210T034500Z
DTEND:20230210T044000Z
LOCATION:PFFC Field House - D
CONTACT:
SUMMARY:BBC FC VS. Schwarzgelb United (Neon Yellow)
DESCRIPTION:League Name: MSL WINTER 2023 - WED/THURS MEN'S FIRST GAME\nGame
  Type: Regular\nGame Status: Complete\nHome Team: BBC FC\nAway Team: Schwa
 rzgelb United (Neon Yellow)\nHome Score: 3\nAway Score: 0
END:VEVENT
END:VCALENDAR
