BEGIN:VCALENDAR
VERSION:2.0
PRODID:-//EZFacility.com, Inc.//EZL 2.5.5.28621
BEGIN:VEVENT
UID:14885830@ezleagues.ezfacility.com
DTSTAMP:20260426T034940Z
CREATED:20260426T034940Z
DTSTART:20230130T021000Z
DTEND:20230130T030500Z
LOCATION:PFFC Field House - D
CONTACT:
SUMMARY:Oldcastle United VS. Sauga Panthers FC
DESCRIPTION:League Name: MSL WINTER 2023 - SUNDAY MENS FIRST GAMES\nGame Ty
 pe: Regular\nGame Status: Complete\nHome Team: Oldcastle United\nAway Team
 : Sauga Panthers FC\nHome Score: 6\nAway Score: 3
END:VEVENT
BEGIN:VEVENT
UID:14900324@ezleagues.ezfacility.com
DTSTAMP:20260426T034940Z
CREATED:20260426T034940Z
DTSTART:20230206T011500Z
DTEND:20230206T021000Z
LOCATION:PFFC Field House - C
CONTACT:
SUMMARY:Bodmons FC VS. Oldcastle United
DESCRIPTION:League Name: MSL WINTER 2023 - SUNDAY MENS FIRST GAMES\nGame Ty
 pe: Regular\nGame Status: Complete\nHome Team: Bodmons FC\nAway Team: Oldc
 astle United\nHome Score: 1\nAway Score: 4
END:VEVENT
END:VCALENDAR
