BEGIN:VCALENDAR
VERSION:2.0
PRODID:-//EZFacility.com, Inc.//EZL 2.5.5.28621
BEGIN:VEVENT
UID:14862634@ezleagues.ezfacility.com
DTSTAMP:20260426T033811Z
CREATED:20260426T033811Z
DTSTART:20230117T213000Z
DTEND:20230117T221500Z
LOCATION:8 Ivor Allchurch
CONTACT:
SUMMARY:Out on Bale VS. FC Aquilae
DESCRIPTION:League Name: Cardiff Tuesday League Division 4\nGame Type: Regu
 lar\nGame Status: Complete\nHome Team: Out on Bale\nAway Team: FC Aquilae\
 nHome Score: 2\nAway Score: 4
END:VEVENT
BEGIN:VEVENT
UID:14862637@ezleagues.ezfacility.com
DTSTAMP:20260426T033811Z
CREATED:20260426T033811Z
DTSTART:20230124T213000Z
DTEND:20230124T221500Z
LOCATION:8 Ivor Allchurch
CONTACT:
SUMMARY:FC Aquilae VS. Leopards FC
DESCRIPTION:League Name: Cardiff Tuesday League Division 4\nGame Type: Regu
 lar\nGame Status: Complete\nHome Team: FC Aquilae\nAway Team: Leopards FC\
 nHome Score: 4\nAway Score: 4
END:VEVENT
BEGIN:VEVENT
UID:14862639@ezleagues.ezfacility.com
DTSTAMP:20260426T033811Z
CREATED:20260426T033811Z
DTSTART:20230131T204500Z
DTEND:20230131T213000Z
LOCATION:8 Ivor Allchurch
CONTACT:
SUMMARY:FC Aquilae VS. Webbinator222
DESCRIPTION:League Name: Cardiff Tuesday League Division 4\nGame Type: Regu
 lar\nGame Status: Complete\nHome Team: FC Aquilae\nAway Team: Webbinator22
 2\nHome Score: 3\nAway Score: 6
END:VEVENT
BEGIN:VEVENT
UID:14862641@ezleagues.ezfacility.com
DTSTAMP:20260426T033811Z
CREATED:20260426T033811Z
DTSTART:20230207T203000Z
DTEND:20230207T211500Z
LOCATION:8 Ivor Allchurch
CONTACT:
SUMMARY:Futsal FC VS. FC Aquilae
DESCRIPTION:League Name: Cardiff Tuesday League Division 4\nGame Type: Regu
 lar\nGame Status: Complete\nHome Team: Futsal FC\nAway Team: FC Aquilae\nH
 ome Score: 2\nAway Score: 10
END:VEVENT
BEGIN:VEVENT
UID:14862645@ezleagues.ezfacility.com
DTSTAMP:20260426T033811Z
CREATED:20260426T033811Z
DTSTART:20230214T200000Z
DTEND:20230214T204500Z
LOCATION:6 Joey Jones
CONTACT:
SUMMARY:Pork Vale VS. FC Aquilae
DESCRIPTION:League Name: Cardiff Tuesday League Division 4\nGame Type: Regu
 lar\nGame Status: Complete\nHome Team: Pork Vale\nAway Team: FC Aquilae\nH
 ome Score: 6\nAway Score: 4
END:VEVENT
BEGIN:VEVENT
UID:14862649@ezleagues.ezfacility.com
DTSTAMP:20260426T033811Z
CREATED:20260426T033811Z
DTSTART:20230221T213000Z
DTEND:20230221T221500Z
LOCATION:8 Ivor Allchurch
CONTACT:
SUMMARY:FC Aquilae VS. Out on Bale
DESCRIPTION:League Name: Cardiff Tuesday League Division 4\nGame Type: Regu
 lar\nGame Status: Complete\nHome Team: FC Aquilae\nAway Team: Out on Bale\
 nHome Score: 3\nAway Score: 2
END:VEVENT
BEGIN:VEVENT
UID:14862652@ezleagues.ezfacility.com
DTSTAMP:20260426T033811Z
CREATED:20260426T033811Z
DTSTART:20230228T213000Z
DTEND:20230228T221500Z
LOCATION:8 Ivor Allchurch
CONTACT:
SUMMARY:Leopards FC VS. FC Aquilae
DESCRIPTION:League Name: Cardiff Tuesday League Division 4\nGame Type: Regu
 lar\nGame Status: Complete\nHome Team: Leopards FC\nAway Team: FC Aquilae\
 nHome Score: 2\nAway Score: 2
END:VEVENT
BEGIN:VEVENT
UID:14862654@ezleagues.ezfacility.com
DTSTAMP:20260426T033811Z
CREATED:20260426T033811Z
DTSTART:20230307T200000Z
DTEND:20230307T204500Z
LOCATION:8 Ivor Allchurch
CONTACT:
SUMMARY:Webbinator222 VS. FC Aquilae
DESCRIPTION:League Name: Cardiff Tuesday League Division 4\nGame Type: Regu
 lar\nGame Status: Complete\nHome Team: Webbinator222\nAway Team: FC Aquila
 e\nHome Score: 7\nAway Score: 1
END:VEVENT
BEGIN:VEVENT
UID:14862656@ezleagues.ezfacility.com
DTSTAMP:20260426T033811Z
CREATED:20260426T033811Z
DTSTART:20230314T204500Z
DTEND:20230314T213000Z
LOCATION:8 Ivor Allchurch
CONTACT:
SUMMARY:FC Aquilae VS. Futsal FC
DESCRIPTION:League Name: Cardiff Tuesday League Division 4\nGame Type: Regu
 lar\nGame Status: Complete\nHome Team: FC Aquilae\nAway Team: Futsal FC\nH
 ome Score: 2\nAway Score: 7
END:VEVENT
BEGIN:VEVENT
UID:14862660@ezleagues.ezfacility.com
DTSTAMP:20260426T033811Z
CREATED:20260426T033811Z
DTSTART:20230321T200000Z
DTEND:20230321T204500Z
LOCATION:8 Ivor Allchurch
CONTACT:
SUMMARY:FC Aquilae VS. Pork Vale
DESCRIPTION:League Name: Cardiff Tuesday League Division 4\nGame Type: Regu
 lar\nGame Status: Complete\nHome Team: FC Aquilae\nAway Team: Pork Vale\nH
 ome Score: 5\nAway Score: 2
END:VEVENT
BEGIN:VEVENT
UID:14862667@ezleagues.ezfacility.com
DTSTAMP:20260426T033811Z
CREATED:20260426T033811Z
DTSTART:20230404T201500Z
DTEND:20230404T210000Z
LOCATION:2 Ryan Giggs
CONTACT:
SUMMARY:Leopards FC VS. FC Aquilae
DESCRIPTION:League Name: Cardiff Tuesday League Division 4\nGame Type: Regu
 lar\nGame Status: Complete\nHome Team: Leopards FC\nAway Team: FC Aquilae\
 nHome Score: 0\nAway Score: 10
END:VEVENT
BEGIN:VEVENT
UID:14862669@ezleagues.ezfacility.com
DTSTAMP:20260426T033811Z
CREATED:20260426T033811Z
DTSTART:20230411T193000Z
DTEND:20230411T201500Z
LOCATION:2 Ryan Giggs
CONTACT:
SUMMARY:Webbinator222 VS. FC Aquilae
DESCRIPTION:League Name: Cardiff Tuesday League Division 4\nGame Type: Regu
 lar\nGame Status: Complete\nHome Team: Webbinator222\nAway Team: FC Aquila
 e\nHome Score: 10\nAway Score: 3
END:VEVENT
BEGIN:VEVENT
UID:14862671@ezleagues.ezfacility.com
DTSTAMP:20260426T033811Z
CREATED:20260426T033811Z
DTSTART:20230418T193000Z
DTEND:20230418T201500Z
LOCATION:2 Ryan Giggs
CONTACT:
SUMMARY:FC Aquilae VS. Futsal FC
DESCRIPTION:League Name: Cardiff Tuesday League Division 4\nGame Type: Regu
 lar\nGame Status: Complete\nHome Team: FC Aquilae\nAway Team: Futsal FC\nH
 ome Score: 1\nAway Score: 3
END:VEVENT
BEGIN:VEVENT
UID:14862664@ezleagues.ezfacility.com
DTSTAMP:20260426T033811Z
CREATED:20260426T033811Z
DTSTART:20230425T180000Z
DTEND:20230425T184500Z
LOCATION:5 Neville Southall
CONTACT:
SUMMARY:FC Aquilae VS. Out on Bale
DESCRIPTION:League Name: Cardiff Tuesday League Division 4\nGame Type: Regu
 lar\nGame Status: Complete\nHome Team: FC Aquilae\nAway Team: Out on Bale\
 nHome Score: 3\nAway Score: 3
END:VEVENT
BEGIN:VEVENT
UID:14862675@ezleagues.ezfacility.com
DTSTAMP:20260426T033811Z
CREATED:20260426T033811Z
DTSTART:20230425T184500Z
DTEND:20230425T193000Z
LOCATION:4 Mark Hughes
CONTACT:
SUMMARY:FC Aquilae VS. Pork Vale
DESCRIPTION:League Name: Cardiff Tuesday League Division 4\nGame Type: Regu
 lar\nGame Status: Complete\nHome Team: FC Aquilae\nAway Team: Pork Vale\nH
 ome Score: 2\nAway Score: 12
END:VEVENT
END:VCALENDAR
