BEGIN:VCALENDAR
VERSION:2.0
PRODID:-//EZFacility.com, Inc.//EZL 2.5.5.28621
BEGIN:VEVENT
UID:14872163@ezleagues.ezfacility.com
DTSTAMP:20260423T124322Z
CREATED:20260423T124322Z
DTSTART:20230122T170000Z
DTEND:20230122T180000Z
LOCATION:Field 1
CONTACT:
SUMMARY:Ellington MS VS. Southington MS
DESCRIPTION:League Name: S2-MS Girls-2023\nGame Type: Regular\nGame Status:
  Complete\nHome Team: Ellington MS\nAway Team: Southington MS\nHome Score:
  10\nAway Score: 8
END:VEVENT
BEGIN:VEVENT
UID:14872214@ezleagues.ezfacility.com
DTSTAMP:20260423T124322Z
CREATED:20260423T124322Z
DTSTART:20230129T170000Z
DTEND:20230129T180000Z
LOCATION:Field 2
CONTACT:
SUMMARY:Southington MS VS. Granby MS
DESCRIPTION:League Name: S2-MS Girls-2023\nGame Type: Regular\nGame Status:
  Complete\nHome Team: Southington MS\nAway Team: Granby MS\nHome Score: 16
 \nAway Score: 7
END:VEVENT
BEGIN:VEVENT
UID:14872218@ezleagues.ezfacility.com
DTSTAMP:20260423T124322Z
CREATED:20260423T124322Z
DTSTART:20230205T190000Z
DTEND:20230205T200000Z
LOCATION:Field 3
CONTACT:
SUMMARY:Southington MS VS. Wethersfield MS
DESCRIPTION:League Name: S2-MS Girls-2023\nGame Type: Regular\nGame Status:
  Complete\nHome Team: Southington MS\nAway Team: Wethersfield MS\nHome Sco
 re: 11\nAway Score: 13
END:VEVENT
BEGIN:VEVENT
UID:14872227@ezleagues.ezfacility.com
DTSTAMP:20260423T124322Z
CREATED:20260423T124322Z
DTSTART:20230219T180000Z
DTEND:20230219T190000Z
LOCATION:Field 1
CONTACT:
SUMMARY:Southington MS VS. Longmeadow MS
DESCRIPTION:League Name: S2-MS Girls-2023\nGame Type: Regular\nGame Status:
  Complete\nHome Team: Southington MS\nAway Team: Longmeadow MS\nHome Score
 : 10\nAway Score: 22
END:VEVENT
BEGIN:VEVENT
UID:14872233@ezleagues.ezfacility.com
DTSTAMP:20260423T124322Z
CREATED:20260423T124322Z
DTSTART:20230226T180000Z
DTEND:20230226T190000Z
LOCATION:Field 1
CONTACT:
SUMMARY:Simsbury MS VS. Southington MS
DESCRIPTION:League Name: S2-MS Girls-2023\nGame Type: Regular\nGame Status:
  Complete\nHome Team: Simsbury MS\nAway Team: Southington MS\nHome Score: 
 12\nAway Score: 10
END:VEVENT
BEGIN:VEVENT
UID:14943076@ezleagues.ezfacility.com
DTSTAMP:20260423T124322Z
CREATED:20260423T124322Z
DTSTART:20230305T170000Z
DTEND:20230305T180000Z
LOCATION:Field 2
CONTACT:
SUMMARY:West Springfield MS VS. Southington MS
DESCRIPTION:League Name: S2-MS Girls-2023\nGame Type: Regular\nGame Status:
  Complete\nHome Team: West Springfield MS\nAway Team: Southington MS\nHome
  Score: 17\nAway Score: 11
END:VEVENT
BEGIN:VEVENT
UID:14943260@ezleagues.ezfacility.com
DTSTAMP:20260423T124322Z
CREATED:20260423T124322Z
DTSTART:20230312T190000Z
DTEND:20230312T200000Z
LOCATION:Field 1
CONTACT:
SUMMARY:Wethersfield MS VS. Southington MS
DESCRIPTION:League Name: S2-MS Girls-2023\nGame Type: Regular\nGame Status:
  Complete\nHome Team: Wethersfield MS\nAway Team: Southington MS\nHome Sco
 re: 15\nAway Score: 13
END:VEVENT
END:VCALENDAR
