BEGIN:VCALENDAR
VERSION:2.0
PRODID:-//EZFacility.com, Inc.//EZL 2.5.5.28621
BEGIN:VEVENT
UID:14867729@ezleagues.ezfacility.com
DTSTAMP:20260421T192139Z
CREATED:20260421T192139Z
DTSTART:20230122T182000Z
DTEND:20230122T190500Z
LOCATION:Rocky River 3/4 Yellow
CONTACT:
SUMMARY:ESO Elyria Girls Red VS. Bay Village SF
DESCRIPTION:League Name: U12 Girls Lower - Winter Session II\nGame Type: Re
 gular\nGame Status: Complete\nHome Team: ESO Elyria Girls Red\nAway Team: 
 Bay Village SF\nHome Score: 3\nAway Score: 1
END:VEVENT
BEGIN:VEVENT
UID:14867735@ezleagues.ezfacility.com
DTSTAMP:20260421T192139Z
CREATED:20260421T192139Z
DTSTART:20230129T150000Z
DTEND:20230129T154500Z
LOCATION:Rocky River 3/4 Yellow
CONTACT:
SUMMARY:The Littles Too VS. Bay Village SF
DESCRIPTION:League Name: U12 Girls Lower - Winter Session II\nGame Type: Re
 gular\nGame Status: Complete\nHome Team: The Littles Too\nAway Team: Bay V
 illage SF\nHome Score: 6\nAway Score: 2
END:VEVENT
BEGIN:VEVENT
UID:14867741@ezleagues.ezfacility.com
DTSTAMP:20260421T192139Z
CREATED:20260421T192139Z
DTSTART:20230205T190000Z
DTEND:20230205T194500Z
LOCATION:Rocky River 3/4 Yellow
CONTACT:
SUMMARY:Bay Village SF VS. The Littles
DESCRIPTION:League Name: U12 Girls Lower - Winter Session II\nGame Type: Re
 gular\nGame Status: Complete\nHome Team: Bay Village SF\nAway Team: The Li
 ttles\nHome Score: 3\nAway Score: 4
END:VEVENT
BEGIN:VEVENT
UID:14867747@ezleagues.ezfacility.com
DTSTAMP:20260421T192139Z
CREATED:20260421T192139Z
DTSTART:20230212T190000Z
DTEND:20230212T194500Z
LOCATION:Rocky River 3/4 Yellow
CONTACT:
SUMMARY:Elyria Girls Black VS. Bay Village SF
DESCRIPTION:League Name: U12 Girls Lower - Winter Session II\nGame Type: Re
 gular\nGame Status: Complete\nHome Team: Elyria Girls Black\nAway Team: Ba
 y Village SF\nHome Score: 2\nAway Score: 3
END:VEVENT
BEGIN:VEVENT
UID:14867752@ezleagues.ezfacility.com
DTSTAMP:20260421T192139Z
CREATED:20260421T192139Z
DTSTART:20230219T230000Z
DTEND:20230219T234500Z
LOCATION:Rocky River 3/4 Yellow
CONTACT:
SUMMARY:The Littles Too VS. Bay Village SF
DESCRIPTION:League Name: U12 Girls Lower - Winter Session II\nGame Type: Re
 gular\nGame Status: Complete\nHome Team: The Littles Too\nAway Team: Bay V
 illage SF\nHome Score: 1\nAway Score: 3
END:VEVENT
BEGIN:VEVENT
UID:14867756@ezleagues.ezfacility.com
DTSTAMP:20260421T192139Z
CREATED:20260421T192139Z
DTSTART:20230226T222000Z
DTEND:20230226T230500Z
LOCATION:Rocky River 3/4 Yellow
CONTACT:
SUMMARY:Bay Village SF VS. RR Kicks
DESCRIPTION:League Name: U12 Girls Lower - Winter Session II\nGame Type: Re
 gular\nGame Status: Complete\nHome Team: Bay Village SF\nAway Team: RR Kic
 ks\nHome Score: 4\nAway Score: 6
END:VEVENT
BEGIN:VEVENT
UID:14867764@ezleagues.ezfacility.com
DTSTAMP:20260421T192139Z
CREATED:20260421T192139Z
DTSTART:20230312T230000Z
DTEND:20230312T234500Z
LOCATION:Rocky River 3/4 Yellow
CONTACT:
SUMMARY:Bay Village SF VS. NOSO
DESCRIPTION:League Name: U12 Girls Lower - Winter Session II\nGame Type: Re
 gular\nGame Status: Complete\nHome Team: Bay Village SF\nAway Team: NOSO\n
 Home Score: 1\nAway Score: 3
END:VEVENT
BEGIN:VEVENT
UID:14867768@ezleagues.ezfacility.com
DTSTAMP:20260421T192139Z
CREATED:20260421T192139Z
DTSTART:20230319T133000Z
DTEND:20230319T141500Z
LOCATION:Westlake Full Field
CONTACT:
SUMMARY:Bay Village SF VS. Avon Lake Shoregals
DESCRIPTION:League Name: U12 Girls Lower - Winter Session II\nGame Type: Re
 gular\nGame Status: Complete\nHome Team: Bay Village SF\nAway Team: Avon L
 ake Shoregals\nHome Score: 3\nAway Score: 1
END:VEVENT
END:VCALENDAR
