BEGIN:VCALENDAR
VERSION:2.0
PRODID:-//EZFacility.com, Inc.//EZL 2.5.5.28621
BEGIN:VEVENT
UID:14867835@ezleagues.ezfacility.com
DTSTAMP:20260421T215959Z
CREATED:20260421T215959Z
DTSTART:20230219T190000Z
DTEND:20230219T194500Z
LOCATION:Rocky River 3/4 Yellow
CONTACT:
SUMMARY:Lady Demons VS. Force 10G
DESCRIPTION:League Name: U13 Girls Upper - Winter II\nGame Type: Regular\nG
 ame Status: Complete\nHome Team: Lady Demons\nAway Team: Force 10G\nHome S
 core: 3\nAway Score: 3
END:VEVENT
BEGIN:VEVENT
UID:14867829@ezleagues.ezfacility.com
DTSTAMP:20260421T215959Z
CREATED:20260421T215959Z
DTSTART:20230226T130000Z
DTEND:20230226T134500Z
LOCATION:Westlake Full Field
CONTACT:
SUMMARY:Force 10G VS. Lady Demons
DESCRIPTION:League Name: U13 Girls Upper - Winter II\nGame Type: Regular\nG
 ame Status: Complete\nHome Team: Force 10G\nAway Team: Lady Demons\nHome S
 core: 4\nAway Score: 3
END:VEVENT
BEGIN:VEVENT
UID:14867836@ezleagues.ezfacility.com
DTSTAMP:20260421T215959Z
CREATED:20260421T215959Z
DTSTART:20230226T170000Z
DTEND:20230226T174500Z
LOCATION:Rocky River 3/4 Yellow
CONTACT:
SUMMARY:Force 10G VS. ESO Elyria Girls Black
DESCRIPTION:League Name: U13 Girls Upper - Winter II\nGame Type: Regular\nG
 ame Status: Complete\nHome Team: Force 10G\nAway Team: ESO Elyria Girls Bl
 ack\nHome Score: 2\nAway Score: 3
END:VEVENT
BEGIN:VEVENT
UID:14867839@ezleagues.ezfacility.com
DTSTAMP:20260421T215959Z
CREATED:20260421T215959Z
DTSTART:20230305T150000Z
DTEND:20230305T154500Z
LOCATION:Rocky River 3/4 Yellow
CONTACT:
SUMMARY:Force 10G VS. Select
DESCRIPTION:League Name: U13 Girls Upper - Winter II\nGame Type: Regular\nG
 ame Status: Complete\nHome Team: Force 10G\nAway Team: Select\nHome Score:
  6\nAway Score: 0
END:VEVENT
BEGIN:VEVENT
UID:14867841@ezleagues.ezfacility.com
DTSTAMP:20260421T215959Z
CREATED:20260421T215959Z
DTSTART:20230305T160000Z
DTEND:20230305T164500Z
LOCATION:Rocky River 3/4 Yellow
CONTACT:
SUMMARY:Lady Demons VS. Force 10G
DESCRIPTION:League Name: U13 Girls Upper - Winter II\nGame Type: Regular\nG
 ame Status: Complete\nHome Team: Lady Demons\nAway Team: Force 10G\nHome S
 core: 0\nAway Score: 3
END:VEVENT
BEGIN:VEVENT
UID:14867833@ezleagues.ezfacility.com
DTSTAMP:20260421T215959Z
CREATED:20260421T215959Z
DTSTART:20230320T000000Z
DTEND:20230320T004500Z
LOCATION:Rocky River 3/4 Blue
CONTACT:
SUMMARY:Force 10G VS. Select
DESCRIPTION:League Name: U13 Girls Upper - Winter II\nGame Type: Regular\nG
 ame Status: Complete\nHome Team: Force 10G\nAway Team: Select\nHome Score:
  0\nAway Score: 4
END:VEVENT
BEGIN:VEVENT
UID:14867827@ezleagues.ezfacility.com
DTSTAMP:20260421T215959Z
CREATED:20260421T215959Z
DTSTART:20230326T160000Z
DTEND:20230326T164500Z
LOCATION:Rocky River 3/4 Yellow
CONTACT:
SUMMARY:Select VS. Force 10G
DESCRIPTION:League Name: U13 Girls Upper - Winter II\nGame Type: Regular\nG
 ame Status: Pending\nHome Team: Select\nAway Team: Force 10G\n
END:VEVENT
BEGIN:VEVENT
UID:14867830@ezleagues.ezfacility.com
DTSTAMP:20260421T215959Z
CREATED:20260421T215959Z
DTSTART:20230401T130000Z
DTEND:20230401T134500Z
LOCATION:Rocky River 3/4 Yellow
CONTACT:
SUMMARY:Lady Demons VS. Force 10G
DESCRIPTION:League Name: U13 Girls Upper - Winter II\nGame Type: Regular\nG
 ame Status: Complete\nHome Team: Lady Demons\nAway Team: Force 10G\nHome S
 core: 3\nAway Score: 4
END:VEVENT
END:VCALENDAR
