BEGIN:VCALENDAR
VERSION:2.0
PRODID:-//EZFacility.com, Inc.//EZL 2.5.5.28621
BEGIN:VEVENT
UID:14868275@ezleagues.ezfacility.com
DTSTAMP:20260425T224057Z
CREATED:20260425T224057Z
DTSTART:20230118T013000Z
DTEND:20230118T021500Z
LOCATION:volleyball crt 1
CONTACT:
SUMMARY:@Flamenaysh VS. Ball Busters
DESCRIPTION:League Name: 2022-23-Intramural Volleyball - SUPERRec division\
 nGame Type: Regular\nGame Status: Complete\nHome Team: @Flamenaysh\nAway T
 eam: Ball Busters\nHome Score: 39\nAway Score: 32
END:VEVENT
BEGIN:VEVENT
UID:14868290@ezleagues.ezfacility.com
DTSTAMP:20260425T224057Z
CREATED:20260425T224057Z
DTSTART:20230125T030000Z
DTEND:20230125T034500Z
LOCATION:volleyball crt 3
CONTACT:
SUMMARY:@Flamenaysh VS. Bedards baddies
DESCRIPTION:League Name: 2022-23-Intramural Volleyball - SUPERRec division\
 nGame Type: Regular\nGame Status: Complete\nHome Team: @Flamenaysh\nAway T
 eam: Bedards baddies\nHome Score: 50\nAway Score: 28
END:VEVENT
BEGIN:VEVENT
UID:14868305@ezleagues.ezfacility.com
DTSTAMP:20260425T224057Z
CREATED:20260425T224057Z
DTSTART:20230202T013000Z
DTEND:20230202T021500Z
LOCATION:volleyball crt 3
CONTACT:
SUMMARY:Cavaliers (Cavs) VS. @Flamenaysh
DESCRIPTION:League Name: 2022-23-Intramural Volleyball - SUPERRec division\
 nGame Type: Regular\nGame Status: Complete\nHome Team: Cavaliers (Cavs)\nA
 way Team: @Flamenaysh\nHome Score: 41\nAway Score: 51
END:VEVENT
BEGIN:VEVENT
UID:14868320@ezleagues.ezfacility.com
DTSTAMP:20260425T224057Z
CREATED:20260425T224057Z
DTSTART:20230208T030000Z
DTEND:20230208T034500Z
LOCATION:volleyball crt 1
CONTACT:
SUMMARY:I'd Hit That  VS. @Flamenaysh
DESCRIPTION:League Name: 2022-23-Intramural Volleyball - SUPERRec division\
 nGame Type: Regular\nGame Status: Complete\nHome Team: I'd Hit That \nAway
  Team: @Flamenaysh\nHome Score: 42\nAway Score: 48
END:VEVENT
BEGIN:VEVENT
UID:14918793@ezleagues.ezfacility.com
DTSTAMP:20260425T224057Z
CREATED:20260425T224057Z
DTSTART:20230216T022000Z
DTEND:20230216T030500Z
LOCATION:volleyball crt 3
CONTACT:
SUMMARY:@Flamenaysh VS. Winner Court 3
DESCRIPTION:League Name: 2022-23-Intramural Volleyball - SUPERRec division\
 nGame Type: Postseason\nGame Status: Complete\nHome Team: @Flamenaysh\nAwa
 y Team: Winner Court 3\nHome Score: 50\nAway Score: 32
END:VEVENT
END:VCALENDAR
