BEGIN:VCALENDAR
VERSION:2.0
PRODID:-//EZFacility.com, Inc.//EZL 2.5.5.28621
BEGIN:VEVENT
UID:14956948@ezleagues.ezfacility.com
DTSTAMP:20260419T172720Z
CREATED:20260419T172720Z
DTSTART:20230311T040000Z
DTEND:20230311T050000Z
LOCATION:Arena 1
CONTACT:
SUMMARY:Knights VS. Wolves
DESCRIPTION:League Name: Friday Hockey 3/23\nGame Type: Regular\nGame Statu
 s: Complete\nHome Team: Knights\nAway Team: Wolves\nHome Score: 4\nAway Sc
 ore: 3
END:VEVENT
BEGIN:VEVENT
UID:14956951@ezleagues.ezfacility.com
DTSTAMP:20260419T172720Z
CREATED:20260419T172720Z
DTSTART:20230325T010000Z
DTEND:20230325T020000Z
LOCATION:Arena 1
CONTACT:
SUMMARY:Wolves VS. Killer B's
DESCRIPTION:League Name: Friday Hockey 3/23\nGame Type: Regular\nGame Statu
 s: Complete\nHome Team: Wolves\nAway Team: Killer B's\nHome Score: 2\nAway
  Score: 11
END:VEVENT
BEGIN:VEVENT
UID:14956957@ezleagues.ezfacility.com
DTSTAMP:20260419T172720Z
CREATED:20260419T172720Z
DTSTART:20230401T020000Z
DTEND:20230401T030000Z
LOCATION:Arena 1
CONTACT:
SUMMARY:Phantoms VS. Wolves
DESCRIPTION:League Name: Friday Hockey 3/23\nGame Type: Regular\nGame Statu
 s: Complete\nHome Team: Phantoms\nAway Team: Wolves\nHome Score: 4\nAway S
 core: 11
END:VEVENT
BEGIN:VEVENT
UID:14956960@ezleagues.ezfacility.com
DTSTAMP:20260419T172720Z
CREATED:20260419T172720Z
DTSTART:20230408T000000Z
DTEND:20230408T010000Z
LOCATION:Arena 1
CONTACT:
SUMMARY:Grizzlies VS. Wolves
DESCRIPTION:League Name: Friday Hockey 3/23\nGame Type: Regular\nGame Statu
 s: Complete\nHome Team: Grizzlies\nAway Team: Wolves\nHome Score: 4\nAway 
 Score: 8
END:VEVENT
BEGIN:VEVENT
UID:14956968@ezleagues.ezfacility.com
DTSTAMP:20260419T172720Z
CREATED:20260419T172720Z
DTSTART:20230415T030000Z
DTEND:20230415T040000Z
LOCATION:Arena 1
CONTACT:
SUMMARY:Wolves VS. Bamboo Shooters
DESCRIPTION:League Name: Friday Hockey 3/23\nGame Type: Regular\nGame Statu
 s: Complete\nHome Team: Wolves\nAway Team: Bamboo Shooters\nHome Score: 3\
 nAway Score: 1
END:VEVENT
BEGIN:VEVENT
UID:14956969@ezleagues.ezfacility.com
DTSTAMP:20260419T172720Z
CREATED:20260419T172720Z
DTSTART:20230421T230000Z
DTEND:20230422T000000Z
LOCATION:Arena 1
CONTACT:
SUMMARY:Ducks VS. Wolves
DESCRIPTION:League Name: Friday Hockey 3/23\nGame Type: Regular\nGame Statu
 s: Complete\nHome Team: Ducks\nAway Team: Wolves\nHome Score: 1\nAway Scor
 e: 9
END:VEVENT
BEGIN:VEVENT
UID:14956985@ezleagues.ezfacility.com
DTSTAMP:20260419T172720Z
CREATED:20260419T172720Z
DTSTART:20230513T020000Z
DTEND:20230513T030000Z
LOCATION:Arena 1
CONTACT:
SUMMARY:Wolves VS. Riddlers
DESCRIPTION:League Name: Friday Hockey 3/23\nGame Type: Regular\nGame Statu
 s: Complete\nHome Team: Wolves\nAway Team: Riddlers\nHome Score: 3\nAway S
 core: 1
END:VEVENT
BEGIN:VEVENT
UID:14956988@ezleagues.ezfacility.com
DTSTAMP:20260419T172720Z
CREATED:20260419T172720Z
DTSTART:20230520T010000Z
DTEND:20230520T020000Z
LOCATION:Arena 1
CONTACT:
SUMMARY:Wolves VS. Knights
DESCRIPTION:League Name: Friday Hockey 3/23\nGame Type: Regular\nGame Statu
 s: Complete\nHome Team: Wolves\nAway Team: Knights\nHome Score: 2\nAway Sc
 ore: 5
END:VEVENT
BEGIN:VEVENT
UID:14956995@ezleagues.ezfacility.com
DTSTAMP:20260419T172720Z
CREATED:20260419T172720Z
DTSTART:20230527T030000Z
DTEND:20230527T040000Z
LOCATION:Arena 1
CONTACT:
SUMMARY:Wolves VS. Warriors
DESCRIPTION:League Name: Friday Hockey 3/23\nGame Type: Regular\nGame Statu
 s: Complete\nHome Team: Wolves\nAway Team: Warriors\nHome Score: 11\nAway 
 Score: 1
END:VEVENT
BEGIN:VEVENT
UID:14956979@ezleagues.ezfacility.com
DTSTAMP:20260419T172720Z
CREATED:20260419T172720Z
DTSTART:20230603T010000Z
DTEND:20230603T020000Z
LOCATION:Arena 1
CONTACT:
SUMMARY:Pucked Up VS. Wolves
DESCRIPTION:League Name: Friday Hockey 3/23\nGame Type: Regular\nGame Statu
 s: Complete\nHome Team: Pucked Up\nAway Team: Wolves\nHome Score: 1\nAway 
 Score: 12
END:VEVENT
BEGIN:VEVENT
UID:15096349@ezleagues.ezfacility.com
DTSTAMP:20260419T172720Z
CREATED:20260419T172720Z
DTSTART:20230610T010000Z
DTEND:20230610T020000Z
LOCATION:Arena 1
CONTACT:
SUMMARY:Wolves VS. Phantoms
DESCRIPTION:League Name: Friday Hockey 3/23\nGame Type: Postseason\nGame St
 atus: Complete\nHome Team: Wolves\nAway Team: Phantoms\nHome Score: 9\nAwa
 y Score: 3
END:VEVENT
BEGIN:VEVENT
UID:15107263@ezleagues.ezfacility.com
DTSTAMP:20260419T172720Z
CREATED:20260419T172720Z
DTSTART:20230617T000000Z
DTEND:20230617T010000Z
LOCATION:Arena 1
CONTACT:
SUMMARY:Killer B's VS. Wolves
DESCRIPTION:League Name: Friday Hockey 3/23\nGame Type: Postseason\nGame St
 atus: Complete\nHome Team: Killer B's\nAway Team: Wolves\nHome Score: 4\nA
 way Score: 7
END:VEVENT
BEGIN:VEVENT
UID:15114528@ezleagues.ezfacility.com
DTSTAMP:20260419T172720Z
CREATED:20260419T172720Z
DTSTART:20230624T000000Z
DTEND:20230624T010000Z
LOCATION:Arena 1
CONTACT:
SUMMARY:Knights VS. Wolves
DESCRIPTION:League Name: Friday Hockey 3/23\nGame Type: Postseason\nGame St
 atus: Complete\nHome Team: Knights\nAway Team: Wolves\nHome Score: 6\nAway
  Score: 3
END:VEVENT
END:VCALENDAR
