BEGIN:VCALENDAR
VERSION:2.0
PRODID:-//EZFacility.com, Inc.//EZL 2.5.5.28621
BEGIN:VEVENT
UID:14879114@ezleagues.ezfacility.com
DTSTAMP:20260419T202920Z
CREATED:20260419T202920Z
DTSTART:20230122T231000Z
DTEND:20230122T235200Z
LOCATION:7v7 Field #1
CONTACT:Marinkovic
SUMMARY:Valpo Voltage VS. Vale of Paradise FC
DESCRIPTION:League Name: Soccer 2022-2023-Winter Session II-Team Registrati
 on-Girl's High School 7v7\nGame Type: Regular\nGame Status: Complete\nHome
  Team: Valpo Voltage\nAway Team: Vale of Paradise FC\nHome Score: 4\nAway 
 Score: 2
END:VEVENT
BEGIN:VEVENT
UID:14879118@ezleagues.ezfacility.com
DTSTAMP:20260419T202920Z
CREATED:20260419T202920Z
DTSTART:20230129T231000Z
DTEND:20230129T235200Z
LOCATION:7v7 Field #1
CONTACT:Marinkovic
SUMMARY:Muscle Ponies VS. Vale of Paradise FC
DESCRIPTION:League Name: Soccer 2022-2023-Winter Session II-Team Registrati
 on-Girl's High School 7v7\nGame Type: Regular\nGame Status: Complete\nHome
  Team: Muscle Ponies\nAway Team: Vale of Paradise FC\nHome Score: 9\nAway 
 Score: 0
END:VEVENT
BEGIN:VEVENT
UID:14879119@ezleagues.ezfacility.com
DTSTAMP:20260419T202920Z
CREATED:20260419T202920Z
DTSTART:20230205T231000Z
DTEND:20230205T235200Z
LOCATION:7v7 Field #1
CONTACT:Tolimir
SUMMARY:Vale of Paradise FC VS. Panthers
DESCRIPTION:League Name: Soccer 2022-2023-Winter Session II-Team Registrati
 on-Girl's High School 7v7\nGame Type: Regular\nGame Status: Complete\nHome
  Team: Vale of Paradise FC\nAway Team: Panthers\nHome Score: 0\nAway Score
 : 13
END:VEVENT
BEGIN:VEVENT
UID:14879124@ezleagues.ezfacility.com
DTSTAMP:20260419T202920Z
CREATED:20260419T202920Z
DTSTART:20230219T231000Z
DTEND:20230219T235200Z
LOCATION:7v7 Field #2
CONTACT:Ballard
SUMMARY:Muscle Ponies VS. Vale of Paradise FC
DESCRIPTION:League Name: Soccer 2022-2023-Winter Session II-Team Registrati
 on-Girl's High School 7v7\nGame Type: Regular\nGame Status: Complete\nHome
  Team: Muscle Ponies\nAway Team: Vale of Paradise FC\nHome Score: 17\nAway
  Score: 2
END:VEVENT
BEGIN:VEVENT
UID:14879125@ezleagues.ezfacility.com
DTSTAMP:20260419T202920Z
CREATED:20260419T202920Z
DTSTART:20230226T231000Z
DTEND:20230226T235200Z
LOCATION:7v7 Field #2
CONTACT:Lomeli
SUMMARY:Panthers VS. Vale of Paradise FC
DESCRIPTION:League Name: Soccer 2022-2023-Winter Session II-Team Registrati
 on-Girl's High School 7v7\nGame Type: Regular\nGame Status: Complete\nHome
  Team: Panthers\nAway Team: Vale of Paradise FC\nHome Score: 10\nAway Scor
 e: 1
END:VEVENT
BEGIN:VEVENT
UID:14879127@ezleagues.ezfacility.com
DTSTAMP:20260419T202920Z
CREATED:20260419T202920Z
DTSTART:20230305T231000Z
DTEND:20230305T235200Z
LOCATION:7v7 Field #1
CONTACT:Tolimir
SUMMARY:Valpo Voltage VS. Vale of Paradise FC
DESCRIPTION:League Name: Soccer 2022-2023-Winter Session II-Team Registrati
 on-Girl's High School 7v7\nGame Type: Regular\nGame Status: Complete\nHome
  Team: Valpo Voltage\nAway Team: Vale of Paradise FC\nHome Score: 2\nAway 
 Score: 7
END:VEVENT
BEGIN:VEVENT
UID:14879122@ezleagues.ezfacility.com
DTSTAMP:20260419T202920Z
CREATED:20260419T202920Z
DTSTART:20230312T201000Z
DTEND:20230312T205200Z
LOCATION:7v7 Field #1
CONTACT:Trifunovic
SUMMARY:Vale of Paradise FC VS. Valpo Voltage
DESCRIPTION:League Name: Soccer 2022-2023-Winter Session II-Team Registrati
 on-Girl's High School 7v7\nGame Type: Regular\nGame Status: Complete\nHome
  Team: Vale of Paradise FC\nAway Team: Valpo Voltage\nHome Score: 2\nAway 
 Score: 3
END:VEVENT
BEGIN:VEVENT
UID:14971033@ezleagues.ezfacility.com
DTSTAMP:20260419T202920Z
CREATED:20260419T202920Z
DTSTART:20230319T221000Z
DTEND:20230319T224000Z
LOCATION:Field #2
CONTACT:Marinkovic
SUMMARY:Valpo Voltage VS. Vale of Paradise FC
DESCRIPTION:League Name: Soccer 2022-2023-Winter Session II-Team Registrati
 on-Girl's High School 7v7\nGame Type: Regular\nGame Status: Complete\nHome
  Team: Valpo Voltage\nAway Team: Vale of Paradise FC\nHome Score: 4\nAway 
 Score: 1
END:VEVENT
END:VCALENDAR
