BEGIN:VCALENDAR
VERSION:2.0
PRODID:-//EZFacility.com, Inc.//EZL 2.5.5.28621
BEGIN:VEVENT
UID:14908891@ezleagues.ezfacility.com
DTSTAMP:20260422T071219Z
CREATED:20260422T071219Z
DTSTART:20230212T125500Z
DTEND:20230212T135000Z
LOCATION:Harmans Premier Field #4
CONTACT:
SUMMARY:2012 CiTY Black VS. 2012 Maryland International
DESCRIPTION:League Name: Youth (WINTER 2) 2023 SD2 SAT/SUN 2012 Boys Silver
 \nGame Type: Regular\nGame Status: Complete\nHome Team: 2012 CiTY Black\nA
 way Team: 2012 Maryland International\nHome Score: 7\nAway Score: 7
END:VEVENT
BEGIN:VEVENT
UID:14908931@ezleagues.ezfacility.com
DTSTAMP:20260422T071219Z
CREATED:20260422T071219Z
DTSTART:20230218T205000Z
DTEND:20230218T214500Z
LOCATION:Harmans Premier Field #4
CONTACT:
SUMMARY:2012 ASA Strikers VS. 2012 Maryland International
DESCRIPTION:League Name: Youth (WINTER 2) 2023 SD2 SAT/SUN 2012 Boys Silver
 \nGame Type: Regular\nGame Status: Complete\nHome Team: 2012 ASA Strikers\
 nAway Team: 2012 Maryland International\nHome Score: 2\nAway Score: 6
END:VEVENT
BEGIN:VEVENT
UID:14908971@ezleagues.ezfacility.com
DTSTAMP:20260422T071219Z
CREATED:20260422T071219Z
DTSTART:20230226T182500Z
DTEND:20230226T192000Z
LOCATION:Harmans Premier Field #4
CONTACT:
SUMMARY:2012 Maryland International VS. 2013 Green Hornets
DESCRIPTION:League Name: Youth (WINTER 2) 2023 SD2 SAT/SUN 2012 Boys Silver
 \nGame Type: Regular\nGame Status: Complete\nHome Team: 2012 Maryland Inte
 rnational\nAway Team: 2013 Green Hornets\nHome Score: 4\nAway Score: 7
END:VEVENT
BEGIN:VEVENT
UID:14909013@ezleagues.ezfacility.com
DTSTAMP:20260422T071219Z
CREATED:20260422T071219Z
DTSTART:20230304T180500Z
DTEND:20230304T190000Z
LOCATION:Harmans Premier Field #4
CONTACT:
SUMMARY:2012 Maryland International VS. 2012 Academia Glen Burnie Eagles
DESCRIPTION:League Name: Youth (WINTER 2) 2023 SD2 SAT/SUN 2012 Boys Silver
 \nGame Type: Regular\nGame Status: Complete\nHome Team: 2012 Maryland Inte
 rnational\nAway Team: 2012 Academia Glen Burnie Eagles\nHome Score: 4\nAwa
 y Score: 1
END:VEVENT
BEGIN:VEVENT
UID:14909055@ezleagues.ezfacility.com
DTSTAMP:20260422T071219Z
CREATED:20260422T071219Z
DTSTART:20230311T152000Z
DTEND:20230311T161500Z
LOCATION:Harmans Premier Field #5
CONTACT:
SUMMARY:2012 Maryland International VS. 2012 PSC Dynamo
DESCRIPTION:League Name: Youth (WINTER 2) 2023 SD2 SAT/SUN 2012 Boys Silver
 \nGame Type: Regular\nGame Status: Complete\nHome Team: 2012 Maryland Inte
 rnational\nAway Team: 2012 PSC Dynamo\nHome Score: 2\nAway Score: 7
END:VEVENT
BEGIN:VEVENT
UID:14909097@ezleagues.ezfacility.com
DTSTAMP:20260422T071219Z
CREATED:20260422T071219Z
DTSTART:20230318T123000Z
DTEND:20230318T132500Z
LOCATION:Harmans Premier Field #5
CONTACT:
SUMMARY:2012 Maryland International VS. 2011/12 LF United 
DESCRIPTION:League Name: Youth (WINTER 2) 2023 SD2 SAT/SUN 2012 Boys Silver
 \nGame Type: Regular\nGame Status: Complete\nHome Team: 2012 Maryland Inte
 rnational\nAway Team: 2011/12 LF United \nHome Score: 8\nAway Score: 4
END:VEVENT
BEGIN:VEVENT
UID:14909138@ezleagues.ezfacility.com
DTSTAMP:20260422T071219Z
CREATED:20260422T071219Z
DTSTART:20230325T204500Z
DTEND:20230325T214000Z
LOCATION:Harmans Premier Field #5
CONTACT:
SUMMARY:2013 Green Hornets VS. 2012 Maryland International
DESCRIPTION:League Name: Youth (WINTER 2) 2023 SD2 SAT/SUN 2012 Boys Silver
 \nGame Type: Regular\nGame Status: Complete\nHome Team: 2013 Green Hornets
 \nAway Team: 2012 Maryland International\nHome Score: 11\nAway Score: 3
END:VEVENT
END:VCALENDAR
