BEGIN:VCALENDAR
VERSION:2.0
PRODID:-//EZFacility.com, Inc.//EZL 2.5.5.28621
BEGIN:VEVENT
UID:14880913@ezleagues.ezfacility.com
DTSTAMP:20260423T034935Z
CREATED:20260423T034935Z
DTSTART:20230202T035500Z
DTEND:20230202T045000Z
LOCATION:PFFC Dome - 4
CONTACT:
SUMMARY:Etobicoke FC (Red) VS. Footy 6ix (Red)
DESCRIPTION:League Name: MSL WINTER 2023 - WED/THURS MEN'S FIRST GAME\nGame
  Type: Regular\nGame Status: Complete\nHome Team: Etobicoke FC (Red)\nAway
  Team: Footy 6ix (Red)\nHome Score: 3\nAway Score: 4
END:VEVENT
BEGIN:VEVENT
UID:14907255@ezleagues.ezfacility.com
DTSTAMP:20260423T034935Z
CREATED:20260423T034935Z
DTSTART:20230209T030000Z
DTEND:20230209T035500Z
LOCATION:PFFC Dome - 4
CONTACT:
SUMMARY:Footy 6ix (Red) VS. Under the Radar FC (Orange)
DESCRIPTION:League Name: MSL WINTER 2023 - WED/THURS MEN'S FIRST GAME\nGame
  Type: Regular\nGame Status: Complete\nHome Team: Footy 6ix (Red)\nAway Te
 am: Under the Radar FC (Orange)\nHome Score: 4\nAway Score: 4
END:VEVENT
END:VCALENDAR
