BEGIN:VCALENDAR
VERSION:2.0
PRODID:-//EZFacility.com, Inc.//EZL 2.5.5.28621
BEGIN:VEVENT
UID:14885822@ezleagues.ezfacility.com
DTSTAMP:20260424T044254Z
CREATED:20260424T044254Z
DTSTART:20230129T213500Z
DTEND:20230129T223000Z
LOCATION:PFFC Field House - D
CONTACT:
SUMMARY:FC Revolution VS. Habibi FC
DESCRIPTION:League Name: MSL WINTER 2023 - SUNDAY MENS FIRST GAMES\nGame Ty
 pe: Regular\nGame Status: Complete\nHome Team: FC Revolution\nAway Team: H
 abibi FC\nHome Score: 10\nAway Score: 2
END:VEVENT
BEGIN:VEVENT
UID:14900267@ezleagues.ezfacility.com
DTSTAMP:20260424T044254Z
CREATED:20260424T044254Z
DTSTART:20230205T232500Z
DTEND:20230206T002000Z
LOCATION:PFFC Field House - A
CONTACT:
SUMMARY:Habibi FC VS. Wolves FC
DESCRIPTION:League Name: MSL WINTER 2023 - SUNDAY MENS FIRST GAMES\nGame Ty
 pe: Regular\nGame Status: Complete\nHome Team: Habibi FC\nAway Team: Wolve
 s FC\nHome Score: 0\nAway Score: 8
END:VEVENT
END:VCALENDAR
