BEGIN:VCALENDAR
VERSION:2.0
PRODID:-//EZFacility.com, Inc.//EZL 2.5.5.28621
BEGIN:VEVENT
UID:14885785@ezleagues.ezfacility.com
DTSTAMP:20260420T222334Z
CREATED:20260420T222334Z
DTSTART:20230130T040000Z
DTEND:20230130T045500Z
LOCATION:PFFC Field House - C
CONTACT:
SUMMARY:BDB FC VS. Acores Continente
DESCRIPTION:League Name: MSL WINTER 2023 - SUNDAY MENS FIRST GAMES\nGame Ty
 pe: Regular\nGame Status: Complete\nHome Team: BDB FC\nAway Team: Acores C
 ontinente\nHome Score: 3\nAway Score: 6
END:VEVENT
BEGIN:VEVENT
UID:14900321@ezleagues.ezfacility.com
DTSTAMP:20260420T222334Z
CREATED:20260420T222334Z
DTSTART:20230205T232500Z
DTEND:20230206T002000Z
LOCATION:PFFC Field House - C
CONTACT:
SUMMARY:Acores Continente VS. Parle G's
DESCRIPTION:League Name: MSL WINTER 2023 - SUNDAY MENS FIRST GAMES\nGame Ty
 pe: Regular\nGame Status: Complete\nHome Team: Acores Continente\nAway Tea
 m: Parle G's\nHome Score: 0\nAway Score: 1
END:VEVENT
END:VCALENDAR
