BEGIN:VCALENDAR
VERSION:2.0
PRODID:-//EZFacility.com, Inc.//EZL 2.5.5.28621
BEGIN:VEVENT
UID:14887753@ezleagues.ezfacility.com
DTSTAMP:20260422T011445Z
CREATED:20260422T011445Z
DTSTART:20230405T214500Z
DTEND:20230405T224500Z
LOCATION:Avon Lake - Learwood MS
CONTACT:
SUMMARY:Avon Lake  VS. Brunswick Team 1
DESCRIPTION:League Name: NOLL Spring Season 2023-Boys-Grades 7-8-Elite\nGam
 e Type: Regular\nGame Status: Complete\nHome Team: Avon Lake \nAway Team: 
 Brunswick Team 1\nHome Score: 4\nAway Score: 6
END:VEVENT
BEGIN:VEVENT
UID:14887758@ezleagues.ezfacility.com
DTSTAMP:20260422T011445Z
CREATED:20260422T011445Z
DTSTART:20230429T200000Z
DTEND:20230429T210000Z
LOCATION:Avon Lake - Learwood MS
CONTACT:
SUMMARY:Avon Lake  VS. Kenston Team 1
DESCRIPTION:League Name: NOLL Spring Season 2023-Boys-Grades 7-8-Elite\nGam
 e Type: Regular\nGame Status: Complete\nHome Team: Avon Lake \nAway Team: 
 Kenston Team 1\nHome Score: 0\nAway Score: 9
END:VEVENT
BEGIN:VEVENT
UID:14887763@ezleagues.ezfacility.com
DTSTAMP:20260422T011445Z
CREATED:20260422T011445Z
DTSTART:20230430T220000Z
DTEND:20230430T230000Z
LOCATION:Avon Lake - Learwood MS
CONTACT:
SUMMARY:Avon Lake  VS. Rocky River Team 1
DESCRIPTION:League Name: NOLL Spring Season 2023-Boys-Grades 7-8-Elite\nGam
 e Type: Regular\nGame Status: Complete\nHome Team: Avon Lake \nAway Team: 
 Rocky River Team 1\nHome Score: 1\nAway Score: 8
END:VEVENT
BEGIN:VEVENT
UID:14887777@ezleagues.ezfacility.com
DTSTAMP:20260422T011445Z
CREATED:20260422T011445Z
DTSTART:20230503T223000Z
DTEND:20230503T233000Z
LOCATION:Olmsted Fall High School
CONTACT:
SUMMARY:Olmsted Falls VS. Avon Lake 
DESCRIPTION:League Name: NOLL Spring Season 2023-Boys-Grades 7-8-Elite\nGam
 e Type: Regular\nGame Status: Complete\nHome Team: Olmsted Falls\nAway Tea
 m: Avon Lake \nHome Score: 0\nAway Score: 2
END:VEVENT
BEGIN:VEVENT
UID:14887778@ezleagues.ezfacility.com
DTSTAMP:20260422T011445Z
CREATED:20260422T011445Z
DTSTART:20230510T220000Z
DTEND:20230510T230000Z
LOCATION:Strongsville Middle School
CONTACT:
SUMMARY:Strongsville Team 1 VS. Avon Lake 
DESCRIPTION:League Name: NOLL Spring Season 2023-Boys-Grades 7-8-Elite\nGam
 e Type: Regular\nGame Status: Complete\nHome Team: Strongsville Team 1\nAw
 ay Team: Avon Lake \nHome Score: 6\nAway Score: 4
END:VEVENT
BEGIN:VEVENT
UID:14887768@ezleagues.ezfacility.com
DTSTAMP:20260422T011445Z
CREATED:20260422T011445Z
DTSTART:20230515T220000Z
DTEND:20230515T230000Z
LOCATION:Avon Lake - Learwood MS
CONTACT:
SUMMARY:Avon Lake  VS. Wadsworth Team 1
DESCRIPTION:League Name: NOLL Spring Season 2023-Boys-Grades 7-8-Elite\nGam
 e Type: Regular\nGame Status: Pending\nHome Team: Avon Lake \nAway Team: W
 adsworth Team 1\n
END:VEVENT
BEGIN:VEVENT
UID:14887783@ezleagues.ezfacility.com
DTSTAMP:20260422T011445Z
CREATED:20260422T011445Z
DTSTART:20230517T223000Z
DTEND:20230517T233000Z
LOCATION:Revere - Bath Community Park
CONTACT:
SUMMARY:Revere Team 1 VS. Avon Lake 
DESCRIPTION:League Name: NOLL Spring Season 2023-Boys-Grades 7-8-Elite\nGam
 e Type: Regular\nGame Status: Pending\nHome Team: Revere Team 1\nAway Team
 : Avon Lake \n
END:VEVENT
BEGIN:VEVENT
UID:14887788@ezleagues.ezfacility.com
DTSTAMP:20260422T011445Z
CREATED:20260422T011445Z
DTSTART:20230523T223000Z
DTEND:20230523T233000Z
LOCATION:Hudson Middle School
CONTACT:
SUMMARY:Hudson Team 1 VS. Avon Lake 
DESCRIPTION:League Name: NOLL Spring Season 2023-Boys-Grades 7-8-Elite\nGam
 e Type: Regular\nGame Status: Pending\nHome Team: Hudson Team 1\nAway Team
 : Avon Lake \n
END:VEVENT
END:VCALENDAR
