BEGIN:VCALENDAR
VERSION:2.0
PRODID:-//EZFacility.com, Inc.//EZL 2.5.5.28621
BEGIN:VEVENT
UID:14887753@ezleagues.ezfacility.com
DTSTAMP:20260422T194925Z
CREATED:20260422T194925Z
DTSTART:20230405T214500Z
DTEND:20230405T224500Z
LOCATION:Avon Lake - Learwood MS
CONTACT:
SUMMARY:Avon Lake  VS. Brunswick Team 1
DESCRIPTION:League Name: NOLL Spring Season 2023-Boys-Grades 7-8-Elite\nGam
 e Type: Regular\nGame Status: Complete\nHome Team: Avon Lake \nAway Team: 
 Brunswick Team 1\nHome Score: 4\nAway Score: 6
END:VEVENT
BEGIN:VEVENT
UID:14887767@ezleagues.ezfacility.com
DTSTAMP:20260422T194925Z
CREATED:20260422T194925Z
DTSTART:20230419T214500Z
DTEND:20230419T224500Z
LOCATION:Brunswick High School
CONTACT:
SUMMARY:Brunswick Team 1 VS. Olmsted Falls
DESCRIPTION:League Name: NOLL Spring Season 2023-Boys-Grades 7-8-Elite\nGam
 e Type: Regular\nGame Status: Complete\nHome Team: Brunswick Team 1\nAway 
 Team: Olmsted Falls\nHome Score: 9\nAway Score: 5
END:VEVENT
BEGIN:VEVENT
UID:14887759@ezleagues.ezfacility.com
DTSTAMP:20260422T194925Z
CREATED:20260422T194925Z
DTSTART:20230423T130000Z
DTEND:20230423T140000Z
LOCATION:Brunswick High School
CONTACT:
SUMMARY:Brunswick Team 1 VS. Rocky River Team 1
DESCRIPTION:League Name: NOLL Spring Season 2023-Boys-Grades 7-8-Elite\nGam
 e Type: Regular\nGame Status: Complete\nHome Team: Brunswick Team 1\nAway 
 Team: Rocky River Team 1\nHome Score: 7\nAway Score: 8
END:VEVENT
BEGIN:VEVENT
UID:14887781@ezleagues.ezfacility.com
DTSTAMP:20260422T194925Z
CREATED:20260422T194925Z
DTSTART:20230425T220000Z
DTEND:20230425T230000Z
LOCATION:Auburn Comm. Park
CONTACT:
SUMMARY:Kenston Team 1 VS. Brunswick Team 1
DESCRIPTION:League Name: NOLL Spring Season 2023-Boys-Grades 7-8-Elite\nGam
 e Type: Regular\nGame Status: Complete\nHome Team: Kenston Team 1\nAway Te
 am: Brunswick Team 1\nHome Score: 10\nAway Score: 3
END:VEVENT
BEGIN:VEVENT
UID:14887770@ezleagues.ezfacility.com
DTSTAMP:20260422T194925Z
CREATED:20260422T194925Z
DTSTART:20230426T220000Z
DTEND:20230426T230000Z
LOCATION:Brunswick High School
CONTACT:
SUMMARY:Brunswick Team 1 VS. Revere Team 1
DESCRIPTION:League Name: NOLL Spring Season 2023-Boys-Grades 7-8-Elite\nGam
 e Type: Regular\nGame Status: Complete\nHome Team: Brunswick Team 1\nAway 
 Team: Revere Team 1\nHome Score: 9\nAway Score: 3
END:VEVENT
BEGIN:VEVENT
UID:14887776@ezleagues.ezfacility.com
DTSTAMP:20260422T194925Z
CREATED:20260422T194925Z
DTSTART:20230503T220000Z
DTEND:20230503T230000Z
LOCATION:Brunswick High School
CONTACT:
SUMMARY:Brunswick Team 1 VS. Brecksville Broadview Heights
DESCRIPTION:League Name: NOLL Spring Season 2023-Boys-Grades 7-8-Elite\nGam
 e Type: Regular\nGame Status: Pending\nHome Team: Brunswick Team 1\nAway T
 eam: Brecksville Broadview Heights\n
END:VEVENT
BEGIN:VEVENT
UID:14887785@ezleagues.ezfacility.com
DTSTAMP:20260422T194925Z
CREATED:20260422T194925Z
DTSTART:20230518T220000Z
DTEND:20230518T230000Z
LOCATION:Wadsworth Middle School
CONTACT:
SUMMARY:Wadsworth Team 1 VS. Brunswick Team 1
DESCRIPTION:League Name: NOLL Spring Season 2023-Boys-Grades 7-8-Elite\nGam
 e Type: Regular\nGame Status: Pending\nHome Team: Wadsworth Team 1\nAway T
 eam: Brunswick Team 1\n
END:VEVENT
END:VCALENDAR
