BEGIN:VCALENDAR
VERSION:2.0
PRODID:-//EZFacility.com, Inc.//EZL 2.5.5.28621
BEGIN:VEVENT
UID:14887960@ezleagues.ezfacility.com
DTSTAMP:20260420T101959Z
CREATED:20260420T101959Z
DTSTART:20230412T220000Z
DTEND:20230412T230000Z
LOCATION:Kenston Stadium
CONTACT:
SUMMARY:Kenston Team 1 VS. Brecksville Broadview Heights Team 1
DESCRIPTION:League Name: NOLL Spring Season 2023-Boys-Grades 3-4-Elite\nGam
 e Type: Regular\nGame Status: Complete\nHome Team: Kenston Team 1\nAway Te
 am: Brecksville Broadview Heights Team 1\nHome Score: 4\nAway Score: 9
END:VEVENT
BEGIN:VEVENT
UID:14915240@ezleagues.ezfacility.com
DTSTAMP:20260420T101959Z
CREATED:20260420T101959Z
DTSTART:20230421T220000Z
DTEND:20230421T230000Z
LOCATION:Olmsted Falls Middle School
CONTACT:
SUMMARY:Olmsted Falls Team 1 VS. Kenston Team 1
DESCRIPTION:League Name: NOLL Spring Season 2023-Boys-Grades 3-4-Elite\nGam
 e Type: Regular\nGame Status: Complete\nHome Team: Olmsted Falls Team 1\nA
 way Team: Kenston Team 1\nHome Score: 4\nAway Score: 12
END:VEVENT
BEGIN:VEVENT
UID:14887971@ezleagues.ezfacility.com
DTSTAMP:20260420T101959Z
CREATED:20260420T101959Z
DTSTART:20230423T160000Z
DTEND:20230423T170000Z
LOCATION:Kenston Stadium
CONTACT:
SUMMARY:Kenston Team 1 VS. Wadsworth Team 1
DESCRIPTION:League Name: NOLL Spring Season 2023-Boys-Grades 3-4-Elite\nGam
 e Type: Regular\nGame Status: Complete\nHome Team: Kenston Team 1\nAway Te
 am: Wadsworth Team 1\nHome Score: 9\nAway Score: 3
END:VEVENT
BEGIN:VEVENT
UID:14887974@ezleagues.ezfacility.com
DTSTAMP:20260420T101959Z
CREATED:20260420T101959Z
DTSTART:20230428T220000Z
DTEND:20230428T230000Z
LOCATION:Rocky River Middle School
CONTACT:
SUMMARY:Rocky River Team 1 VS. Kenston Team 1
DESCRIPTION:League Name: NOLL Spring Season 2023-Boys-Grades 3-4-Elite\nGam
 e Type: Regular\nGame Status: Complete\nHome Team: Rocky River Team 1\nAwa
 y Team: Kenston Team 1\nHome Score: 7\nAway Score: 8
END:VEVENT
BEGIN:VEVENT
UID:14915239@ezleagues.ezfacility.com
DTSTAMP:20260420T101959Z
CREATED:20260420T101959Z
DTSTART:20230501T220000Z
DTEND:20230501T230000Z
LOCATION:BBH-Chippewa Elem
CONTACT:
SUMMARY:Brecksville Broadview Heights Team 1 VS. Kenston Team 1
DESCRIPTION:League Name: NOLL Spring Season 2023-Boys-Grades 3-4-Elite\nGam
 e Type: Regular\nGame Status: Pending\nHome Team: Brecksville Broadview He
 ights Team 1\nAway Team: Kenston Team 1\n
END:VEVENT
BEGIN:VEVENT
UID:14887986@ezleagues.ezfacility.com
DTSTAMP:20260420T101959Z
CREATED:20260420T101959Z
DTSTART:20230512T220000Z
DTEND:20230512T230000Z
LOCATION:Brunswick High School
CONTACT:
SUMMARY:Brunswick Team 1 VS. Kenston Team 1
DESCRIPTION:League Name: NOLL Spring Season 2023-Boys-Grades 3-4-Elite\nGam
 e Type: Regular\nGame Status: Complete\nHome Team: Brunswick Team 1\nAway 
 Team: Kenston Team 1\nHome Score: 15\nAway Score: 0
END:VEVENT
BEGIN:VEVENT
UID:14888002@ezleagues.ezfacility.com
DTSTAMP:20260420T101959Z
CREATED:20260420T101959Z
DTSTART:20230514T133000Z
DTEND:20230514T143000Z
LOCATION:Lakewood - Garfield MS
CONTACT:
SUMMARY:Lakewood VS. Kenston Team 1
DESCRIPTION:League Name: NOLL Spring Season 2023-Boys-Grades 3-4-Elite\nGam
 e Type: Regular\nGame Status: Complete\nHome Team: Lakewood\nAway Team: Ke
 nston Team 1\nHome Score: 12\nAway Score: 8
END:VEVENT
BEGIN:VEVENT
UID:14887990@ezleagues.ezfacility.com
DTSTAMP:20260420T101959Z
CREATED:20260420T101959Z
DTSTART:20230521T170000Z
DTEND:20230521T180000Z
LOCATION:Kenston Stadium
CONTACT:
SUMMARY:Kenston Team 1 VS. Olmsted Falls Team 1
DESCRIPTION:League Name: NOLL Spring Season 2023-Boys-Grades 3-4-Elite\nGam
 e Type: Regular\nGame Status: Pending\nHome Team: Kenston Team 1\nAway Tea
 m: Olmsted Falls Team 1\n
END:VEVENT
END:VCALENDAR
