BEGIN:VCALENDAR
VERSION:2.0
PRODID:-//EZFacility.com, Inc.//EZL 2.5.5.28621
BEGIN:VEVENT
UID:14888150@ezleagues.ezfacility.com
DTSTAMP:20260426T033659Z
CREATED:20260426T033659Z
DTSTART:20230412T213000Z
DTEND:20230412T223000Z
LOCATION:Riverside-Lamuth Middle
CONTACT:
SUMMARY:Aurora Team 1 VS. Riverside Team 1
DESCRIPTION:League Name: NOLL Spring Season 2023-Boys-Grades 7-8-Evolve-Yel
 low Division\nGame Type: Regular\nGame Status: Complete\nHome Team: Aurora
  Team 1\nAway Team: Riverside Team 1\nHome Score: 8\nAway Score: 5
END:VEVENT
BEGIN:VEVENT
UID:14888171@ezleagues.ezfacility.com
DTSTAMP:20260426T033659Z
CREATED:20260426T033659Z
DTSTART:20230423T130000Z
DTEND:20230423T140000Z
LOCATION:Mentor High School
CONTACT:
SUMMARY:Mentor Team 1 VS. Aurora Team 1
DESCRIPTION:League Name: NOLL Spring Season 2023-Boys-Grades 7-8-Evolve-Yel
 low Division\nGame Type: Regular\nGame Status: Complete\nHome Team: Mentor
  Team 1\nAway Team: Aurora Team 1\nHome Score: 10\nAway Score: 2
END:VEVENT
BEGIN:VEVENT
UID:14888147@ezleagues.ezfacility.com
DTSTAMP:20260426T033659Z
CREATED:20260426T033659Z
DTSTART:20230430T210000Z
DTEND:20230430T220000Z
LOCATION:Aurora
CONTACT:
SUMMARY:Kirtland VS. Aurora Team 1
DESCRIPTION:League Name: NOLL Spring Season 2023-Boys-Grades 7-8-Evolve-Yel
 low Division\nGame Type: Regular\nGame Status: Complete\nHome Team: Kirtla
 nd\nAway Team: Aurora Team 1\nHome Score: 4\nAway Score: 6
END:VEVENT
BEGIN:VEVENT
UID:14888174@ezleagues.ezfacility.com
DTSTAMP:20260426T033659Z
CREATED:20260426T033659Z
DTSTART:20230503T213000Z
DTEND:20230503T223000Z
LOCATION:Aurora - Townline Fields
CONTACT:
SUMMARY:Aurora Team 1 VS. Chardon Team 1
DESCRIPTION:League Name: NOLL Spring Season 2023-Boys-Grades 7-8-Evolve-Yel
 low Division\nGame Type: Regular\nGame Status: Pending\nHome Team: Aurora 
 Team 1\nAway Team: Chardon Team 1\n
END:VEVENT
BEGIN:VEVENT
UID:14998382@ezleagues.ezfacility.com
DTSTAMP:20260426T033659Z
CREATED:20260426T033659Z
DTSTART:20230503T223000Z
DTEND:20230503T233000Z
LOCATION:Aurora - Townline Fields
CONTACT:
SUMMARY:Aurora Team 1 VS. Chardon 2
DESCRIPTION:League Name: NOLL Spring Season 2023-Boys-Grades 7-8-Evolve-Yel
 low Division\nGame Type: Regular\nGame Status: Pending\nHome Team: Aurora 
 Team 1\nAway Team: Chardon 2\n
END:VEVENT
BEGIN:VEVENT
UID:14888162@ezleagues.ezfacility.com
DTSTAMP:20260426T033659Z
CREATED:20260426T033659Z
DTSTART:20230510T220000Z
DTEND:20230510T230000Z
LOCATION:Aurora - Townline Fields
CONTACT:
SUMMARY:Aurora Team 1 VS. Kirtland
DESCRIPTION:League Name: NOLL Spring Season 2023-Boys-Grades 7-8-Evolve-Yel
 low Division\nGame Type: Regular\nGame Status: Complete\nHome Team: Aurora
  Team 1\nAway Team: Kirtland\nHome Score: 6\nAway Score: 6
END:VEVENT
BEGIN:VEVENT
UID:14888159@ezleagues.ezfacility.com
DTSTAMP:20260426T033659Z
CREATED:20260426T033659Z
DTSTART:20230514T150000Z
DTEND:20230514T160000Z
LOCATION:Chardon High School
CONTACT:
SUMMARY:Chardon Team 1 VS. Aurora Team 1
DESCRIPTION:League Name: NOLL Spring Season 2023-Boys-Grades 7-8-Evolve-Yel
 low Division\nGame Type: Regular\nGame Status: Complete\nHome Team: Chardo
 n Team 1\nAway Team: Aurora Team 1\nHome Score: 9\nAway Score: 9
END:VEVENT
BEGIN:VEVENT
UID:14952160@ezleagues.ezfacility.com
DTSTAMP:20260426T033659Z
CREATED:20260426T033659Z
DTSTART:20230514T160000Z
DTEND:20230514T170000Z
LOCATION:Chardon High School
CONTACT:
SUMMARY:Chardon B VS. Aurora Team 1
DESCRIPTION:League Name: NOLL Spring Season 2023-Boys-Grades 7-8-Evolve-Yel
 low Division\nGame Type: Regular\nGame Status: Pending\nHome Team: Chardon
  B\nAway Team: Aurora Team 1\n
END:VEVENT
BEGIN:VEVENT
UID:14897259@ezleagues.ezfacility.com
DTSTAMP:20260426T033659Z
CREATED:20260426T033659Z
DTSTART:20230524T220000Z
DTEND:20230524T230000Z
LOCATION:Highland Middle School
CONTACT:
SUMMARY:Highland VS. Aurora Team 1
DESCRIPTION:League Name: NOLL Spring Season 2023-Boys-Grades 7-8-Evolve-Yel
 low Division\nGame Type: Regular\nGame Status: Pending\nHome Team: Highlan
 d\nAway Team: Aurora Team 1\n
END:VEVENT
END:VCALENDAR
