BEGIN:VCALENDAR
VERSION:2.0
PRODID:-//EZFacility.com, Inc.//EZL 2.5.5.28621
BEGIN:VEVENT
UID:14890333@ezleagues.ezfacility.com
DTSTAMP:20260424T043227Z
CREATED:20260424T043227Z
DTSTART:20230402T130000Z
DTEND:20230402T140000Z
LOCATION:Bay Village High School
CONTACT:
SUMMARY:Bay Village Team 1 VS. Lakewood
DESCRIPTION:League Name: NOLL Spring Season 2023-Boys-Grades 7-8-Evolve-Blu
 e Division\nGame Type: Regular\nGame Status: Complete\nHome Team: Bay Vill
 age Team 1\nAway Team: Lakewood\nHome Score: 12\nAway Score: 2
END:VEVENT
BEGIN:VEVENT
UID:14971019@ezleagues.ezfacility.com
DTSTAMP:20260424T043227Z
CREATED:20260424T043227Z
DTSTART:20230402T140000Z
DTEND:20230402T150000Z
LOCATION:Bay Village High School
CONTACT:
SUMMARY:Bay Village B VS. Lakewood
DESCRIPTION:League Name: NOLL Spring Season 2023-Boys-Grades 7-8-Evolve-Blu
 e Division\nGame Type: Regular\nGame Status: Complete\nHome Team: Bay Vill
 age B\nAway Team: Lakewood\nHome Score: 0\nAway Score: 6
END:VEVENT
BEGIN:VEVENT
UID:14890337@ezleagues.ezfacility.com
DTSTAMP:20260424T043227Z
CREATED:20260424T043227Z
DTSTART:20230419T220000Z
DTEND:20230419T230000Z
LOCATION:Bay Village - Bradley Park
CONTACT:
SUMMARY:Bay Village Team 1 VS. Lakewood
DESCRIPTION:League Name: NOLL Spring Season 2023-Boys-Grades 7-8-Evolve-Blu
 e Division\nGame Type: Regular\nGame Status: Complete\nHome Team: Bay Vill
 age Team 1\nAway Team: Lakewood\nHome Score: 13\nAway Score: 2
END:VEVENT
BEGIN:VEVENT
UID:14952139@ezleagues.ezfacility.com
DTSTAMP:20260424T043227Z
CREATED:20260424T043227Z
DTSTART:20230419T230000Z
DTEND:20230420T000000Z
LOCATION:Bay Village - Bradley Park
CONTACT:
SUMMARY:Bay Village B VS. Lakewood
DESCRIPTION:League Name: NOLL Spring Season 2023-Boys-Grades 7-8-Evolve-Blu
 e Division\nGame Type: Regular\nGame Status: Pending\nHome Team: Bay Villa
 ge B\nAway Team: Lakewood\n
END:VEVENT
BEGIN:VEVENT
UID:14890361@ezleagues.ezfacility.com
DTSTAMP:20260424T043227Z
CREATED:20260424T043227Z
DTSTART:20230423T130000Z
DTEND:20230423T140000Z
LOCATION:Lakewood
CONTACT:
SUMMARY:Lakewood VS. Avon Team 1
DESCRIPTION:League Name: NOLL Spring Season 2023-Boys-Grades 7-8-Evolve-Blu
 e Division\nGame Type: Regular\nGame Status: Complete\nHome Team: Lakewood
 \nAway Team: Avon Team 1\nHome Score: 0\nAway Score: 12
END:VEVENT
BEGIN:VEVENT
UID:14962516@ezleagues.ezfacility.com
DTSTAMP:20260424T043227Z
CREATED:20260424T043227Z
DTSTART:20230423T140000Z
DTEND:20230423T150000Z
LOCATION:Lakewood
CONTACT:
SUMMARY:Avon B VS. Lakewood
DESCRIPTION:League Name: NOLL Spring Season 2023-Boys-Grades 7-8-Evolve-Blu
 e Division\nGame Type: Regular\nGame Status: Complete\nHome Team: Avon B\n
 Away Team: Lakewood\nHome Score: 4\nAway Score: 5
END:VEVENT
BEGIN:VEVENT
UID:14890330@ezleagues.ezfacility.com
DTSTAMP:20260424T043227Z
CREATED:20260424T043227Z
DTSTART:20230429T130000Z
DTEND:20230429T140000Z
LOCATION:Lakewood - Garfield MS
CONTACT:
SUMMARY:Lakewood VS. Westlake Team 1
DESCRIPTION:League Name: NOLL Spring Season 2023-Boys-Grades 7-8-Evolve-Blu
 e Division\nGame Type: Regular\nGame Status: Complete\nHome Team: Lakewood
 \nAway Team: Westlake Team 1\nHome Score: 4\nAway Score: 5
END:VEVENT
BEGIN:VEVENT
UID:14952137@ezleagues.ezfacility.com
DTSTAMP:20260424T043227Z
CREATED:20260424T043227Z
DTSTART:20230429T140000Z
DTEND:20230429T150000Z
LOCATION:Lakewood - Garfield MS
CONTACT:
SUMMARY:Lakewood VS. Westlake B
DESCRIPTION:League Name: NOLL Spring Season 2023-Boys-Grades 7-8-Evolve-Blu
 e Division\nGame Type: Regular\nGame Status: Complete\nHome Team: Lakewood
 \nAway Team: Westlake B\nHome Score: 8\nAway Score: 8
END:VEVENT
BEGIN:VEVENT
UID:14890348@ezleagues.ezfacility.com
DTSTAMP:20260424T043227Z
CREATED:20260424T043227Z
DTSTART:20230510T220000Z
DTEND:20230510T230000Z
LOCATION:Avon - Veterans Park
CONTACT:
SUMMARY:Avon Team 1 VS. Lakewood
DESCRIPTION:League Name: NOLL Spring Season 2023-Boys-Grades 7-8-Evolve-Blu
 e Division\nGame Type: Regular\nGame Status: Complete\nHome Team: Avon Tea
 m 1\nAway Team: Lakewood\nHome Score: 13\nAway Score: 1
END:VEVENT
BEGIN:VEVENT
UID:14952148@ezleagues.ezfacility.com
DTSTAMP:20260424T043227Z
CREATED:20260424T043227Z
DTSTART:20230510T230000Z
DTEND:20230511T000000Z
LOCATION:Avon - Veterans Park
CONTACT:
SUMMARY:Avon B VS. Lakewood
DESCRIPTION:League Name: NOLL Spring Season 2023-Boys-Grades 7-8-Evolve-Blu
 e Division\nGame Type: Regular\nGame Status: Pending\nHome Team: Avon B\nA
 way Team: Lakewood\n
END:VEVENT
BEGIN:VEVENT
UID:14890353@ezleagues.ezfacility.com
DTSTAMP:20260424T043227Z
CREATED:20260424T043227Z
DTSTART:20230519T220000Z
DTEND:20230519T230000Z
LOCATION:Lakewood High School
CONTACT:
SUMMARY:Lakewood VS. Highland
DESCRIPTION:League Name: NOLL Spring Season 2023-Boys-Grades 7-8-Evolve-Blu
 e Division\nGame Type: Regular\nGame Status: Pending\nHome Team: Lakewood\
 nAway Team: Highland\n
END:VEVENT
BEGIN:VEVENT
UID:14961198@ezleagues.ezfacility.com
DTSTAMP:20260424T043227Z
CREATED:20260424T043227Z
DTSTART:20230524T223000Z
DTEND:20230524T233000Z
LOCATION:Lakewood
CONTACT:
SUMMARY:Lakewood VS. Wooster
DESCRIPTION:League Name: NOLL Spring Season 2023-Boys-Grades 7-8-Evolve-Blu
 e Division\nGame Type: Regular\nGame Status: Pending\nHome Team: Lakewood\
 nAway Team: Wooster\n
END:VEVENT
BEGIN:VEVENT
UID:14894381@ezleagues.ezfacility.com
DTSTAMP:20260424T043227Z
CREATED:20260424T043227Z
DTSTART:20230525T230000Z
DTEND:20230526T000000Z
LOCATION:Mentor High School
CONTACT:
SUMMARY:Mentor VS. Lakewood
DESCRIPTION:League Name: NOLL Spring Season 2023-Boys-Grades 7-8-Evolve-Blu
 e Division\nGame Type: Regular\nGame Status: Pending\nHome Team: Mentor\nA
 way Team: Lakewood\n
END:VEVENT
END:VCALENDAR
