BEGIN:VCALENDAR
VERSION:2.0
PRODID:-//EZFacility.com, Inc.//EZL 2.5.5.28621
BEGIN:VEVENT
UID:14890332@ezleagues.ezfacility.com
DTSTAMP:20260424T043940Z
CREATED:20260424T043940Z
DTSTART:20230402T130000Z
DTEND:20230402T140000Z
LOCATION:Avon - Veterans Park
CONTACT:
SUMMARY:Avon Team 1 VS. Medina Team 1
DESCRIPTION:League Name: NOLL Spring Season 2023-Boys-Grades 7-8-Evolve-Blu
 e Division\nGame Type: Regular\nGame Status: Complete\nHome Team: Avon Tea
 m 1\nAway Team: Medina Team 1\nHome Score: 8\nAway Score: 1
END:VEVENT
BEGIN:VEVENT
UID:14952134@ezleagues.ezfacility.com
DTSTAMP:20260424T043940Z
CREATED:20260424T043940Z
DTSTART:20230402T140000Z
DTEND:20230402T150000Z
LOCATION:Avon
CONTACT:
SUMMARY:Avon B VS. Medina Team 1
DESCRIPTION:League Name: NOLL Spring Season 2023-Boys-Grades 7-8-Evolve-Blu
 e Division\nGame Type: Regular\nGame Status: Complete\nHome Team: Avon B\n
 Away Team: Medina Team 1\nHome Score: 3\nAway Score: 2
END:VEVENT
BEGIN:VEVENT
UID:14890329@ezleagues.ezfacility.com
DTSTAMP:20260424T043940Z
CREATED:20260424T043940Z
DTSTART:20230405T220000Z
DTEND:20230405T230000Z
LOCATION:Bay Village - Bradley Park
CONTACT:
SUMMARY:Bay Village Team 1 VS. Medina Team 1
DESCRIPTION:League Name: NOLL Spring Season 2023-Boys-Grades 7-8-Evolve-Blu
 e Division\nGame Type: Regular\nGame Status: Pending\nHome Team: Bay Villa
 ge Team 1\nAway Team: Medina Team 1\n
END:VEVENT
BEGIN:VEVENT
UID:14952136@ezleagues.ezfacility.com
DTSTAMP:20260424T043940Z
CREATED:20260424T043940Z
DTSTART:20230405T230000Z
DTEND:20230406T000000Z
LOCATION:Bay Village - Bradley Park
CONTACT:
SUMMARY:Bay Village B VS. Medina Team 1
DESCRIPTION:League Name: NOLL Spring Season 2023-Boys-Grades 7-8-Evolve-Blu
 e Division\nGame Type: Regular\nGame Status: Pending\nHome Team: Bay Villa
 ge B\nAway Team: Medina Team 1\n
END:VEVENT
BEGIN:VEVENT
UID:14890336@ezleagues.ezfacility.com
DTSTAMP:20260424T043940Z
CREATED:20260424T043940Z
DTSTART:20230419T220000Z
DTEND:20230419T230000Z
LOCATION:Highland Middle School
CONTACT:
SUMMARY:Highland VS. Medina Team 1
DESCRIPTION:League Name: NOLL Spring Season 2023-Boys-Grades 7-8-Evolve-Blu
 e Division\nGame Type: Regular\nGame Status: Pending\nHome Team: Highland\
 nAway Team: Medina Team 1\n
END:VEVENT
BEGIN:VEVENT
UID:14890340@ezleagues.ezfacility.com
DTSTAMP:20260424T043940Z
CREATED:20260424T043940Z
DTSTART:20230426T210000Z
DTEND:20230426T220000Z
LOCATION:Wooster - Kean School
CONTACT:
SUMMARY:Wooster VS. Medina Team 1
DESCRIPTION:League Name: NOLL Spring Season 2023-Boys-Grades 7-8-Evolve-Blu
 e Division\nGame Type: Regular\nGame Status: Pending\nHome Team: Wooster\n
 Away Team: Medina Team 1\n
END:VEVENT
BEGIN:VEVENT
UID:14890360@ezleagues.ezfacility.com
DTSTAMP:20260424T043940Z
CREATED:20260424T043940Z
DTSTART:20230430T130000Z
DTEND:20230430T140000Z
LOCATION:Medina - Waite School
CONTACT:
SUMMARY:Medina Team 1 VS. Avon Team 1
DESCRIPTION:League Name: NOLL Spring Season 2023-Boys-Grades 7-8-Evolve-Blu
 e Division\nGame Type: Regular\nGame Status: Complete\nHome Team: Medina T
 eam 1\nAway Team: Avon Team 1\nHome Score: 3\nAway Score: 7
END:VEVENT
BEGIN:VEVENT
UID:14952144@ezleagues.ezfacility.com
DTSTAMP:20260424T043940Z
CREATED:20260424T043940Z
DTSTART:20230430T140000Z
DTEND:20230430T150000Z
LOCATION:Medina - Waite School
CONTACT:
SUMMARY:Medina Team 1 VS. Avon B
DESCRIPTION:League Name: NOLL Spring Season 2023-Boys-Grades 7-8-Evolve-Blu
 e Division\nGame Type: Regular\nGame Status: Pending\nHome Team: Medina Te
 am 1\nAway Team: Avon B\n
END:VEVENT
BEGIN:VEVENT
UID:14890345@ezleagues.ezfacility.com
DTSTAMP:20260424T043940Z
CREATED:20260424T043940Z
DTSTART:20230503T230000Z
DTEND:20230504T000000Z
LOCATION:Medina - Waite School
CONTACT:
SUMMARY:Medina Team 1 VS. Highland
DESCRIPTION:League Name: NOLL Spring Season 2023-Boys-Grades 7-8-Evolve-Blu
 e Division\nGame Type: Regular\nGame Status: Pending\nHome Team: Medina Te
 am 1\nAway Team: Highland\n
END:VEVENT
BEGIN:VEVENT
UID:14890351@ezleagues.ezfacility.com
DTSTAMP:20260424T043940Z
CREATED:20260424T043940Z
DTSTART:20230510T220000Z
DTEND:20230510T230000Z
LOCATION:Medina - Waite School
CONTACT:
SUMMARY:Medina Team 1 VS. Westlake Team 1
DESCRIPTION:League Name: NOLL Spring Season 2023-Boys-Grades 7-8-Evolve-Blu
 e Division\nGame Type: Regular\nGame Status: Complete\nHome Team: Medina T
 eam 1\nAway Team: Westlake Team 1\nHome Score: 8\nAway Score: 4
END:VEVENT
BEGIN:VEVENT
UID:14952149@ezleagues.ezfacility.com
DTSTAMP:20260424T043940Z
CREATED:20260424T043940Z
DTSTART:20230510T230000Z
DTEND:20230511T000000Z
LOCATION:Medina - Waite School
CONTACT:
SUMMARY:Medina Team 1 VS. Westlake B
DESCRIPTION:League Name: NOLL Spring Season 2023-Boys-Grades 7-8-Evolve-Blu
 e Division\nGame Type: Regular\nGame Status: Complete\nHome Team: Medina T
 eam 1\nAway Team: Westlake B\nHome Score: 4\nAway Score: 0
END:VEVENT
BEGIN:VEVENT
UID:14890357@ezleagues.ezfacility.com
DTSTAMP:20260424T043940Z
CREATED:20260424T043940Z
DTSTART:20230524T220000Z
DTEND:20230524T230000Z
LOCATION:Medina - Waite School
CONTACT:
SUMMARY:Medina Team 1 VS. Bay Village Team 1
DESCRIPTION:League Name: NOLL Spring Season 2023-Boys-Grades 7-8-Evolve-Blu
 e Division\nGame Type: Regular\nGame Status: Pending\nHome Team: Medina Te
 am 1\nAway Team: Bay Village Team 1\n
END:VEVENT
BEGIN:VEVENT
UID:14952150@ezleagues.ezfacility.com
DTSTAMP:20260424T043940Z
CREATED:20260424T043940Z
DTSTART:20230524T230000Z
DTEND:20230525T000000Z
LOCATION:Medina - Waite School
CONTACT:
SUMMARY:Medina Team 1 VS. Bay Village B
DESCRIPTION:League Name: NOLL Spring Season 2023-Boys-Grades 7-8-Evolve-Blu
 e Division\nGame Type: Regular\nGame Status: Pending\nHome Team: Medina Te
 am 1\nAway Team: Bay Village B\n
END:VEVENT
END:VCALENDAR
