BEGIN:VCALENDAR
VERSION:2.0
PRODID:-//EZFacility.com, Inc.//EZL 2.5.5.28621
BEGIN:VEVENT
UID:14890165@ezleagues.ezfacility.com
DTSTAMP:20260426T034041Z
CREATED:20260426T034041Z
DTSTART:20230206T001500Z
DTEND:20230206T010000Z
LOCATION: Field 3
CONTACT:Cazun
SUMMARY:AOS 2006 Pink VS. Loudoun 05 Red ECNL RL
DESCRIPTION:League Name: Winter 2 Girls High School Travel*\nGame Type: Reg
 ular\nGame Status: Complete\nHome Team: AOS 2006 Pink\nAway Team: Loudoun 
 05 Red ECNL RL\nHome Score: 6\nAway Score: 2
END:VEVENT
BEGIN:VEVENT
UID:14890169@ezleagues.ezfacility.com
DTSTAMP:20260426T034041Z
CREATED:20260426T034041Z
DTSTART:20230212T225000Z
DTEND:20230212T233500Z
LOCATION: Field 3
CONTACT:Mejia
SUMMARY:Vienna Soccer VS. AOS 2006 Pink
DESCRIPTION:League Name: Winter 2 Girls High School Travel*\nGame Type: Reg
 ular\nGame Status: Complete\nHome Team: Vienna Soccer\nAway Team: AOS 2006
  Pink\nHome Score: 0\nAway Score: 3
END:VEVENT
BEGIN:VEVENT
UID:14895360@ezleagues.ezfacility.com
DTSTAMP:20260426T034041Z
CREATED:20260426T034041Z
DTSTART:20230219T224000Z
DTEND:20230219T232500Z
LOCATION: Field 3
CONTACT:Cazun
SUMMARY:SYC 2004-2005 G NL VS. AOS 2006 Pink
DESCRIPTION:League Name: Winter 2 Girls High School Travel*\nGame Type: Reg
 ular\nGame Status: Complete\nHome Team: SYC 2004-2005 G NL\nAway Team: AOS
  2006 Pink\nHome Score: 0\nAway Score: 3
END:VEVENT
BEGIN:VEVENT
UID:14890180@ezleagues.ezfacility.com
DTSTAMP:20260426T034041Z
CREATED:20260426T034041Z
DTSTART:20230225T221500Z
DTEND:20230225T230000Z
LOCATION:Field 1
CONTACT:Cazun
SUMMARY:Loudoun 05 Red ECNL RL VS. AOS 2006 Pink
DESCRIPTION:League Name: Winter 2 Girls High School Travel*\nGame Type: Reg
 ular\nGame Status: Complete\nHome Team: Loudoun 05 Red ECNL RL\nAway Team:
  AOS 2006 Pink\nHome Score: 3\nAway Score: 4
END:VEVENT
BEGIN:VEVENT
UID:14890173@ezleagues.ezfacility.com
DTSTAMP:20260426T034041Z
CREATED:20260426T034041Z
DTSTART:20230226T215000Z
DTEND:20230226T223500Z
LOCATION: Field 3
CONTACT:Huber
SUMMARY:AOS 2006 Pink VS. SYC 2004-2005 G NL
DESCRIPTION:League Name: Winter 2 Girls High School Travel*\nGame Type: Reg
 ular\nGame Status: Complete\nHome Team: AOS 2006 Pink\nAway Team: SYC 2004
 -2005 G NL\nHome Score: 5\nAway Score: 6
END:VEVENT
BEGIN:VEVENT
UID:14890167@ezleagues.ezfacility.com
DTSTAMP:20260426T034041Z
CREATED:20260426T034041Z
DTSTART:20230312T163000Z
DTEND:20230312T171500Z
LOCATION:VA Army National Guard Field 2
CONTACT:Canales
SUMMARY:SYC 06G VS. AOS 2006 Pink
DESCRIPTION:League Name: Winter 2 Girls High School Travel*\nGame Type: Reg
 ular\nGame Status: Complete\nHome Team: SYC 06G\nAway Team: AOS 2006 Pink\
 nHome Score: 5\nAway Score: 3
END:VEVENT
END:VCALENDAR
