BEGIN:VCALENDAR
VERSION:2.0
PRODID:-//EZFacility.com, Inc.//EZL 2.5.5.28621
BEGIN:VEVENT
UID:14893476@ezleagues.ezfacility.com
DTSTAMP:20260426T034926Z
CREATED:20260426T034926Z
DTSTART:20230415T190000Z
DTEND:20230415T194500Z
LOCATION:Bridgeville RollerPlex
CONTACT:
SUMMARY:Vipers CARNAHAN VS. Vipers WADE
DESCRIPTION:League Name: 2023 Vipers PITTSBURGH Division\nGame Type: Regula
 r\nGame Status: Complete\nHome Team: Vipers CARNAHAN\nAway Team: Vipers WA
 DE\nHome Score: 3\nAway Score: 4
END:VEVENT
BEGIN:VEVENT
UID:14893480@ezleagues.ezfacility.com
DTSTAMP:20260426T034926Z
CREATED:20260426T034926Z
DTSTART:20230422T190000Z
DTEND:20230422T194500Z
LOCATION:Bridgeville RollerPlex
CONTACT:
SUMMARY:Vipers WADE VS. Vipers FREDERICK
DESCRIPTION:League Name: 2023 Vipers PITTSBURGH Division\nGame Type: Regula
 r\nGame Status: Complete\nHome Team: Vipers WADE\nAway Team: Vipers FREDER
 ICK\nHome Score: 8\nAway Score: 11
END:VEVENT
BEGIN:VEVENT
UID:14893484@ezleagues.ezfacility.com
DTSTAMP:20260426T034926Z
CREATED:20260426T034926Z
DTSTART:20230429T190000Z
DTEND:20230429T194500Z
LOCATION:Bridgeville RollerPlex
CONTACT:
SUMMARY:Vipers WADE VS. Vipers MARX
DESCRIPTION:League Name: 2023 Vipers PITTSBURGH Division\nGame Type: Regula
 r\nGame Status: Complete\nHome Team: Vipers WADE\nAway Team: Vipers MARX\n
 Home Score: 7\nAway Score: 8
END:VEVENT
BEGIN:VEVENT
UID:14893517@ezleagues.ezfacility.com
DTSTAMP:20260426T034926Z
CREATED:20260426T034926Z
DTSTART:20230503T230000Z
DTEND:20230503T234500Z
LOCATION:Bridgeville RollerPlex
CONTACT:
SUMMARY:Vipers WADE VS. Vipers FREDERICK
DESCRIPTION:League Name: 2023 Vipers PITTSBURGH Division\nGame Type: Regula
 r\nGame Status: Complete\nHome Team: Vipers WADE\nAway Team: Vipers FREDER
 ICK\nHome Score: 12\nAway Score: 8
END:VEVENT
BEGIN:VEVENT
UID:14893518@ezleagues.ezfacility.com
DTSTAMP:20260426T034926Z
CREATED:20260426T034926Z
DTSTART:20230506T180000Z
DTEND:20230506T184500Z
LOCATION:Bridgeville RollerPlex
CONTACT:
SUMMARY:Vipers CARNAHAN VS. Vipers WADE
DESCRIPTION:League Name: 2023 Vipers PITTSBURGH Division\nGame Type: Regula
 r\nGame Status: Complete\nHome Team: Vipers CARNAHAN\nAway Team: Vipers WA
 DE\nHome Score: 8\nAway Score: 7
END:VEVENT
BEGIN:VEVENT
UID:14893523@ezleagues.ezfacility.com
DTSTAMP:20260426T034926Z
CREATED:20260426T034926Z
DTSTART:20230513T180000Z
DTEND:20230513T184500Z
LOCATION:Bridgeville RollerPlex
CONTACT:
SUMMARY:Vipers WADE VS. Vipers MARX
DESCRIPTION:League Name: 2023 Vipers PITTSBURGH Division\nGame Type: Regula
 r\nGame Status: Complete\nHome Team: Vipers WADE\nAway Team: Vipers MARX\n
 Home Score: 8\nAway Score: 7
END:VEVENT
BEGIN:VEVENT
UID:14893526@ezleagues.ezfacility.com
DTSTAMP:20260426T034926Z
CREATED:20260426T034926Z
DTSTART:20230517T220000Z
DTEND:20230517T224500Z
LOCATION:Bridgeville RollerPlex
CONTACT:
SUMMARY:Vipers FREDERICK VS. Vipers WADE
DESCRIPTION:League Name: 2023 Vipers PITTSBURGH Division\nGame Type: Regula
 r\nGame Status: Complete\nHome Team: Vipers FREDERICK\nAway Team: Vipers W
 ADE\nHome Score: 7\nAway Score: 6
END:VEVENT
BEGIN:VEVENT
UID:14893528@ezleagues.ezfacility.com
DTSTAMP:20260426T034926Z
CREATED:20260426T034926Z
DTSTART:20230520T150000Z
DTEND:20230520T154500Z
LOCATION:Bridgeville RollerPlex
CONTACT:
SUMMARY:Vipers WADE VS. Vipers CARNAHAN
DESCRIPTION:League Name: 2023 Vipers PITTSBURGH Division\nGame Type: Postse
 ason\nGame Status: Complete\nHome Team: Vipers WADE\nAway Team: Vipers CAR
 NAHAN\nHome Score: 2\nAway Score: 8
END:VEVENT
BEGIN:VEVENT
UID:14893531@ezleagues.ezfacility.com
DTSTAMP:20260426T034926Z
CREATED:20260426T034926Z
DTSTART:20230524T220000Z
DTEND:20230524T224500Z
LOCATION:Bridgeville RollerPlex
CONTACT:
SUMMARY:Vipers WADE VS. Vipers FREDERICK
DESCRIPTION:League Name: 2023 Vipers PITTSBURGH Division\nGame Type: Exhibi
 tion\nGame Status: Pending\nHome Team: Vipers WADE\nAway Team: Vipers FRED
 ERICK\n
END:VEVENT
END:VCALENDAR
