BEGIN:VCALENDAR
VERSION:2.0
PRODID:-//EZFacility.com, Inc.//EZL 2.5.5.28621
BEGIN:VEVENT
UID:14928281@ezleagues.ezfacility.com
DTSTAMP:20260420T041218Z
CREATED:20260420T041218Z
DTSTART:20230421T220000Z
DTEND:20230421T230000Z
LOCATION:Hudson Middle School
CONTACT:
SUMMARY:Hudson Team 1 VS. Highland Team 1
DESCRIPTION:League Name: NOLL Spring Season 2023-Boys-Grades 3-4-Evolve\nGa
 me Type: Regular\nGame Status: Complete\nHome Team: Hudson Team 1\nAway Te
 am: Highland Team 1\nHome Score: 9\nAway Score: 4
END:VEVENT
BEGIN:VEVENT
UID:14935753@ezleagues.ezfacility.com
DTSTAMP:20260420T041218Z
CREATED:20260420T041218Z
DTSTART:20230423T150000Z
DTEND:20230423T160000Z
LOCATION:Hudson Middle School
CONTACT:
SUMMARY:Hudson Team 1 VS. Avon Team 1
DESCRIPTION:League Name: NOLL Spring Season 2023-Boys-Grades 3-4-Evolve\nGa
 me Type: Regular\nGame Status: Complete\nHome Team: Hudson Team 1\nAway Te
 am: Avon Team 1\nHome Score: 11\nAway Score: 3
END:VEVENT
BEGIN:VEVENT
UID:14928438@ezleagues.ezfacility.com
DTSTAMP:20260420T041218Z
CREATED:20260420T041218Z
DTSTART:20230428T220000Z
DTEND:20230428T230000Z
LOCATION:Hudson Middle School
CONTACT:
SUMMARY:Hudson Team 1 VS. Revere
DESCRIPTION:League Name: NOLL Spring Season 2023-Boys-Grades 3-4-Evolve\nGa
 me Type: Regular\nGame Status: Complete\nHome Team: Hudson Team 1\nAway Te
 am: Revere\nHome Score: 9\nAway Score: 5
END:VEVENT
BEGIN:VEVENT
UID:14940459@ezleagues.ezfacility.com
DTSTAMP:20260420T041218Z
CREATED:20260420T041218Z
DTSTART:20230503T233000Z
DTEND:20230504T003000Z
LOCATION:Bay Village - Bradley Park
CONTACT:
SUMMARY:Bay Village Team 1 VS. Hudson Team 1
DESCRIPTION:League Name: NOLL Spring Season 2023-Boys-Grades 3-4-Evolve\nGa
 me Type: Regular\nGame Status: Complete\nHome Team: Bay Village Team 1\nAw
 ay Team: Hudson Team 1\nHome Score: 5\nAway Score: 10
END:VEVENT
BEGIN:VEVENT
UID:14928453@ezleagues.ezfacility.com
DTSTAMP:20260420T041218Z
CREATED:20260420T041218Z
DTSTART:20230505T220000Z
DTEND:20230505T230000Z
LOCATION:Avon
CONTACT:
SUMMARY:Avon Team 1 VS. Hudson Team 1
DESCRIPTION:League Name: NOLL Spring Season 2023-Boys-Grades 3-4-Evolve\nGa
 me Type: Regular\nGame Status: Complete\nHome Team: Avon Team 1\nAway Team
 : Hudson Team 1\nHome Score: 6\nAway Score: 5
END:VEVENT
BEGIN:VEVENT
UID:14929272@ezleagues.ezfacility.com
DTSTAMP:20260420T041218Z
CREATED:20260420T041218Z
DTSTART:20230512T220000Z
DTEND:20230512T230000Z
LOCATION:Hudson Middle School
CONTACT:
SUMMARY:Hudson Team 1 VS. Copley Team 1
DESCRIPTION:League Name: NOLL Spring Season 2023-Boys-Grades 3-4-Evolve\nGa
 me Type: Regular\nGame Status: Complete\nHome Team: Hudson Team 1\nAway Te
 am: Copley Team 1\nHome Score: 6\nAway Score: 9
END:VEVENT
BEGIN:VEVENT
UID:14929330@ezleagues.ezfacility.com
DTSTAMP:20260420T041218Z
CREATED:20260420T041218Z
DTSTART:20230521T160000Z
DTEND:20230521T170000Z
LOCATION:Hudson Middle School
CONTACT:
SUMMARY:Hudson Team 1 VS. Stow Team 1
DESCRIPTION:League Name: NOLL Spring Season 2023-Boys-Grades 3-4-Evolve\nGa
 me Type: Regular\nGame Status: Pending\nHome Team: Hudson Team 1\nAway Tea
 m: Stow Team 1\n
END:VEVENT
BEGIN:VEVENT
UID:14929333@ezleagues.ezfacility.com
DTSTAMP:20260420T041218Z
CREATED:20260420T041218Z
DTSTART:20230521T190000Z
DTEND:20230521T200000Z
LOCATION:Hudson Middle School
CONTACT:
SUMMARY:Hudson Team 1 VS. Wooster
DESCRIPTION:League Name: NOLL Spring Season 2023-Boys-Grades 3-4-Evolve\nGa
 me Type: Regular\nGame Status: Pending\nHome Team: Hudson Team 1\nAway Tea
 m: Wooster\n
END:VEVENT
BEGIN:VEVENT
UID:14933457@ezleagues.ezfacility.com
DTSTAMP:20260420T041218Z
CREATED:20260420T041218Z
DTSTART:20230526T220000Z
DTEND:20230526T230000Z
LOCATION:Hudson Middle School
CONTACT:
SUMMARY:Hudson Team 1 VS. Strongsville Team 1
DESCRIPTION:League Name: NOLL Spring Season 2023-Boys-Grades 3-4-Evolve\nGa
 me Type: Regular\nGame Status: Pending\nHome Team: Hudson Team 1\nAway Tea
 m: Strongsville Team 1\n
END:VEVENT
END:VCALENDAR
