BEGIN:VCALENDAR
VERSION:2.0
PRODID:-//EZFacility.com, Inc.//EZL 2.5.5.28621
BEGIN:VEVENT
UID:14904175@ezleagues.ezfacility.com
DTSTAMP:20260426T033541Z
CREATED:20260426T033541Z
DTSTART:20230412T223000Z
DTEND:20230412T233000Z
LOCATION:BBH - Blossom Hill
CONTACT:
SUMMARY:Brecksville Broadview Heights Team 1 VS. Kenston Team 2
DESCRIPTION:League Name: NOLL Spring Season 2023-Boys-Grades 7-8-Elite B\nG
 ame Type: Regular\nGame Status: Complete\nHome Team: Brecksville Broadview
  Heights Team 1\nAway Team: Kenston Team 2\nHome Score: 4\nAway Score: 1
END:VEVENT
BEGIN:VEVENT
UID:14904184@ezleagues.ezfacility.com
DTSTAMP:20260426T033541Z
CREATED:20260426T033541Z
DTSTART:20230416T203000Z
DTEND:20230416T213000Z
LOCATION:BBH - Blossom Hill
CONTACT:
SUMMARY:Brecksville Broadview Heights Team 1 VS. Wadsworth Team 2
DESCRIPTION:League Name: NOLL Spring Season 2023-Boys-Grades 7-8-Elite B\nG
 ame Type: Regular\nGame Status: Pending\nHome Team: Brecksville Broadview 
 Heights Team 1\nAway Team: Wadsworth Team 2\n
END:VEVENT
BEGIN:VEVENT
UID:14904186@ezleagues.ezfacility.com
DTSTAMP:20260426T033541Z
CREATED:20260426T033541Z
DTSTART:20230419T230000Z
DTEND:20230420T000000Z
LOCATION:BBH - Blossom Hill
CONTACT:
SUMMARY:Brecksville Broadview Heights Team 1 VS. Strongsville Team 2
DESCRIPTION:League Name: NOLL Spring Season 2023-Boys-Grades 7-8-Elite B\nG
 ame Type: Regular\nGame Status: Complete\nHome Team: Brecksville Broadview
  Heights Team 1\nAway Team: Strongsville Team 2\nHome Score: 6\nAway Score
 : 4
END:VEVENT
BEGIN:VEVENT
UID:14904195@ezleagues.ezfacility.com
DTSTAMP:20260426T033541Z
CREATED:20260426T033541Z
DTSTART:20230424T230000Z
DTEND:20230425T000000Z
LOCATION:Hudson - East Woods School
CONTACT:
SUMMARY:Brecksville Broadview Heights Team 1 VS. Hudson Team 2
DESCRIPTION:League Name: NOLL Spring Season 2023-Boys-Grades 7-8-Elite B\nG
 ame Type: Regular\nGame Status: Complete\nHome Team: Brecksville Broadview
  Heights Team 1\nAway Team: Hudson Team 2\nHome Score: 1\nAway Score: 7
END:VEVENT
BEGIN:VEVENT
UID:14904199@ezleagues.ezfacility.com
DTSTAMP:20260426T033541Z
CREATED:20260426T033541Z
DTSTART:20230503T230000Z
DTEND:20230504T000000Z
LOCATION:Brunswick High School
CONTACT:
SUMMARY:Brunswick Team 2 VS. Brecksville Broadview Heights Team 1
DESCRIPTION:League Name: NOLL Spring Season 2023-Boys-Grades 7-8-Elite B\nG
 ame Type: Regular\nGame Status: Pending\nHome Team: Brunswick Team 2\nAway
  Team: Brecksville Broadview Heights Team 1\n
END:VEVENT
BEGIN:VEVENT
UID:14904244@ezleagues.ezfacility.com
DTSTAMP:20260426T033541Z
CREATED:20260426T033541Z
DTSTART:20230511T230000Z
DTEND:20230512T000000Z
LOCATION:Rocky River High School
CONTACT:
SUMMARY:Rocky River Team 2 VS. Brecksville Broadview Heights Team 1
DESCRIPTION:League Name: NOLL Spring Season 2023-Boys-Grades 7-8-Elite B\nG
 ame Type: Regular\nGame Status: Pending\nHome Team: Rocky River Team 2\nAw
 ay Team: Brecksville Broadview Heights Team 1\n
END:VEVENT
BEGIN:VEVENT
UID:14904330@ezleagues.ezfacility.com
DTSTAMP:20260426T033541Z
CREATED:20260426T033541Z
DTSTART:20230517T230000Z
DTEND:20230518T000000Z
LOCATION:BBH - Old Stadium
CONTACT:
SUMMARY:Olmsted Falls B VS. Brecksville Broadview Heights Team 1
DESCRIPTION:League Name: NOLL Spring Season 2023-Boys-Grades 7-8-Elite B\nG
 ame Type: Regular\nGame Status: Pending\nHome Team: Olmsted Falls B\nAway 
 Team: Brecksville Broadview Heights Team 1\n
END:VEVENT
BEGIN:VEVENT
UID:14904332@ezleagues.ezfacility.com
DTSTAMP:20260426T033541Z
CREATED:20260426T033541Z
DTSTART:20230524T230000Z
DTEND:20230525T000000Z
LOCATION:Revere - Bath Community Park
CONTACT:
SUMMARY:Revere Team 2 VS. Brecksville Broadview Heights Team 1
DESCRIPTION:League Name: NOLL Spring Season 2023-Boys-Grades 7-8-Elite B\nG
 ame Type: Regular\nGame Status: Pending\nHome Team: Revere Team 2\nAway Te
 am: Brecksville Broadview Heights Team 1\n
END:VEVENT
END:VCALENDAR
