BEGIN:VCALENDAR
VERSION:2.0
PRODID:-//EZFacility.com, Inc.//EZL 2.5.5.28621
BEGIN:VEVENT
UID:14913864@ezleagues.ezfacility.com
DTSTAMP:20260421T080527Z
CREATED:20260421T080527Z
DTSTART:20230129T213500Z
DTEND:20230129T223000Z
LOCATION:PFFC Field House - B
CONTACT:
SUMMARY:Just Finish FC (Teal/Pink) VS. Royals
DESCRIPTION:League Name: MSL WINTER 2023 - SUNDAY MENS Division 5 - East\nG
 ame Type: Regular\nGame Status: Complete\nHome Team: Just Finish FC (Teal/
 Pink)\nAway Team: Royals\nHome Score: 2\nAway Score: 0
END:VEVENT
BEGIN:VEVENT
UID:14913865@ezleagues.ezfacility.com
DTSTAMP:20260421T080527Z
CREATED:20260421T080527Z
DTSTART:20230206T024500Z
DTEND:20230206T034000Z
LOCATION:PFFC Dome - 3
CONTACT:
SUMMARY:Just Finish FC (Teal/Pink) VS. Studs Up FC (Black)
DESCRIPTION:League Name: MSL WINTER 2023 - SUNDAY MENS Division 5 - East\nG
 ame Type: Regular\nGame Status: Complete\nHome Team: Just Finish FC (Teal/
 Pink)\nAway Team: Studs Up FC (Black)\nHome Score: 3\nAway Score: 3
END:VEVENT
BEGIN:VEVENT
UID:14911800@ezleagues.ezfacility.com
DTSTAMP:20260421T080527Z
CREATED:20260421T080527Z
DTSTART:20230213T015000Z
DTEND:20230213T024500Z
LOCATION:PFFC Dome - 3
CONTACT:
SUMMARY:Traigo Fuego FC (Black) VS. Just Finish FC (Teal/Pink)
DESCRIPTION:League Name: MSL WINTER 2023 - SUNDAY MENS Division 5 - East\nG
 ame Type: Regular\nGame Status: Complete\nHome Team: Traigo Fuego FC (Blac
 k)\nAway Team: Just Finish FC (Teal/Pink)\nHome Score: 0\nAway Score: 3
END:VEVENT
BEGIN:VEVENT
UID:14911845@ezleagues.ezfacility.com
DTSTAMP:20260421T080527Z
CREATED:20260421T080527Z
DTSTART:20230220T030500Z
DTEND:20230220T040000Z
LOCATION:PFFC Field House - B
CONTACT:
SUMMARY:Kings of Paris (White) VS. Just Finish FC (Teal/Pink)
DESCRIPTION:League Name: MSL WINTER 2023 - SUNDAY MENS Division 5 - East\nG
 ame Type: Regular\nGame Status: Complete\nHome Team: Kings of Paris (White
 )\nAway Team: Just Finish FC (Teal/Pink)\nHome Score: 2\nAway Score: 4
END:VEVENT
BEGIN:VEVENT
UID:14911890@ezleagues.ezfacility.com
DTSTAMP:20260421T080527Z
CREATED:20260421T080527Z
DTSTART:20230227T040000Z
DTEND:20230227T045500Z
LOCATION:PFFC Field House - C
CONTACT:
SUMMARY:Studs Up FC (Black) VS. Just Finish FC (Teal/Pink)
DESCRIPTION:League Name: MSL WINTER 2023 - SUNDAY MENS Division 5 - East\nG
 ame Type: Regular\nGame Status: Complete\nHome Team: Studs Up FC (Black)\n
 Away Team: Just Finish FC (Teal/Pink)\nHome Score: 3\nAway Score: 2
END:VEVENT
BEGIN:VEVENT
UID:14911935@ezleagues.ezfacility.com
DTSTAMP:20260421T080527Z
CREATED:20260421T080527Z
DTSTART:20230306T021000Z
DTEND:20230306T030500Z
LOCATION:PFFC Field House - D
CONTACT:
SUMMARY:Just Finish FC (Teal/Pink) VS. Nike FC (White)
DESCRIPTION:League Name: MSL WINTER 2023 - SUNDAY MENS Division 5 - East\nG
 ame Type: Regular\nGame Status: Complete\nHome Team: Just Finish FC (Teal/
 Pink)\nAway Team: Nike FC (White)\nHome Score: 5\nAway Score: 1
END:VEVENT
BEGIN:VEVENT
UID:14911979@ezleagues.ezfacility.com
DTSTAMP:20260421T080527Z
CREATED:20260421T080527Z
DTSTART:20230313T001500Z
DTEND:20230313T011000Z
LOCATION:PFFC Field House - D
CONTACT:
SUMMARY:Inter-Racial FC (Orange) VS. Just Finish FC (Teal/Pink)
DESCRIPTION:League Name: MSL WINTER 2023 - SUNDAY MENS Division 5 - East\nG
 ame Type: Regular\nGame Status: Complete\nHome Team: Inter-Racial FC (Oran
 ge)\nAway Team: Just Finish FC (Teal/Pink)\nHome Score: 2\nAway Score: 4
END:VEVENT
BEGIN:VEVENT
UID:14912022@ezleagues.ezfacility.com
DTSTAMP:20260421T080527Z
CREATED:20260421T080527Z
DTSTART:20230320T014500Z
DTEND:20230320T024000Z
LOCATION:PFFC Dome - 2
CONTACT:
SUMMARY:Just Finish FC (Teal/Pink) VS. Tiki Taka FC (White)
DESCRIPTION:League Name: MSL WINTER 2023 - SUNDAY MENS Division 5 - East\nG
 ame Type: Regular\nGame Status: Complete\nHome Team: Just Finish FC (Teal/
 Pink)\nAway Team: Tiki Taka FC (White)\nHome Score: 6\nAway Score: 2
END:VEVENT
BEGIN:VEVENT
UID:14912065@ezleagues.ezfacility.com
DTSTAMP:20260421T080527Z
CREATED:20260421T080527Z
DTSTART:20230327T030000Z
DTEND:20230327T035500Z
LOCATION:PFFC Field House - A
CONTACT:
SUMMARY:Sauga Panthers FC (White) VS. Just Finish FC (Teal/Pink)
DESCRIPTION:League Name: MSL WINTER 2023 - SUNDAY MENS Division 5 - East\nG
 ame Type: Regular\nGame Status: Complete\nHome Team: Sauga Panthers FC (Wh
 ite)\nAway Team: Just Finish FC (Teal/Pink)\nHome Score: 3\nAway Score: 4
END:VEVENT
BEGIN:VEVENT
UID:14912108@ezleagues.ezfacility.com
DTSTAMP:20260421T080527Z
CREATED:20260421T080527Z
DTSTART:20230402T232000Z
DTEND:20230403T001500Z
LOCATION:PFFC Field House - C
CONTACT:
SUMMARY:Just Finish FC (Teal/Pink) VS. Traigo Fuego FC (Black)
DESCRIPTION:League Name: MSL WINTER 2023 - SUNDAY MENS Division 5 - East\nG
 ame Type: Regular\nGame Status: Complete\nHome Team: Just Finish FC (Teal/
 Pink)\nAway Team: Traigo Fuego FC (Black)\nHome Score: 5\nAway Score: 2
END:VEVENT
BEGIN:VEVENT
UID:14912198@ezleagues.ezfacility.com
DTSTAMP:20260421T080527Z
CREATED:20260421T080527Z
DTSTART:20230416T232000Z
DTEND:20230417T001500Z
LOCATION:PFFC Field House - C
CONTACT:
SUMMARY:Just Finish FC (Teal/Pink) VS. Studs Up FC (Black)
DESCRIPTION:League Name: MSL WINTER 2023 - SUNDAY MENS Division 5 - East\nG
 ame Type: Regular\nGame Status: Complete\nHome Team: Just Finish FC (Teal/
 Pink)\nAway Team: Studs Up FC (Black)\nHome Score: 2\nAway Score: 1
END:VEVENT
BEGIN:VEVENT
UID:14912153@ezleagues.ezfacility.com
DTSTAMP:20260421T080527Z
CREATED:20260421T080527Z
DTSTART:20230423T203500Z
DTEND:20230423T213000Z
LOCATION:PFFC Field House - C
CONTACT:
SUMMARY:Just Finish FC (Teal/Pink) VS. Kings of Paris (White)
DESCRIPTION:League Name: MSL WINTER 2023 - SUNDAY MENS Division 5 - East\nG
 ame Type: Regular\nGame Status: Complete\nHome Team: Just Finish FC (Teal/
 Pink)\nAway Team: Kings of Paris (White)\nHome Score: 2\nAway Score: 2
END:VEVENT
BEGIN:VEVENT
UID:15005171@ezleagues.ezfacility.com
DTSTAMP:20260421T080527Z
CREATED:20260421T080527Z
DTSTART:20230501T005000Z
DTEND:20230501T014500Z
LOCATION:PFFC Dome - 1
CONTACT:
SUMMARY:Just Finish FC (Teal/Pink) VS. Nike FC (White)
DESCRIPTION:League Name: MSL WINTER 2023 - SUNDAY MENS Division 5 - East\nG
 ame Type: Postseason\nGame Status: Complete\nHome Team: Just Finish FC (Te
 al/Pink)\nAway Team: Nike FC (White)\nHome Score: 5\nAway Score: 2
END:VEVENT
BEGIN:VEVENT
UID:15005175@ezleagues.ezfacility.com
DTSTAMP:20260421T080527Z
CREATED:20260421T080527Z
DTSTART:20230507T213000Z
DTEND:20230507T222500Z
LOCATION:PFFC Field House - A
CONTACT:
SUMMARY:Just Finish FC (Teal/Pink) VS. Studs Up FC (Black)
DESCRIPTION:League Name: MSL WINTER 2023 - SUNDAY MENS Division 5 - East\nG
 ame Type: Postseason\nGame Status: Complete\nHome Team: Just Finish FC (Te
 al/Pink)\nAway Team: Studs Up FC (Black)\nHome Score: 4\nAway Score: 1
END:VEVENT
BEGIN:VEVENT
UID:15005177@ezleagues.ezfacility.com
DTSTAMP:20260421T080527Z
CREATED:20260421T080527Z
DTSTART:20230514T224500Z
DTEND:20230514T234000Z
LOCATION:PFFC Field House - B
CONTACT:
SUMMARY:Just Finish FC (Teal/Pink) VS. Kings of Paris (White)
DESCRIPTION:League Name: MSL WINTER 2023 - SUNDAY MENS Division 5 - East\nG
 ame Type: Postseason\nGame Status: Complete\nHome Team: Just Finish FC (Te
 al/Pink)\nAway Team: Kings of Paris (White)\nHome Score: 2\nAway Score: 3
END:VEVENT
END:VCALENDAR
