BEGIN:VCALENDAR
VERSION:2.0
PRODID:-//EZFacility.com, Inc.//EZL 2.5.5.28621
BEGIN:VEVENT
UID:14912523@ezleagues.ezfacility.com
DTSTAMP:20260426T035032Z
CREATED:20260426T035032Z
DTSTART:20230210T022500Z
DTEND:20230210T032000Z
LOCATION: Field 3
CONTACT:Mejia
SUMMARY:EJutes VS. AJAX Nova
DESCRIPTION:League Name: Thursday Men's Open Div. 1 February, 2023\nGame Ty
 pe: Regular\nGame Status: Complete\nHome Team: EJutes\nAway Team: AJAX Nov
 a\nHome Score: 8\nAway Score: 7
END:VEVENT
BEGIN:VEVENT
UID:14912537@ezleagues.ezfacility.com
DTSTAMP:20260426T035032Z
CREATED:20260426T035032Z
DTSTART:20230217T024500Z
DTEND:20230217T034000Z
LOCATION:Field 1
CONTACT:Esquerre
SUMMARY:Boca JR VS. EJutes
DESCRIPTION:League Name: Thursday Men's Open Div. 1 February, 2023\nGame Ty
 pe: Regular\nGame Status: Complete\nHome Team: Boca JR\nAway Team: EJutes\
 nHome Score: 8\nAway Score: 4
END:VEVENT
BEGIN:VEVENT
UID:14912551@ezleagues.ezfacility.com
DTSTAMP:20260426T035032Z
CREATED:20260426T035032Z
DTSTART:20230224T032000Z
DTEND:20230224T041500Z
LOCATION: Field 3
CONTACT:Esquerre
SUMMARY:EJutes VS. Part- time Ballers
DESCRIPTION:League Name: Thursday Men's Open Div. 1 February, 2023\nGame Ty
 pe: Regular\nGame Status: Complete\nHome Team: EJutes\nAway Team: Part- ti
 me Ballers\nHome Score: 6\nAway Score: 11
END:VEVENT
BEGIN:VEVENT
UID:14912565@ezleagues.ezfacility.com
DTSTAMP:20260426T035032Z
CREATED:20260426T035032Z
DTSTART:20230303T000000Z
DTEND:20230303T005500Z
LOCATION:VA Army National Guard Field 2
CONTACT:Mejia
SUMMARY:EJutes VS. Bums
DESCRIPTION:League Name: Thursday Men's Open Div. 1 February, 2023\nGame Ty
 pe: Regular\nGame Status: Complete\nHome Team: EJutes\nAway Team: Bums\nHo
 me Score: 4\nAway Score: 13
END:VEVENT
BEGIN:VEVENT
UID:14912578@ezleagues.ezfacility.com
DTSTAMP:20260426T035032Z
CREATED:20260426T035032Z
DTSTART:20230310T000000Z
DTEND:20230310T005500Z
LOCATION:VA Army National Guard Field 2
CONTACT:Burns
SUMMARY:Hooligans FC VS. EJutes
DESCRIPTION:League Name: Thursday Men's Open Div. 1 February, 2023\nGame Ty
 pe: Regular\nGame Status: Complete\nHome Team: Hooligans FC\nAway Team: EJ
 utes\nHome Score: 3\nAway Score: 0
END:VEVENT
BEGIN:VEVENT
UID:14912602@ezleagues.ezfacility.com
DTSTAMP:20260426T035032Z
CREATED:20260426T035032Z
DTSTART:20230324T005000Z
DTEND:20230324T014500Z
LOCATION:VA Army National Guard Field 2
CONTACT:Burns
SUMMARY:Girthy Goats VS. EJutes
DESCRIPTION:League Name: Thursday Men's Open Div. 1 February, 2023\nGame Ty
 pe: Regular\nGame Status: Complete\nHome Team: Girthy Goats\nAway Team: EJ
 utes\nHome Score: 8\nAway Score: 5
END:VEVENT
BEGIN:VEVENT
UID:14912614@ezleagues.ezfacility.com
DTSTAMP:20260426T035032Z
CREATED:20260426T035032Z
DTSTART:20230330T230000Z
DTEND:20230330T235500Z
LOCATION:VA Army National Guard Field 2
CONTACT:Martinez
SUMMARY:EJutes VS. AJAX Nova
DESCRIPTION:League Name: Thursday Men's Open Div. 1 February, 2023\nGame Ty
 pe: Postseason\nGame Status: Complete\nHome Team: EJutes\nAway Team: AJAX 
 Nova\nHome Score: 8\nAway Score: 3
END:VEVENT
BEGIN:VEVENT
UID:14912615@ezleagues.ezfacility.com
DTSTAMP:20260426T035032Z
CREATED:20260426T035032Z
DTSTART:20230330T235500Z
DTEND:20230331T005000Z
LOCATION:VA Army National Guard Field 2
CONTACT:Martinez
SUMMARY:EJutes VS. Girthy Goats
DESCRIPTION:League Name: Thursday Men's Open Div. 1 February, 2023\nGame Ty
 pe: Postseason\nGame Status: Complete\nHome Team: EJutes\nAway Team: Girth
 y Goats\nHome Score: 3\nAway Score: 8
END:VEVENT
END:VCALENDAR
