BEGIN:VCALENDAR
VERSION:2.0
PRODID:-//EZFacility.com, Inc.//EZL 2.5.5.28621
BEGIN:VEVENT
UID:14912525@ezleagues.ezfacility.com
DTSTAMP:20260421T121931Z
CREATED:20260421T121931Z
DTSTART:20230210T025000Z
DTEND:20230210T034500Z
LOCATION:VA Army National Guard Field 2
CONTACT:Navarro
SUMMARY:Girthy Goats VS. Boca JR
DESCRIPTION:League Name: Thursday Men's Open Div. 1 February, 2023\nGame Ty
 pe: Regular\nGame Status: Complete\nHome Team: Girthy Goats\nAway Team: Bo
 ca JR\nHome Score: 5\nAway Score: 9
END:VEVENT
BEGIN:VEVENT
UID:14912539@ezleagues.ezfacility.com
DTSTAMP:20260421T121931Z
CREATED:20260421T121931Z
DTSTART:20230217T022500Z
DTEND:20230217T032000Z
LOCATION:VA Army National Guard Field 2
CONTACT:Mejia
SUMMARY:Part- time Ballers VS. Girthy Goats
DESCRIPTION:League Name: Thursday Men's Open Div. 1 February, 2023\nGame Ty
 pe: Regular\nGame Status: Complete\nHome Team: Part- time Ballers\nAway Te
 am: Girthy Goats\nHome Score: 2\nAway Score: 5
END:VEVENT
BEGIN:VEVENT
UID:14912552@ezleagues.ezfacility.com
DTSTAMP:20260421T121931Z
CREATED:20260421T121931Z
DTSTART:20230224T015500Z
DTEND:20230224T025000Z
LOCATION:VA Army National Guard Field 2
CONTACT:Trujillo
SUMMARY:Bums VS. Girthy Goats
DESCRIPTION:League Name: Thursday Men's Open Div. 1 February, 2023\nGame Ty
 pe: Regular\nGame Status: Complete\nHome Team: Bums\nAway Team: Girthy Goa
 ts\nHome Score: 8\nAway Score: 7
END:VEVENT
BEGIN:VEVENT
UID:14912564@ezleagues.ezfacility.com
DTSTAMP:20260421T121931Z
CREATED:20260421T121931Z
DTSTART:20230303T000000Z
DTEND:20230303T005500Z
LOCATION:Field 1
CONTACT:Esquerre
SUMMARY:Girthy Goats VS. Hooligans FC
DESCRIPTION:League Name: Thursday Men's Open Div. 1 February, 2023\nGame Ty
 pe: Regular\nGame Status: Complete\nHome Team: Girthy Goats\nAway Team: Ho
 oligans FC\nHome Score: 7\nAway Score: 7
END:VEVENT
BEGIN:VEVENT
UID:14912588@ezleagues.ezfacility.com
DTSTAMP:20260421T121931Z
CREATED:20260421T121931Z
DTSTART:20230316T230000Z
DTEND:20230316T235500Z
LOCATION:Field 1
CONTACT:Burns
SUMMARY:AJAX Nova VS. Girthy Goats
DESCRIPTION:League Name: Thursday Men's Open Div. 1 February, 2023\nGame Ty
 pe: Regular\nGame Status: Complete\nHome Team: AJAX Nova\nAway Team: Girth
 y Goats\nHome Score: 5\nAway Score: 11
END:VEVENT
BEGIN:VEVENT
UID:14912602@ezleagues.ezfacility.com
DTSTAMP:20260421T121931Z
CREATED:20260421T121931Z
DTSTART:20230324T005000Z
DTEND:20230324T014500Z
LOCATION:VA Army National Guard Field 2
CONTACT:Burns
SUMMARY:Girthy Goats VS. EJutes
DESCRIPTION:League Name: Thursday Men's Open Div. 1 February, 2023\nGame Ty
 pe: Regular\nGame Status: Complete\nHome Team: Girthy Goats\nAway Team: EJ
 utes\nHome Score: 8\nAway Score: 5
END:VEVENT
BEGIN:VEVENT
UID:14912615@ezleagues.ezfacility.com
DTSTAMP:20260421T121931Z
CREATED:20260421T121931Z
DTSTART:20230330T235500Z
DTEND:20230331T005000Z
LOCATION:VA Army National Guard Field 2
CONTACT:Martinez
SUMMARY:EJutes VS. Girthy Goats
DESCRIPTION:League Name: Thursday Men's Open Div. 1 February, 2023\nGame Ty
 pe: Postseason\nGame Status: Complete\nHome Team: EJutes\nAway Team: Girth
 y Goats\nHome Score: 3\nAway Score: 8
END:VEVENT
BEGIN:VEVENT
UID:14912648@ezleagues.ezfacility.com
DTSTAMP:20260421T121931Z
CREATED:20260421T121931Z
DTSTART:20230406T235500Z
DTEND:20230407T005000Z
LOCATION:VA Army National Guard Field 2
CONTACT:Martinez
SUMMARY:Girthy Goats VS. Boca JR
DESCRIPTION:League Name: Thursday Men's Open Div. 1 February, 2023\nGame Ty
 pe: Postseason\nGame Status: Complete\nHome Team: Girthy Goats\nAway Team:
  Boca JR\nHome Score: 7\nAway Score: 6
END:VEVENT
BEGIN:VEVENT
UID:14912651@ezleagues.ezfacility.com
DTSTAMP:20260421T121931Z
CREATED:20260421T121931Z
DTSTART:20230407T005000Z
DTEND:20230407T014500Z
LOCATION:VA Army National Guard Field 2
CONTACT:Martinez
SUMMARY:Girthy Goats VS. Bums
DESCRIPTION:League Name: Thursday Men's Open Div. 1 February, 2023\nGame Ty
 pe: Postseason\nGame Status: Complete\nHome Team: Girthy Goats\nAway Team:
  Bums\nHome Score: 2\nAway Score: 5
END:VEVENT
END:VCALENDAR
