BEGIN:VCALENDAR
VERSION:2.0
PRODID:-//EZFacility.com, Inc.//EZL 2.5.5.28621
BEGIN:VEVENT
UID:14912850@ezleagues.ezfacility.com
DTSTAMP:20260420T023840Z
CREATED:20260420T023840Z
DTSTART:20230210T013000Z
DTEND:20230210T023000Z
LOCATION:Nike Go Field
CONTACT:
SUMMARY:Los Caballeros VS. SA'ID City
DESCRIPTION:League Name: 2023 Men's Open Winter 2 League\nGame Type: Regula
 r\nGame Status: Complete\nHome Team: Los Caballeros\nAway Team: SA'ID City
 \nHome Score: 12\nAway Score: 9
END:VEVENT
BEGIN:VEVENT
UID:14929124@ezleagues.ezfacility.com
DTSTAMP:20260420T023840Z
CREATED:20260420T023840Z
DTSTART:20230218T013000Z
DTEND:20230218T023000Z
LOCATION:Nike Go Field
CONTACT:
SUMMARY:Spanish Armada VS. Los Caballeros
DESCRIPTION:League Name: 2023 Men's Open Winter 2 League\nGame Type: Regula
 r\nGame Status: Complete\nHome Team: Spanish Armada\nAway Team: Los Caball
 eros\nHome Score: 19\nAway Score: 8
END:VEVENT
BEGIN:VEVENT
UID:14929118@ezleagues.ezfacility.com
DTSTAMP:20260420T023840Z
CREATED:20260420T023840Z
DTSTART:20230224T013000Z
DTEND:20230224T023000Z
LOCATION:Foundation Field
CONTACT:
SUMMARY:Los Caballeros VS. FC America
DESCRIPTION:League Name: 2023 Men's Open Winter 2 League\nGame Type: Regula
 r\nGame Status: Complete\nHome Team: Los Caballeros\nAway Team: FC America
 \nHome Score: 10\nAway Score: 14
END:VEVENT
BEGIN:VEVENT
UID:14946485@ezleagues.ezfacility.com
DTSTAMP:20260420T023840Z
CREATED:20260420T023840Z
DTSTART:20230304T013000Z
DTEND:20230304T023000Z
LOCATION:Nike Go Field
CONTACT:
SUMMARY:Los Caballeros VS. Baltimore FC
DESCRIPTION:League Name: 2023 Men's Open Winter 2 League\nGame Type: Regula
 r\nGame Status: Complete\nHome Team: Los Caballeros\nAway Team: Baltimore 
 FC\nHome Score: 9\nAway Score: 12
END:VEVENT
BEGIN:VEVENT
UID:14960069@ezleagues.ezfacility.com
DTSTAMP:20260420T023840Z
CREATED:20260420T023840Z
DTSTART:20230310T020000Z
DTEND:20230310T030000Z
LOCATION:Foundation Field
CONTACT:
SUMMARY:Los Caballeros VS. Gerry's Kids
DESCRIPTION:League Name: 2023 Men's Open Winter 2 League\nGame Type: Regula
 r\nGame Status: Complete\nHome Team: Los Caballeros\nAway Team: Gerry's Ki
 ds\nHome Score: 7\nAway Score: 14
END:VEVENT
BEGIN:VEVENT
UID:14960079@ezleagues.ezfacility.com
DTSTAMP:20260420T023840Z
CREATED:20260420T023840Z
DTSTART:20230311T013000Z
DTEND:20230311T023000Z
LOCATION:Nike Go Field
CONTACT:
SUMMARY:Los Caballeros VS. River City
DESCRIPTION:League Name: 2023 Men's Open Winter 2 League\nGame Type: Regula
 r\nGame Status: Complete\nHome Team: Los Caballeros\nAway Team: River City
 \nHome Score: 12\nAway Score: 7
END:VEVENT
BEGIN:VEVENT
UID:14975796@ezleagues.ezfacility.com
DTSTAMP:20260420T023840Z
CREATED:20260420T023840Z
DTSTART:20230318T003000Z
DTEND:20230318T013000Z
LOCATION:Foundation Field
CONTACT:
SUMMARY:Los Caballeros VS. River City
DESCRIPTION:League Name: 2023 Men's Open Winter 2 League\nGame Type: Regula
 r\nGame Status: Complete\nHome Team: Los Caballeros\nAway Team: River City
 \nHome Score: 8\nAway Score: 9
END:VEVENT
BEGIN:VEVENT
UID:14980000@ezleagues.ezfacility.com
DTSTAMP:20260420T023840Z
CREATED:20260420T023840Z
DTSTART:20230325T003000Z
DTEND:20230325T013000Z
LOCATION:Foundation Field
CONTACT:
SUMMARY:Gerry's Kids VS. Los Caballeros
DESCRIPTION:League Name: 2023 Men's Open Winter 2 League\nGame Type: Regula
 r\nGame Status: Pending\nHome Team: Gerry's Kids\nAway Team: Los Caballero
 s\n
END:VEVENT
BEGIN:VEVENT
UID:14980006@ezleagues.ezfacility.com
DTSTAMP:20260420T023840Z
CREATED:20260420T023840Z
DTSTART:20230401T003000Z
DTEND:20230401T013000Z
LOCATION:Nike Go Field
CONTACT:
SUMMARY:Husson FC VS. Los Caballeros
DESCRIPTION:League Name: 2023 Men's Open Winter 2 League\nGame Type: Regula
 r\nGame Status: Complete\nHome Team: Husson FC\nAway Team: Los Caballeros\
 nHome Score: 15\nAway Score: 8
END:VEVENT
BEGIN:VEVENT
UID:14980009@ezleagues.ezfacility.com
DTSTAMP:20260420T023840Z
CREATED:20260420T023840Z
DTSTART:20230407T010000Z
DTEND:20230407T012500Z
LOCATION:Nike Go Field
CONTACT:
SUMMARY:Los Caballeros VS. FC America
DESCRIPTION:League Name: 2023 Men's Open Winter 2 League\nGame Type: Regula
 r\nGame Status: Complete\nHome Team: Los Caballeros\nAway Team: FC America
 \nHome Score: 13\nAway Score: 11
END:VEVENT
END:VCALENDAR
