BEGIN:VCALENDAR
VERSION:2.0
PRODID:-//EZFacility.com, Inc.//EZL 2.5.5.28621
BEGIN:VEVENT
UID:14917906@ezleagues.ezfacility.com
DTSTAMP:20260426T034050Z
CREATED:20260426T034050Z
DTSTART:20230214T011000Z
DTEND:20230214T020000Z
LOCATION:Sand Court 2
CONTACT:
SUMMARY:Bumpy Bumps VS. Notorious D.I.G.
DESCRIPTION:League Name: Monday Sand Co-ed 6's LB/C Spring 23\nGame Type: R
 egular\nGame Status: Complete\nHome Team: Bumpy Bumps\nAway Team: Notoriou
 s D.I.G.\nHome Score: 2\nAway Score: 1
END:VEVENT
BEGIN:VEVENT
UID:14917912@ezleagues.ezfacility.com
DTSTAMP:20260426T034050Z
CREATED:20260426T034050Z
DTSTART:20230220T233000Z
DTEND:20230221T002000Z
LOCATION:Sand Court 2
CONTACT:
SUMMARY:Bumpy Bumps VS. Spikological Warfare
DESCRIPTION:League Name: Monday Sand Co-ed 6's LB/C Spring 23\nGame Type: R
 egular\nGame Status: Complete\nHome Team: Bumpy Bumps\nAway Team: Spikolog
 ical Warfare\nHome Score: 3\nAway Score: 0
END:VEVENT
BEGIN:VEVENT
UID:14917918@ezleagues.ezfacility.com
DTSTAMP:20260426T034050Z
CREATED:20260426T034050Z
DTSTART:20230228T020000Z
DTEND:20230228T025000Z
LOCATION:Sand Court 2
CONTACT:
SUMMARY:Bumpy Bumps VS. Soft Serve
DESCRIPTION:League Name: Monday Sand Co-ed 6's LB/C Spring 23\nGame Type: R
 egular\nGame Status: Complete\nHome Team: Bumpy Bumps\nAway Team: Soft Ser
 ve\nHome Score: 2\nAway Score: 1
END:VEVENT
BEGIN:VEVENT
UID:14917919@ezleagues.ezfacility.com
DTSTAMP:20260426T034050Z
CREATED:20260426T034050Z
DTSTART:20230306T233000Z
DTEND:20230307T002000Z
LOCATION:Sand Court 1
CONTACT:
SUMMARY:Bumpy Bumps VS. Kiss our aces
DESCRIPTION:League Name: Monday Sand Co-ed 6's LB/C Spring 23\nGame Type: R
 egular\nGame Status: Complete\nHome Team: Bumpy Bumps\nAway Team: Kiss our
  aces\nHome Score: 1\nAway Score: 2
END:VEVENT
BEGIN:VEVENT
UID:14917928@ezleagues.ezfacility.com
DTSTAMP:20260426T034050Z
CREATED:20260426T034050Z
DTSTART:20230314T001000Z
DTEND:20230314T010000Z
LOCATION:Sand Court 2
CONTACT:
SUMMARY:Just the Tip VS. Bumpy Bumps
DESCRIPTION:League Name: Monday Sand Co-ed 6's LB/C Spring 23\nGame Type: R
 egular\nGame Status: Complete\nHome Team: Just the Tip\nAway Team: Bumpy B
 umps\nHome Score: 0\nAway Score: 3
END:VEVENT
BEGIN:VEVENT
UID:14917932@ezleagues.ezfacility.com
DTSTAMP:20260426T034050Z
CREATED:20260426T034050Z
DTSTART:20230321T010000Z
DTEND:20230321T015000Z
LOCATION:Sand Court 1
CONTACT:
SUMMARY:One Hit Wonders VS. Bumpy Bumps
DESCRIPTION:League Name: Monday Sand Co-ed 6's LB/C Spring 23\nGame Type: R
 egular\nGame Status: Complete\nHome Team: One Hit Wonders\nAway Team: Bump
 y Bumps\nHome Score: 1\nAway Score: 2
END:VEVENT
BEGIN:VEVENT
UID:14917936@ezleagues.ezfacility.com
DTSTAMP:20260426T034050Z
CREATED:20260426T034050Z
DTSTART:20230328T010000Z
DTEND:20230328T015000Z
LOCATION:Sand Court 2
CONTACT:
SUMMARY:That's Baller VS. Bumpy Bumps
DESCRIPTION:League Name: Monday Sand Co-ed 6's LB/C Spring 23\nGame Type: R
 egular\nGame Status: Complete\nHome Team: That's Baller\nAway Team: Bumpy 
 Bumps\nHome Score: 0\nAway Score: 3
END:VEVENT
BEGIN:VEVENT
UID:14917940@ezleagues.ezfacility.com
DTSTAMP:20260426T034050Z
CREATED:20260426T034050Z
DTSTART:20230403T232000Z
DTEND:20230404T001000Z
LOCATION:Sand Court 2
CONTACT:
SUMMARY:Oldies VS. Bumpy Bumps
DESCRIPTION:League Name: Monday Sand Co-ed 6's LB/C Spring 23\nGame Type: R
 egular\nGame Status: Complete\nHome Team: Oldies\nAway Team: Bumpy Bumps\n
 Home Score: 3\nAway Score: 0
END:VEVENT
BEGIN:VEVENT
UID:14917945@ezleagues.ezfacility.com
DTSTAMP:20260426T034050Z
CREATED:20260426T034050Z
DTSTART:20230410T223000Z
DTEND:20230410T232000Z
LOCATION:Sand Court 2
CONTACT:
SUMMARY:Ace Holes VS. Bumpy Bumps
DESCRIPTION:League Name: Monday Sand Co-ed 6's LB/C Spring 23\nGame Type: R
 egular\nGame Status: Complete\nHome Team: Ace Holes\nAway Team: Bumpy Bump
 s\nHome Score: 0\nAway Score: 3
END:VEVENT
BEGIN:VEVENT
UID:15023424@ezleagues.ezfacility.com
DTSTAMP:20260426T034050Z
CREATED:20260426T034050Z
DTSTART:20230417T231500Z
DTEND:20230418T000000Z
LOCATION:Sand Court 2
CONTACT:
SUMMARY:Bumpy Bumps VS. That's Baller
DESCRIPTION:League Name: Monday Sand Co-ed 6's LB/C Spring 23\nGame Type: P
 ostseason\nGame Status: Complete\nHome Team: Bumpy Bumps\nAway Team: That'
 s Baller\nHome Score: 2\nAway Score: 0
END:VEVENT
BEGIN:VEVENT
UID:15032257@ezleagues.ezfacility.com
DTSTAMP:20260426T034050Z
CREATED:20260426T034050Z
DTSTART:20230424T231500Z
DTEND:20230425T000000Z
LOCATION:Sand Court 2
CONTACT:
SUMMARY:Spikological Warfare VS. Bumpy Bumps
DESCRIPTION:League Name: Monday Sand Co-ed 6's LB/C Spring 23\nGame Type: P
 ostseason\nGame Status: Complete\nHome Team: Spikological Warfare\nAway Te
 am: Bumpy Bumps\nHome Score: 1\nAway Score: 2
END:VEVENT
BEGIN:VEVENT
UID:15032259@ezleagues.ezfacility.com
DTSTAMP:20260426T034050Z
CREATED:20260426T034050Z
DTSTART:20230425T000000Z
DTEND:20230425T004500Z
LOCATION:Sand Court 2
CONTACT:
SUMMARY:Oldies VS. Bumpy Bumps
DESCRIPTION:League Name: Monday Sand Co-ed 6's LB/C Spring 23\nGame Type: P
 ostseason\nGame Status: Complete\nHome Team: Oldies\nAway Team: Bumpy Bump
 s\nHome Score: 2\nAway Score: 0
END:VEVENT
END:VCALENDAR
