BEGIN:VCALENDAR
VERSION:2.0
PRODID:-//EZFacility.com, Inc.//EZL 2.5.5.28621
BEGIN:VEVENT
UID:15046664@ezleagues.ezfacility.com
DTSTAMP:20260424T114438Z
CREATED:20260424T114438Z
DTSTART:20230506T193000Z
DTEND:20230506T213000Z
LOCATION:Legends Ballpark Field 2
CONTACT:
SUMMARY:Centercourt Makos VS. ITZ 12u Knights Black
DESCRIPTION:League Name: 2023 Show No Mercy 12u\nGame Type: Regular\nGame S
 tatus: Complete\nHome Team: Centercourt Makos\nAway Team: ITZ 12u Knights 
 Black\nHome Score: 1\nAway Score: 13
END:VEVENT
BEGIN:VEVENT
UID:15046667@ezleagues.ezfacility.com
DTSTAMP:20260424T114438Z
CREATED:20260424T114438Z
DTSTART:20230506T211500Z
DTEND:20230506T231500Z
LOCATION:Legends Ballpark Field 2
CONTACT:
SUMMARY:ITZ 12u Knights Black VS. PA Rebels 12U
DESCRIPTION:League Name: 2023 Show No Mercy 12u\nGame Type: Regular\nGame S
 tatus: Complete\nHome Team: ITZ 12u Knights Black\nAway Team: PA Rebels 12
 U\nHome Score: 2\nAway Score: 12
END:VEVENT
BEGIN:VEVENT
UID:15046775@ezleagues.ezfacility.com
DTSTAMP:20260424T114438Z
CREATED:20260424T114438Z
DTSTART:20230507T121500Z
DTEND:20230507T141500Z
LOCATION:Legends Ballpark Field 2
CONTACT:
SUMMARY:Ghost 215  VS. ITZ 12u Knights Black
DESCRIPTION:League Name: 2023 Show No Mercy 12u\nGame Type: Regular\nGame S
 tatus: Complete\nHome Team: Ghost 215 \nAway Team: ITZ 12u Knights Black\n
 Home Score: 0\nAway Score: 1
END:VEVENT
BEGIN:VEVENT
UID:15046778@ezleagues.ezfacility.com
DTSTAMP:20260424T114438Z
CREATED:20260424T114438Z
DTSTART:20230507T173000Z
DTEND:20230507T193000Z
LOCATION:Legends Ballpark Field 2
CONTACT:
SUMMARY:Marlton Chiefs VS. ITZ 12u Knights Black
DESCRIPTION:League Name: 2023 Show No Mercy 12u\nGame Type: Regular\nGame S
 tatus: Complete\nHome Team: Marlton Chiefs\nAway Team: ITZ 12u Knights Bla
 ck\nHome Score: 0\nAway Score: 1
END:VEVENT
BEGIN:VEVENT
UID:15046780@ezleagues.ezfacility.com
DTSTAMP:20260424T114438Z
CREATED:20260424T114438Z
DTSTART:20230507T210000Z
DTEND:20230507T230000Z
LOCATION:Legends Ballpark Field 2
CONTACT:
SUMMARY:DV Senators VS. ITZ 12u Knights Black
DESCRIPTION:League Name: 2023 Show No Mercy 12u\nGame Type: Regular\nGame S
 tatus: Complete\nHome Team: DV Senators\nAway Team: ITZ 12u Knights Black\
 nHome Score: 10\nAway Score: 3
END:VEVENT
END:VCALENDAR
