BEGIN:VCALENDAR
VERSION:2.0
PRODID:-//EZFacility.com, Inc.//EZL 2.5.5.28621
BEGIN:VEVENT
UID:14927033@ezleagues.ezfacility.com
DTSTAMP:20260424T044409Z
CREATED:20260424T044409Z
DTSTART:20230218T180000Z
DTEND:20230218T190000Z
LOCATION:Turf 1
CONTACT:
SUMMARY:Cowboys VS. The Buccaneers
DESCRIPTION:League Name: K-2nd Grade Session 2 2023\nGame Type: Regular\nGa
 me Status: Complete\nHome Team: Cowboys\nAway Team: The Buccaneers\nHome S
 core: 25\nAway Score: 30
END:VEVENT
BEGIN:VEVENT
UID:14927101@ezleagues.ezfacility.com
DTSTAMP:20260424T044409Z
CREATED:20260424T044409Z
DTSTART:20230225T190000Z
DTEND:20230225T200000Z
LOCATION:Turf 1
CONTACT:
SUMMARY:Dolphins VS. Cowboys
DESCRIPTION:League Name: K-2nd Grade Session 2 2023\nGame Type: Regular\nGa
 me Status: Complete\nHome Team: Dolphins\nAway Team: Cowboys\nHome Score: 
 27\nAway Score: 10
END:VEVENT
BEGIN:VEVENT
UID:14935936@ezleagues.ezfacility.com
DTSTAMP:20260424T044409Z
CREATED:20260424T044409Z
DTSTART:20230311T180000Z
DTEND:20230311T190000Z
LOCATION:Turf 1
CONTACT:
SUMMARY:Jets VS. Cowboys
DESCRIPTION:League Name: K-2nd Grade Session 2 2023\nGame Type: Regular\nGa
 me Status: Complete\nHome Team: Jets\nAway Team: Cowboys\nHome Score: 12\n
 Away Score: 38
END:VEVENT
BEGIN:VEVENT
UID:14927235@ezleagues.ezfacility.com
DTSTAMP:20260424T044409Z
CREATED:20260424T044409Z
DTSTART:20230318T190000Z
DTEND:20230318T200000Z
LOCATION:Turf 1
CONTACT:
SUMMARY:Cowboys VS. Patriots 
DESCRIPTION:League Name: K-2nd Grade Session 2 2023\nGame Type: Regular\nGa
 me Status: Complete\nHome Team: Cowboys\nAway Team: Patriots \nHome Score:
  24\nAway Score: 39
END:VEVENT
BEGIN:VEVENT
UID:14927301@ezleagues.ezfacility.com
DTSTAMP:20260424T044409Z
CREATED:20260424T044409Z
DTSTART:20230325T180000Z
DTEND:20230325T190000Z
LOCATION:Turf 1
CONTACT:
SUMMARY:Chiefs VS. Cowboys
DESCRIPTION:League Name: K-2nd Grade Session 2 2023\nGame Type: Regular\nGa
 me Status: Complete\nHome Team: Chiefs\nAway Team: Cowboys\nHome Score: 32
 \nAway Score: 25
END:VEVENT
BEGIN:VEVENT
UID:14935979@ezleagues.ezfacility.com
DTSTAMP:20260424T044409Z
CREATED:20260424T044409Z
DTSTART:20230408T180000Z
DTEND:20230408T190000Z
LOCATION:Turf 1
CONTACT:
SUMMARY:Cowboys VS. Jets
DESCRIPTION:League Name: K-2nd Grade Session 2 2023\nGame Type: Regular\nGa
 me Status: Complete\nHome Team: Cowboys\nAway Team: Jets\nHome Score: 37\n
 Away Score: 30
END:VEVENT
BEGIN:VEVENT
UID:14935983@ezleagues.ezfacility.com
DTSTAMP:20260424T044409Z
CREATED:20260424T044409Z
DTSTART:20230415T170000Z
DTEND:20230415T180000Z
LOCATION:Turf 1
CONTACT:
SUMMARY:Chiefs VS. Cowboys
DESCRIPTION:League Name: K-2nd Grade Session 2 2023\nGame Type: Regular\nGa
 me Status: Complete\nHome Team: Chiefs\nAway Team: Cowboys\nHome Score: 13
 \nAway Score: 6
END:VEVENT
BEGIN:VEVENT
UID:14935986@ezleagues.ezfacility.com
DTSTAMP:20260424T044409Z
CREATED:20260424T044409Z
DTSTART:20230422T190000Z
DTEND:20230422T200000Z
LOCATION:Turf 1
CONTACT:
SUMMARY:Patriots  VS. Cowboys
DESCRIPTION:League Name: K-2nd Grade Session 2 2023\nGame Type: Regular\nGa
 me Status: Complete\nHome Team: Patriots \nAway Team: Cowboys\nHome Score:
  44\nAway Score: 12
END:VEVENT
BEGIN:VEVENT
UID:14974827@ezleagues.ezfacility.com
DTSTAMP:20260424T044409Z
CREATED:20260424T044409Z
DTSTART:20230429T180000Z
DTEND:20230429T190000Z
LOCATION:Turf 1
CONTACT:
SUMMARY:The Buccaneers VS. Cowboys
DESCRIPTION:League Name: K-2nd Grade Session 2 2023\nGame Type: Postseason\
 nGame Status: Complete\nHome Team: The Buccaneers\nAway Team: Cowboys\nHom
 e Score: 13\nAway Score: 19
END:VEVENT
BEGIN:VEVENT
UID:14974834@ezleagues.ezfacility.com
DTSTAMP:20260424T044409Z
CREATED:20260424T044409Z
DTSTART:20230513T170000Z
DTEND:20230513T180000Z
LOCATION:Turf 1
CONTACT:
SUMMARY:Dolphins VS. Cowboys
DESCRIPTION:League Name: K-2nd Grade Session 2 2023\nGame Type: Postseason\
 nGame Status: Complete\nHome Team: Dolphins\nAway Team: Cowboys\nHome Scor
 e: 20\nAway Score: 18
END:VEVENT
END:VCALENDAR
