BEGIN:VCALENDAR
VERSION:2.0
PRODID:-//EZFacility.com, Inc.//EZL 2.5.5.28621
BEGIN:VEVENT
UID:14928722@ezleagues.ezfacility.com
DTSTAMP:20260426T012558Z
CREATED:20260426T012558Z
DTSTART:20230223T231500Z
DTEND:20230224T000500Z
LOCATION:Vball Court 3
CONTACT:
SUMMARY:Empire Spikes Back VS. Bag of Richards
DESCRIPTION:League Name: Coed 6s Thursday LB Gold\nGame Type: Regular\nGame
  Status: Complete\nHome Team: Empire Spikes Back\nAway Team: Bag of Richar
 ds\nHome Score: 1\nAway Score: 2
END:VEVENT
BEGIN:VEVENT
UID:14928728@ezleagues.ezfacility.com
DTSTAMP:20260426T012558Z
CREATED:20260426T012558Z
DTSTART:20230303T005500Z
DTEND:20230303T014500Z
LOCATION:Vball Court 3
CONTACT:
SUMMARY:That’s What She Set VS. Empire Spikes Back
DESCRIPTION:League Name: Coed 6s Thursday LB Gold\nGame Type: Regular\nGame
  Status: Complete\nHome Team: That’s What She Set\nAway Team: Empire Spi
 kes Back\nHome Score: 2\nAway Score: 1
END:VEVENT
BEGIN:VEVENT
UID:14928740@ezleagues.ezfacility.com
DTSTAMP:20260426T012558Z
CREATED:20260426T012558Z
DTSTART:20230316T230500Z
DTEND:20230316T235500Z
LOCATION:Vball Court 3
CONTACT:
SUMMARY:Spiked Lee VS. Empire Spikes Back
DESCRIPTION:League Name: Coed 6s Thursday LB Gold\nGame Type: Regular\nGame
  Status: Complete\nHome Team: Spiked Lee\nAway Team: Empire Spikes Back\nH
 ome Score: 3\nAway Score: 0
END:VEVENT
BEGIN:VEVENT
UID:14928741@ezleagues.ezfacility.com
DTSTAMP:20260426T012558Z
CREATED:20260426T012558Z
DTSTART:20230324T004500Z
DTEND:20230324T013500Z
LOCATION:Vball Court 3
CONTACT:
SUMMARY:Empire Spikes Back VS. Chew Blockas
DESCRIPTION:League Name: Coed 6s Thursday LB Gold\nGame Type: Regular\nGame
  Status: Complete\nHome Team: Empire Spikes Back\nAway Team: Chew Blockas\
 nHome Score: 3\nAway Score: 0
END:VEVENT
BEGIN:VEVENT
UID:14928750@ezleagues.ezfacility.com
DTSTAMP:20260426T012558Z
CREATED:20260426T012558Z
DTSTART:20230331T004500Z
DTEND:20230331T013500Z
LOCATION:Vball Court 3
CONTACT:
SUMMARY:Empire Spikes Back VS. Side Out Of Shape
DESCRIPTION:League Name: Coed 6s Thursday LB Gold\nGame Type: Regular\nGame
  Status: Complete\nHome Team: Empire Spikes Back\nAway Team: Side Out Of S
 hape\nHome Score: 1\nAway Score: 2
END:VEVENT
BEGIN:VEVENT
UID:14928754@ezleagues.ezfacility.com
DTSTAMP:20260426T012558Z
CREATED:20260426T012558Z
DTSTART:20230406T230500Z
DTEND:20230406T235500Z
LOCATION:Vball Court 3
CONTACT:
SUMMARY:We're OK VS. Empire Spikes Back
DESCRIPTION:League Name: Coed 6s Thursday LB Gold\nGame Type: Regular\nGame
  Status: Complete\nHome Team: We're OK\nAway Team: Empire Spikes Back\nHom
 e Score: 3\nAway Score: 0
END:VEVENT
BEGIN:VEVENT
UID:14928758@ezleagues.ezfacility.com
DTSTAMP:20260426T012558Z
CREATED:20260426T012558Z
DTSTART:20230414T004500Z
DTEND:20230414T013500Z
LOCATION:Vball Court 3
CONTACT:
SUMMARY:Empire Spikes Back VS. The Hangovers
DESCRIPTION:League Name: Coed 6s Thursday LB Gold\nGame Type: Regular\nGame
  Status: Complete\nHome Team: Empire Spikes Back\nAway Team: The Hangovers
 \nHome Score: 1\nAway Score: 2
END:VEVENT
BEGIN:VEVENT
UID:14928762@ezleagues.ezfacility.com
DTSTAMP:20260426T012558Z
CREATED:20260426T012558Z
DTSTART:20230420T230500Z
DTEND:20230420T235500Z
LOCATION:Vball Court 3
CONTACT:
SUMMARY:Oopsy Daisies VS. Empire Spikes Back
DESCRIPTION:League Name: Coed 6s Thursday LB Gold\nGame Type: Regular\nGame
  Status: Complete\nHome Team: Oopsy Daisies\nAway Team: Empire Spikes Back
 \nHome Score: 0\nAway Score: 3
END:VEVENT
BEGIN:VEVENT
UID:14928767@ezleagues.ezfacility.com
DTSTAMP:20260426T012558Z
CREATED:20260426T012558Z
DTSTART:20230428T013500Z
DTEND:20230428T022500Z
LOCATION:Vball Court 3
CONTACT:
SUMMARY:Bag of Richards VS. Empire Spikes Back
DESCRIPTION:League Name: Coed 6s Thursday LB Gold\nGame Type: Regular\nGame
  Status: Complete\nHome Team: Bag of Richards\nAway Team: Empire Spikes Ba
 ck\nHome Score: 2\nAway Score: 1
END:VEVENT
BEGIN:VEVENT
UID:15045694@ezleagues.ezfacility.com
DTSTAMP:20260426T012558Z
CREATED:20260426T012558Z
DTSTART:20230505T004500Z
DTEND:20230505T013500Z
LOCATION:Vball Court 3
CONTACT:
SUMMARY:Chew Blockas VS. Empire Spikes Back
DESCRIPTION:League Name: Coed 6s Thursday LB Gold\nGame Type: Postseason\nG
 ame Status: Pending\nHome Team: Chew Blockas\nAway Team: Empire Spikes Bac
 k\n
END:VEVENT
END:VCALENDAR
