BEGIN:VCALENDAR
VERSION:2.0
PRODID:-//EZFacility.com, Inc.//EZL 2.5.5.28621
BEGIN:VEVENT
UID:14931244@ezleagues.ezfacility.com
DTSTAMP:20260424T235956Z
CREATED:20260424T235956Z
DTSTART:20230225T005500Z
DTEND:20230225T014500Z
LOCATION:Vball Court 2
CONTACT:
SUMMARY:PIVOT! PIVOT! VS. Bigger and Better
DESCRIPTION:League Name: Coed 6s Friday B Pink\nGame Type: Regular\nGame St
 atus: Complete\nHome Team: PIVOT! PIVOT!\nAway Team: Bigger and Better\nHo
 me Score: 1\nAway Score: 2
END:VEVENT
BEGIN:VEVENT
UID:14931248@ezleagues.ezfacility.com
DTSTAMP:20260424T235956Z
CREATED:20260424T235956Z
DTSTART:20230304T014500Z
DTEND:20230304T023500Z
LOCATION:Vball Court 2
CONTACT:
SUMMARY:Anger Management VS. PIVOT! PIVOT!
DESCRIPTION:League Name: Coed 6s Friday B Pink\nGame Type: Regular\nGame St
 atus: Complete\nHome Team: Anger Management\nAway Team: PIVOT! PIVOT!\nHom
 e Score: 3\nAway Score: 0
END:VEVENT
BEGIN:VEVENT
UID:14931252@ezleagues.ezfacility.com
DTSTAMP:20260424T235956Z
CREATED:20260424T235956Z
DTSTART:20230311T005500Z
DTEND:20230311T014500Z
LOCATION:Vball Court 2
CONTACT:
SUMMARY:PIVOT! PIVOT! VS. The Mutts
DESCRIPTION:League Name: Coed 6s Friday B Pink\nGame Type: Regular\nGame St
 atus: Complete\nHome Team: PIVOT! PIVOT!\nAway Team: The Mutts\nHome Score
 : 1\nAway Score: 2
END:VEVENT
BEGIN:VEVENT
UID:14931265@ezleagues.ezfacility.com
DTSTAMP:20260424T235956Z
CREATED:20260424T235956Z
DTSTART:20230401T004500Z
DTEND:20230401T013500Z
LOCATION:Vball Court 2
CONTACT:
SUMMARY:The Droids You're Looking For VS. PIVOT! PIVOT!
DESCRIPTION:League Name: Coed 6s Friday B Pink\nGame Type: Regular\nGame St
 atus: Complete\nHome Team: The Droids You're Looking For\nAway Team: PIVOT
 ! PIVOT!\nHome Score: 0\nAway Score: 3
END:VEVENT
BEGIN:VEVENT
UID:14931269@ezleagues.ezfacility.com
DTSTAMP:20260424T235956Z
CREATED:20260424T235956Z
DTSTART:20230408T013500Z
DTEND:20230408T022500Z
LOCATION:Vball Court 2
CONTACT:
SUMMARY:Anger Management VS. PIVOT! PIVOT!
DESCRIPTION:League Name: Coed 6s Friday B Pink\nGame Type: Regular\nGame St
 atus: Complete\nHome Team: Anger Management\nAway Team: PIVOT! PIVOT!\nHom
 e Score: 2\nAway Score: 1
END:VEVENT
BEGIN:VEVENT
UID:14931272@ezleagues.ezfacility.com
DTSTAMP:20260424T235956Z
CREATED:20260424T235956Z
DTSTART:20230414T235500Z
DTEND:20230415T004500Z
LOCATION:Vball Court 2
CONTACT:
SUMMARY:Bigger and Better VS. PIVOT! PIVOT!
DESCRIPTION:League Name: Coed 6s Friday B Pink\nGame Type: Regular\nGame St
 atus: Complete\nHome Team: Bigger and Better\nAway Team: PIVOT! PIVOT!\nHo
 me Score: 3\nAway Score: 0
END:VEVENT
BEGIN:VEVENT
UID:14931276@ezleagues.ezfacility.com
DTSTAMP:20260424T235956Z
CREATED:20260424T235956Z
DTSTART:20230422T013500Z
DTEND:20230422T022500Z
LOCATION:Vball Court 2
CONTACT:
SUMMARY:Smf VS. PIVOT! PIVOT!
DESCRIPTION:League Name: Coed 6s Friday B Pink\nGame Type: Regular\nGame St
 atus: Complete\nHome Team: Smf\nAway Team: PIVOT! PIVOT!\nHome Score: 1\nA
 way Score: 2
END:VEVENT
BEGIN:VEVENT
UID:14931256@ezleagues.ezfacility.com
DTSTAMP:20260424T235956Z
CREATED:20260424T235956Z
DTSTART:20230429T013500Z
DTEND:20230429T022500Z
LOCATION:Vball Court 2
CONTACT:
SUMMARY:PIVOT! PIVOT! VS. Go Spike Urself
DESCRIPTION:League Name: Coed 6s Friday B Pink\nGame Type: Regular\nGame St
 atus: Complete\nHome Team: PIVOT! PIVOT!\nAway Team: Go Spike Urself\nHome
  Score: 1\nAway Score: 2
END:VEVENT
BEGIN:VEVENT
UID:14999277@ezleagues.ezfacility.com
DTSTAMP:20260424T235956Z
CREATED:20260424T235956Z
DTSTART:20230505T235500Z
DTEND:20230506T004500Z
LOCATION:Vball Court 2
CONTACT:
SUMMARY:PIVOT! PIVOT! VS. Calm Your Tips
DESCRIPTION:League Name: Coed 6s Friday B Pink\nGame Type: Regular\nGame St
 atus: Complete\nHome Team: PIVOT! PIVOT!\nAway Team: Calm Your Tips\nHome 
 Score: 0\nAway Score: 3
END:VEVENT
BEGIN:VEVENT
UID:15057590@ezleagues.ezfacility.com
DTSTAMP:20260424T235956Z
CREATED:20260424T235956Z
DTSTART:20230512T235500Z
DTEND:20230513T004500Z
LOCATION:Vball Court 1
CONTACT:
SUMMARY:Anger Management VS. PIVOT! PIVOT!
DESCRIPTION:League Name: Coed 6s Friday B Pink\nGame Type: Postseason\nGame
  Status: Pending\nHome Team: Anger Management\nAway Team: PIVOT! PIVOT!\n
END:VEVENT
END:VCALENDAR
