BEGIN:VCALENDAR
VERSION:2.0
PRODID:-//EZFacility.com, Inc.//EZL 2.5.5.28621
BEGIN:VEVENT
UID:14931247@ezleagues.ezfacility.com
DTSTAMP:20260421T031517Z
CREATED:20260421T031517Z
DTSTART:20230225T023500Z
DTEND:20230225T032500Z
LOCATION:Vball Court 2
CONTACT:
SUMMARY:The Mutts VS. Smf
DESCRIPTION:League Name: Coed 6s Friday B Pink\nGame Type: Regular\nGame St
 atus: Complete\nHome Team: The Mutts\nAway Team: Smf\nHome Score: 1\nAway 
 Score: 2
END:VEVENT
BEGIN:VEVENT
UID:14931249@ezleagues.ezfacility.com
DTSTAMP:20260421T031517Z
CREATED:20260421T031517Z
DTSTART:20230304T005500Z
DTEND:20230304T014500Z
LOCATION:Vball Court 2
CONTACT:
SUMMARY:Smf VS. Go Spike Urself
DESCRIPTION:League Name: Coed 6s Friday B Pink\nGame Type: Regular\nGame St
 atus: Complete\nHome Team: Smf\nAway Team: Go Spike Urself\nHome Score: 1\
 nAway Score: 2
END:VEVENT
BEGIN:VEVENT
UID:14931255@ezleagues.ezfacility.com
DTSTAMP:20260421T031517Z
CREATED:20260421T031517Z
DTSTART:20230311T014500Z
DTEND:20230311T023500Z
LOCATION:Vball Court 2
CONTACT:
SUMMARY:Calm Your Tips VS. Smf
DESCRIPTION:League Name: Coed 6s Friday B Pink\nGame Type: Regular\nGame St
 atus: Complete\nHome Team: Calm Your Tips\nAway Team: Smf\nHome Score: 1\n
 Away Score: 2
END:VEVENT
BEGIN:VEVENT
UID:14931262@ezleagues.ezfacility.com
DTSTAMP:20260421T031517Z
CREATED:20260421T031517Z
DTSTART:20230324T221500Z
DTEND:20230324T230500Z
LOCATION:Vball Court 1
CONTACT:
SUMMARY:Anger Management VS. Smf
DESCRIPTION:League Name: Coed 6s Friday B Pink\nGame Type: Regular\nGame St
 atus: Complete\nHome Team: Anger Management\nAway Team: Smf\nHome Score: 3
 \nAway Score: 0
END:VEVENT
BEGIN:VEVENT
UID:14931266@ezleagues.ezfacility.com
DTSTAMP:20260421T031517Z
CREATED:20260421T031517Z
DTSTART:20230331T221500Z
DTEND:20230331T230500Z
LOCATION:Vball Court 1
CONTACT:
SUMMARY:Smf VS. Bigger and Better
DESCRIPTION:League Name: Coed 6s Friday B Pink\nGame Type: Regular\nGame St
 atus: Complete\nHome Team: Smf\nAway Team: Bigger and Better\nHome Score: 
 1\nAway Score: 2
END:VEVENT
BEGIN:VEVENT
UID:14931275@ezleagues.ezfacility.com
DTSTAMP:20260421T031517Z
CREATED:20260421T031517Z
DTSTART:20230415T013500Z
DTEND:20230415T022500Z
LOCATION:Vball Court 2
CONTACT:
SUMMARY:Smf VS. The Mutts
DESCRIPTION:League Name: Coed 6s Friday B Pink\nGame Type: Regular\nGame St
 atus: Complete\nHome Team: Smf\nAway Team: The Mutts\nHome Score: 2\nAway 
 Score: 1
END:VEVENT
BEGIN:VEVENT
UID:14931277@ezleagues.ezfacility.com
DTSTAMP:20260421T031517Z
CREATED:20260421T031517Z
DTSTART:20230421T235500Z
DTEND:20230422T004500Z
LOCATION:Vball Court 2
CONTACT:
SUMMARY:Go Spike Urself VS. Smf
DESCRIPTION:League Name: Coed 6s Friday B Pink\nGame Type: Regular\nGame St
 atus: Complete\nHome Team: Go Spike Urself\nAway Team: Smf\nHome Score: 1\
 nAway Score: 2
END:VEVENT
BEGIN:VEVENT
UID:14931276@ezleagues.ezfacility.com
DTSTAMP:20260421T031517Z
CREATED:20260421T031517Z
DTSTART:20230422T013500Z
DTEND:20230422T022500Z
LOCATION:Vball Court 2
CONTACT:
SUMMARY:Smf VS. PIVOT! PIVOT!
DESCRIPTION:League Name: Coed 6s Friday B Pink\nGame Type: Regular\nGame St
 atus: Complete\nHome Team: Smf\nAway Team: PIVOT! PIVOT!\nHome Score: 1\nA
 way Score: 2
END:VEVENT
BEGIN:VEVENT
UID:14931258@ezleagues.ezfacility.com
DTSTAMP:20260421T031517Z
CREATED:20260421T031517Z
DTSTART:20230428T221500Z
DTEND:20230428T230500Z
LOCATION:Vball Court 1
CONTACT:
SUMMARY:The Droids You're Looking For VS. Smf
DESCRIPTION:League Name: Coed 6s Friday B Pink\nGame Type: Regular\nGame St
 atus: Complete\nHome Team: The Droids You're Looking For\nAway Team: Smf\n
 Home Score: 3\nAway Score: 0
END:VEVENT
BEGIN:VEVENT
UID:14998712@ezleagues.ezfacility.com
DTSTAMP:20260421T031517Z
CREATED:20260421T031517Z
DTSTART:20230505T221500Z
DTEND:20230505T230500Z
LOCATION:Vball Court 1
CONTACT:
SUMMARY:Anger Management VS. Smf
DESCRIPTION:League Name: Coed 6s Friday B Pink\nGame Type: Regular\nGame St
 atus: Complete\nHome Team: Anger Management\nAway Team: Smf\nHome Score: 2
 \nAway Score: 1
END:VEVENT
BEGIN:VEVENT
UID:15057591@ezleagues.ezfacility.com
DTSTAMP:20260421T031517Z
CREATED:20260421T031517Z
DTSTART:20230513T004500Z
DTEND:20230513T013500Z
LOCATION:Vball Court 1
CONTACT:
SUMMARY:Go Spike Urself VS. Smf
DESCRIPTION:League Name: Coed 6s Friday B Pink\nGame Type: Postseason\nGame
  Status: Pending\nHome Team: Go Spike Urself\nAway Team: Smf\n
END:VEVENT
END:VCALENDAR
