BEGIN:VCALENDAR
VERSION:2.0
PRODID:-//EZFacility.com, Inc.//EZL 2.5.5.28621
BEGIN:VEVENT
UID:14936683@ezleagues.ezfacility.com
DTSTAMP:20260421T025817Z
CREATED:20260421T025817Z
DTSTART:20230227T020000Z
DTEND:20230227T030000Z
LOCATION:Jessup Premier Field #1
CONTACT:
SUMMARY:Strikers VS. Spartan FC
DESCRIPTION:League Name: Sun Coed Open 1st div\nGame Type: Regular\nGame St
 atus: Complete\nHome Team: Strikers\nAway Team: Spartan FC\nHome Score: 9\
 nAway Score: 6
END:VEVENT
BEGIN:VEVENT
UID:14936697@ezleagues.ezfacility.com
DTSTAMP:20260421T025817Z
CREATED:20260421T025817Z
DTSTART:20230306T010000Z
DTEND:20230306T020000Z
LOCATION:Jessup Premier Field #2
CONTACT:
SUMMARY:Strikers VS. The Comeback
DESCRIPTION:League Name: Sun Coed Open 1st div\nGame Type: Regular\nGame St
 atus: Complete\nHome Team: Strikers\nAway Team: The Comeback\nHome Score: 
 4\nAway Score: 3
END:VEVENT
BEGIN:VEVENT
UID:14936711@ezleagues.ezfacility.com
DTSTAMP:20260421T025817Z
CREATED:20260421T025817Z
DTSTART:20230313T000000Z
DTEND:20230313T010000Z
LOCATION:Jessup Premier Field #1
CONTACT:
SUMMARY:Strikers VS. Bishop Sycamore
DESCRIPTION:League Name: Sun Coed Open 1st div\nGame Type: Regular\nGame St
 atus: Complete\nHome Team: Strikers\nAway Team: Bishop Sycamore\nHome Scor
 e: 5\nAway Score: 4
END:VEVENT
BEGIN:VEVENT
UID:14936725@ezleagues.ezfacility.com
DTSTAMP:20260421T025817Z
CREATED:20260421T025817Z
DTSTART:20230320T020000Z
DTEND:20230320T030000Z
LOCATION:Jessup Premier Field #1
CONTACT:
SUMMARY:Strikers VS. Guarani
DESCRIPTION:League Name: Sun Coed Open 1st div\nGame Type: Regular\nGame St
 atus: Complete\nHome Team: Strikers\nAway Team: Guarani\nHome Score: 6\nAw
 ay Score: 5
END:VEVENT
BEGIN:VEVENT
UID:14936739@ezleagues.ezfacility.com
DTSTAMP:20260421T025817Z
CREATED:20260421T025817Z
DTSTART:20230326T070000Z
DTEND:20230326T080000Z
LOCATION:Jessup Premier Field #2
CONTACT:
SUMMARY:Trivets VS. Strikers
DESCRIPTION:League Name: Sun Coed Open 1st div\nGame Type: Regular\nGame St
 atus: Complete\nHome Team: Trivets\nAway Team: Strikers\nHome Score: 0\nAw
 ay Score: 3
END:VEVENT
BEGIN:VEVENT
UID:14936753@ezleagues.ezfacility.com
DTSTAMP:20260421T025817Z
CREATED:20260421T025817Z
DTSTART:20230403T000000Z
DTEND:20230403T010000Z
LOCATION:Jessup Premier Field #2
CONTACT:
SUMMARY:Spartan FC VS. Strikers
DESCRIPTION:League Name: Sun Coed Open 1st div\nGame Type: Regular\nGame St
 atus: Complete\nHome Team: Spartan FC\nAway Team: Strikers\nHome Score: 5\
 nAway Score: 10
END:VEVENT
BEGIN:VEVENT
UID:14936767@ezleagues.ezfacility.com
DTSTAMP:20260421T025817Z
CREATED:20260421T025817Z
DTSTART:20230417T010000Z
DTEND:20230417T020000Z
LOCATION:Jessup Premier Field #1
CONTACT:
SUMMARY:The Comeback VS. Strikers
DESCRIPTION:League Name: Sun Coed Open 1st div\nGame Type: Regular\nGame St
 atus: Complete\nHome Team: The Comeback\nAway Team: Strikers\nHome Score: 
 4\nAway Score: 9
END:VEVENT
BEGIN:VEVENT
UID:15035082@ezleagues.ezfacility.com
DTSTAMP:20260421T025817Z
CREATED:20260421T025817Z
DTSTART:20230424T000000Z
DTEND:20230424T010000Z
LOCATION:Jessup Premier Field #1
CONTACT:
SUMMARY:Strikers VS. Guarani
DESCRIPTION:League Name: Sun Coed Open 1st div\nGame Type: Regular\nGame St
 atus: Complete\nHome Team: Strikers\nAway Team: Guarani\nHome Score: 2\nAw
 ay Score: 4
END:VEVENT
BEGIN:VEVENT
UID:15041812@ezleagues.ezfacility.com
DTSTAMP:20260421T025817Z
CREATED:20260421T025817Z
DTSTART:20230430T230000Z
DTEND:20230501T000000Z
LOCATION:Jessup Premier Field #2
CONTACT:
SUMMARY:Strikers VS. The Comeback
DESCRIPTION:League Name: Sun Coed Open 1st div\nGame Type: Regular\nGame St
 atus: Complete\nHome Team: Strikers\nAway Team: The Comeback\nHome Score: 
 7\nAway Score: 7
END:VEVENT
END:VCALENDAR
