BEGIN:VCALENDAR
VERSION:2.0
PRODID:-//EZFacility.com, Inc.//EZL 2.5.5.28621
BEGIN:VEVENT
UID:15045618@ezleagues.ezfacility.com
DTSTAMP:20260420T235538Z
CREATED:20260420T235538Z
DTSTART:20230506T153000Z
DTEND:20230506T170000Z
LOCATION:Legends Ballpark Field 4 
CONTACT:
SUMMARY:SC Bulldogs 10U Day VS. Northeast Ghost 
DESCRIPTION:League Name: 2023 Show No Mercy 10u\nGame Type: Regular\nGame S
 tatus: Complete\nHome Team: SC Bulldogs 10U Day\nAway Team: Northeast Ghos
 t \nHome Score: 10\nAway Score: 0
END:VEVENT
BEGIN:VEVENT
UID:15045620@ezleagues.ezfacility.com
DTSTAMP:20260420T235538Z
CREATED:20260420T235538Z
DTSTART:20230506T190000Z
DTEND:20230506T203000Z
LOCATION:Legends Ballpark Field 4 
CONTACT:
SUMMARY:Ocean Surge Elite VS. SC Bulldogs 10U Day
DESCRIPTION:League Name: 2023 Show No Mercy 10u\nGame Type: Regular\nGame S
 tatus: Complete\nHome Team: Ocean Surge Elite\nAway Team: SC Bulldogs 10U 
 Day\nHome Score: 6\nAway Score: 3
END:VEVENT
BEGIN:VEVENT
UID:15045610@ezleagues.ezfacility.com
DTSTAMP:20260420T235538Z
CREATED:20260420T235538Z
DTSTART:20230507T134500Z
DTEND:20230507T151500Z
LOCATION:Legends Ballpark Field 4 
CONTACT:
SUMMARY:SC Bulldogs 10U Day VS. Jersey Nukes
DESCRIPTION:League Name: 2023 Show No Mercy 10u\nGame Type: Regular\nGame S
 tatus: Complete\nHome Team: SC Bulldogs 10U Day\nAway Team: Jersey Nukes\n
 Home Score: 12\nAway Score: 0
END:VEVENT
BEGIN:VEVENT
UID:15045613@ezleagues.ezfacility.com
DTSTAMP:20260420T235538Z
CREATED:20260420T235538Z
DTSTART:20230507T190000Z
DTEND:20230507T203000Z
LOCATION:Legends Ballpark Field 4 
CONTACT:
SUMMARY:SC Bulldogs 10U Day VS. MA Show Black
DESCRIPTION:League Name: 2023 Show No Mercy 10u\nGame Type: Regular\nGame S
 tatus: Pending\nHome Team: SC Bulldogs 10U Day\nAway Team: MA Show Black\n
END:VEVENT
BEGIN:VEVENT
UID:15045614@ezleagues.ezfacility.com
DTSTAMP:20260420T235538Z
CREATED:20260420T235538Z
DTSTART:20230507T210000Z
DTEND:20230507T223000Z
LOCATION:Legends Ballpark Field 4 
CONTACT:
SUMMARY:Ocean Surge Elite VS. SC Bulldogs 10U Day
DESCRIPTION:League Name: 2023 Show No Mercy 10u\nGame Type: Regular\nGame S
 tatus: Pending\nHome Team: Ocean Surge Elite\nAway Team: SC Bulldogs 10U D
 ay\n
END:VEVENT
END:VCALENDAR
