BEGIN:VCALENDAR
VERSION:2.0
PRODID:-//EZFacility.com, Inc.//EZL 2.5.5.28621
BEGIN:VEVENT
UID:14951104@ezleagues.ezfacility.com
DTSTAMP:20260424T043940Z
CREATED:20260424T043940Z
DTSTART:20230308T030000Z
DTEND:20230308T040000Z
LOCATION:Bridgeville RollerPlex
CONTACT:
SUMMARY:Muckers VS. Knights
DESCRIPTION:League Name: Spring Puck (DS 2B)  Monday/Tuesday/Thurs/ 2023\nG
 ame Type: Regular\nGame Status: Complete\nHome Team: Muckers\nAway Team: K
 nights\nHome Score: 13\nAway Score: 8
END:VEVENT
BEGIN:VEVENT
UID:14951110@ezleagues.ezfacility.com
DTSTAMP:20260424T043940Z
CREATED:20260424T043940Z
DTSTART:20230315T020000Z
DTEND:20230315T030000Z
LOCATION:Bridgeville RollerPlex
CONTACT:
SUMMARY:Knights VS. Moose Hunt Harley
DESCRIPTION:League Name: Spring Puck (DS 2B)  Monday/Tuesday/Thurs/ 2023\nG
 ame Type: Regular\nGame Status: Complete\nHome Team: Knights\nAway Team: M
 oose Hunt Harley\nHome Score: 3\nAway Score: 5
END:VEVENT
BEGIN:VEVENT
UID:14951115@ezleagues.ezfacility.com
DTSTAMP:20260424T043940Z
CREATED:20260424T043940Z
DTSTART:20230322T030000Z
DTEND:20230322T040000Z
LOCATION:Bridgeville RollerPlex
CONTACT:
SUMMARY:Jackelopes VS. Knights
DESCRIPTION:League Name: Spring Puck (DS 2B)  Monday/Tuesday/Thurs/ 2023\nG
 ame Type: Regular\nGame Status: Complete\nHome Team: Jackelopes\nAway Team
 : Knights\nHome Score: 5\nAway Score: 8
END:VEVENT
BEGIN:VEVENT
UID:14951119@ezleagues.ezfacility.com
DTSTAMP:20260424T043940Z
CREATED:20260424T043940Z
DTSTART:20230328T230000Z
DTEND:20230329T000000Z
LOCATION:Bridgeville RollerPlex
CONTACT:
SUMMARY:Dementors VS. Knights
DESCRIPTION:League Name: Spring Puck (DS 2B)  Monday/Tuesday/Thurs/ 2023\nG
 ame Type: Regular\nGame Status: Complete\nHome Team: Dementors\nAway Team:
  Knights\nHome Score: 7\nAway Score: 4
END:VEVENT
BEGIN:VEVENT
UID:14951123@ezleagues.ezfacility.com
DTSTAMP:20260424T043940Z
CREATED:20260424T043940Z
DTSTART:20230404T030000Z
DTEND:20230404T040000Z
LOCATION:Bridgeville RollerPlex
CONTACT:
SUMMARY:Moneyshot VS. Knights
DESCRIPTION:League Name: Spring Puck (DS 2B)  Monday/Tuesday/Thurs/ 2023\nG
 ame Type: Regular\nGame Status: Complete\nHome Team: Moneyshot\nAway Team:
  Knights\nHome Score: 9\nAway Score: 5
END:VEVENT
BEGIN:VEVENT
UID:14951127@ezleagues.ezfacility.com
DTSTAMP:20260424T043940Z
CREATED:20260424T043940Z
DTSTART:20230411T010000Z
DTEND:20230411T020000Z
LOCATION:Bridgeville RollerPlex
CONTACT:
SUMMARY:North Kariya VS. Knights
DESCRIPTION:League Name: Spring Puck (DS 2B)  Monday/Tuesday/Thurs/ 2023\nG
 ame Type: Regular\nGame Status: Complete\nHome Team: North Kariya\nAway Te
 am: Knights\nHome Score: 7\nAway Score: 5
END:VEVENT
BEGIN:VEVENT
UID:14951131@ezleagues.ezfacility.com
DTSTAMP:20260424T043940Z
CREATED:20260424T043940Z
DTSTART:20230418T000000Z
DTEND:20230418T010000Z
LOCATION:Bridgeville RollerPlex
CONTACT:
SUMMARY:Knights VS. Anvil of Crom
DESCRIPTION:League Name: Spring Puck (DS 2B)  Monday/Tuesday/Thurs/ 2023\nG
 ame Type: Regular\nGame Status: Complete\nHome Team: Knights\nAway Team: A
 nvil of Crom\nHome Score: 4\nAway Score: 3
END:VEVENT
BEGIN:VEVENT
UID:14951137@ezleagues.ezfacility.com
DTSTAMP:20260424T043940Z
CREATED:20260424T043940Z
DTSTART:20230428T000000Z
DTEND:20230428T010000Z
LOCATION:Bridgeville RollerPlex
CONTACT:
SUMMARY:Knights VS. Cryophobics
DESCRIPTION:League Name: Spring Puck (DS 2B)  Monday/Tuesday/Thurs/ 2023\nG
 ame Type: Regular\nGame Status: Complete\nHome Team: Knights\nAway Team: C
 ryophobics\nHome Score: 5\nAway Score: 6
END:VEVENT
BEGIN:VEVENT
UID:14951143@ezleagues.ezfacility.com
DTSTAMP:20260424T043940Z
CREATED:20260424T043940Z
DTSTART:20230502T010000Z
DTEND:20230502T020000Z
LOCATION:Bridgeville RollerPlex
CONTACT:
SUMMARY:Knights VS. Jazzy J The Groove Crew
DESCRIPTION:League Name: Spring Puck (DS 2B)  Monday/Tuesday/Thurs/ 2023\nG
 ame Type: Regular\nGame Status: Complete\nHome Team: Knights\nAway Team: J
 azzy J The Groove Crew\nHome Score: 7\nAway Score: 3
END:VEVENT
BEGIN:VEVENT
UID:14951149@ezleagues.ezfacility.com
DTSTAMP:20260424T043940Z
CREATED:20260424T043940Z
DTSTART:20230510T000000Z
DTEND:20230510T010000Z
LOCATION:Bridgeville RollerPlex
CONTACT:
SUMMARY:Knights VS. Muckers
DESCRIPTION:League Name: Spring Puck (DS 2B)  Monday/Tuesday/Thurs/ 2023\nG
 ame Type: Regular\nGame Status: Complete\nHome Team: Knights\nAway Team: M
 uckers\nHome Score: 3\nAway Score: 1
END:VEVENT
BEGIN:VEVENT
UID:15064806@ezleagues.ezfacility.com
DTSTAMP:20260424T043940Z
CREATED:20260424T043940Z
DTSTART:20230516T030000Z
DTEND:20230516T040000Z
LOCATION:Bridgeville RollerPlex
CONTACT:
SUMMARY:Jackelopes VS. Knights
DESCRIPTION:League Name: Spring Puck (DS 2B)  Monday/Tuesday/Thurs/ 2023\nG
 ame Type: Postseason\nGame Status: Complete\nHome Team: Jackelopes\nAway T
 eam: Knights\nHome Score: 4\nAway Score: 6
END:VEVENT
BEGIN:VEVENT
UID:15064808@ezleagues.ezfacility.com
DTSTAMP:20260424T043940Z
CREATED:20260424T043940Z
DTSTART:20230523T010000Z
DTEND:20230523T020000Z
LOCATION:Bridgeville RollerPlex
CONTACT:
SUMMARY:Muckers VS. Knights
DESCRIPTION:League Name: Spring Puck (DS 2B)  Monday/Tuesday/Thurs/ 2023\nG
 ame Type: Postseason\nGame Status: Complete\nHome Team: Muckers\nAway Team
 : Knights\nHome Score: 5\nAway Score: 6
END:VEVENT
BEGIN:VEVENT
UID:15071191@ezleagues.ezfacility.com
DTSTAMP:20260424T043940Z
CREATED:20260424T043940Z
DTSTART:20230531T000000Z
DTEND:20230531T010000Z
LOCATION:Bridgeville RollerPlex
CONTACT:
SUMMARY:North Kariya VS. Knights
DESCRIPTION:League Name: Spring Puck (DS 2B)  Monday/Tuesday/Thurs/ 2023\nG
 ame Type: Postseason\nGame Status: Complete\nHome Team: North Kariya\nAway
  Team: Knights\nHome Score: 7\nAway Score: 6
END:VEVENT
END:VCALENDAR
