BEGIN:VCALENDAR
VERSION:2.0
PRODID:-//EZFacility.com, Inc.//EZL 2.5.5.28621
BEGIN:VEVENT
UID:14943453@ezleagues.ezfacility.com
DTSTAMP:20260424T044111Z
CREATED:20260424T044111Z
DTSTART:20230301T020000Z
DTEND:20230301T030000Z
LOCATION:Field #1
CONTACT:
SUMMARY:Farapo FC\, Alves VS. Narc Squad\, Narciso
DESCRIPTION:League Name: Coed B session 3 2023\nGame Type: Regular\nGame St
 atus: Complete\nHome Team: Farapo FC, Alves\nAway Team: Narc Squad, Narcis
 o\nHome Score: 6\nAway Score: 4
END:VEVENT
BEGIN:VEVENT
UID:14943457@ezleagues.ezfacility.com
DTSTAMP:20260424T044111Z
CREATED:20260424T044111Z
DTSTART:20230308T020000Z
DTEND:20230308T030000Z
LOCATION:Field #2
CONTACT:
SUMMARY:The Sicarios\,Pohl VS. Farapo FC\, Alves
DESCRIPTION:League Name: Coed B session 3 2023\nGame Type: Regular\nGame St
 atus: Complete\nHome Team: The Sicarios,Pohl\nAway Team: Farapo FC, Alves\
 nHome Score: 4\nAway Score: 6
END:VEVENT
BEGIN:VEVENT
UID:14943461@ezleagues.ezfacility.com
DTSTAMP:20260424T044111Z
CREATED:20260424T044111Z
DTSTART:20230315T020000Z
DTEND:20230315T030000Z
LOCATION:Field #1
CONTACT:
SUMMARY:Sugar Hill  Gang\, Grassa VS. Farapo FC\, Alves
DESCRIPTION:League Name: Coed B session 3 2023\nGame Type: Regular\nGame St
 atus: Rescheduled\nHome Team: Sugar Hill  Gang, Grassa\nAway Team: Farapo 
 FC, Alves\n
END:VEVENT
BEGIN:VEVENT
UID:14943465@ezleagues.ezfacility.com
DTSTAMP:20260424T044111Z
CREATED:20260424T044111Z
DTSTART:20230322T010000Z
DTEND:20230322T020000Z
LOCATION:Field #2
CONTACT:
SUMMARY:Garrett's Tattoo\, Cohen VS. Farapo FC\, Alves
DESCRIPTION:League Name: Coed B session 3 2023\nGame Type: Regular\nGame St
 atus: Complete\nHome Team: Garrett's Tattoo, Cohen\nAway Team: Farapo FC, 
 Alves\nHome Score: 1\nAway Score: 6
END:VEVENT
BEGIN:VEVENT
UID:14943469@ezleagues.ezfacility.com
DTSTAMP:20260424T044111Z
CREATED:20260424T044111Z
DTSTART:20230329T010000Z
DTEND:20230329T020000Z
LOCATION:Field #3
CONTACT:
SUMMARY:Purple People Eaters\, Fahey VS. Farapo FC\, Alves
DESCRIPTION:League Name: Coed B session 3 2023\nGame Type: Regular\nGame St
 atus: Complete\nHome Team: Purple People Eaters, Fahey\nAway Team: Farapo 
 FC, Alves\nHome Score: 1\nAway Score: 6
END:VEVENT
BEGIN:VEVENT
UID:14943473@ezleagues.ezfacility.com
DTSTAMP:20260424T044111Z
CREATED:20260424T044111Z
DTSTART:20230405T010000Z
DTEND:20230405T020000Z
LOCATION:Field #1
CONTACT:
SUMMARY:Farapo FC\, Alves VS. Spitting Llamas\, Connor
DESCRIPTION:League Name: Coed B session 3 2023\nGame Type: Regular\nGame St
 atus: Complete\nHome Team: Farapo FC, Alves\nAway Team: Spitting Llamas, C
 onnor\nHome Score: 7\nAway Score: 3
END:VEVENT
BEGIN:VEVENT
UID:14943477@ezleagues.ezfacility.com
DTSTAMP:20260424T044111Z
CREATED:20260424T044111Z
DTSTART:20230412T000000Z
DTEND:20230412T010000Z
LOCATION:Field #3
CONTACT:
SUMMARY:Farapo FC\, Alves VS. What's on Tap\, Brazao
DESCRIPTION:League Name: Coed B session 3 2023\nGame Type: Regular\nGame St
 atus: Complete\nHome Team: Farapo FC, Alves\nAway Team: What's on Tap, Bra
 zao\nHome Score: 2\nAway Score: 3
END:VEVENT
BEGIN:VEVENT
UID:15009063@ezleagues.ezfacility.com
DTSTAMP:20260424T044111Z
CREATED:20260424T044111Z
DTSTART:20230414T010000Z
DTEND:20230414T020000Z
LOCATION:Field #3
CONTACT:
SUMMARY:Sugar Hill  Gang\, Grassa VS. Farapo FC\, Alves
DESCRIPTION:League Name: Coed B session 3 2023\nGame Type: Regular\nGame St
 atus: Complete\nHome Team: Sugar Hill  Gang, Grassa\nAway Team: Farapo FC,
  Alves\nHome Score: 3\nAway Score: 5
END:VEVENT
BEGIN:VEVENT
UID:15004761@ezleagues.ezfacility.com
DTSTAMP:20260424T044111Z
CREATED:20260424T044111Z
DTSTART:20230419T000000Z
DTEND:20230419T010000Z
LOCATION:Field #2
CONTACT:
SUMMARY:Farapo FC\, Alves VS. Sugar Hill  Gang\, Grassa
DESCRIPTION:League Name: Coed B session 3 2023\nGame Type: Postseason\nGame
  Status: Complete\nHome Team: Farapo FC, Alves\nAway Team: Sugar Hill  Gan
 g, Grassa\nHome Score: 4\nAway Score: 1
END:VEVENT
END:VCALENDAR
