BEGIN:VCALENDAR
VERSION:2.0
PRODID:-//EZFacility.com, Inc.//EZL 2.5.5.28621
BEGIN:VEVENT
UID:14947620@ezleagues.ezfacility.com
DTSTAMP:20260426T015632Z
CREATED:20260426T015632Z
DTSTART:20230225T220000Z
DTEND:20230225T230000Z
LOCATION:Navy
CONTACT:
SUMMARY:Bulldogs (U15) VS. Track Team
DESCRIPTION:League Name: Boys HS Soccer Session 3\nGame Type: Regular\nGame
  Status: Complete\nHome Team: Bulldogs (U15)\nAway Team: Track Team\nHome 
 Score: 7\nAway Score: 8
END:VEVENT
BEGIN:VEVENT
UID:14947664@ezleagues.ezfacility.com
DTSTAMP:20260426T015632Z
CREATED:20260426T015632Z
DTSTART:20230304T220000Z
DTEND:20230304T230000Z
LOCATION:Navy
CONTACT:
SUMMARY:Badgers VS. Track Team
DESCRIPTION:League Name: Boys HS Soccer Session 3\nGame Type: Regular\nGame
  Status: Complete\nHome Team: Badgers\nAway Team: Track Team\nHome Score: 
 7\nAway Score: 14
END:VEVENT
BEGIN:VEVENT
UID:14947667@ezleagues.ezfacility.com
DTSTAMP:20260426T015632Z
CREATED:20260426T015632Z
DTSTART:20230311T210000Z
DTEND:20230311T220000Z
LOCATION:Navy
CONTACT:
SUMMARY:Bulldogs FC VS. Track Team
DESCRIPTION:League Name: Boys HS Soccer Session 3\nGame Type: Regular\nGame
  Status: Complete\nHome Team: Bulldogs FC\nAway Team: Track Team\nHome Sco
 re: 7\nAway Score: 11
END:VEVENT
BEGIN:VEVENT
UID:14947669@ezleagues.ezfacility.com
DTSTAMP:20260426T015632Z
CREATED:20260426T015632Z
DTSTART:20230318T200000Z
DTEND:20230318T210000Z
LOCATION:Navy
CONTACT:
SUMMARY:Panthers WFC VS. Track Team
DESCRIPTION:League Name: Boys HS Soccer Session 3\nGame Type: Regular\nGame
  Status: Complete\nHome Team: Panthers WFC\nAway Team: Track Team\nHome Sc
 ore: 6\nAway Score: 6
END:VEVENT
BEGIN:VEVENT
UID:14947671@ezleagues.ezfacility.com
DTSTAMP:20260426T015632Z
CREATED:20260426T015632Z
DTSTART:20230401T010000Z
DTEND:20230401T020000Z
LOCATION:Navy
CONTACT:
SUMMARY:Raps SC VS. Track Team
DESCRIPTION:League Name: Boys HS Soccer Session 3\nGame Type: Regular\nGame
  Status: Complete\nHome Team: Raps SC\nAway Team: Track Team\nHome Score: 
 8\nAway Score: 10
END:VEVENT
BEGIN:VEVENT
UID:14947676@ezleagues.ezfacility.com
DTSTAMP:20260426T015632Z
CREATED:20260426T015632Z
DTSTART:20230401T220000Z
DTEND:20230401T230000Z
LOCATION:Navy
CONTACT:
SUMMARY:Powerful Pink (U15) VS. Track Team
DESCRIPTION:League Name: Boys HS Soccer Session 3\nGame Type: Regular\nGame
  Status: Complete\nHome Team: Powerful Pink (U15)\nAway Team: Track Team\n
 Home Score: 8\nAway Score: 10
END:VEVENT
BEGIN:VEVENT
UID:14947679@ezleagues.ezfacility.com
DTSTAMP:20260426T015632Z
CREATED:20260426T015632Z
DTSTART:20230408T220000Z
DTEND:20230408T230000Z
LOCATION:Navy
CONTACT:
SUMMARY:WFC Wolves VS. Track Team
DESCRIPTION:League Name: Boys HS Soccer Session 3\nGame Type: Regular\nGame
  Status: Complete\nHome Team: WFC Wolves\nAway Team: Track Team\nHome Scor
 e: 5\nAway Score: 10
END:VEVENT
BEGIN:VEVENT
UID:14947681@ezleagues.ezfacility.com
DTSTAMP:20260426T015632Z
CREATED:20260426T015632Z
DTSTART:20230415T200000Z
DTEND:20230415T210000Z
LOCATION:Navy
CONTACT:
SUMMARY:Star Hill VS. Track Team
DESCRIPTION:League Name: Boys HS Soccer Session 3\nGame Type: Regular\nGame
  Status: Complete\nHome Team: Star Hill\nAway Team: Track Team\nHome Score
 : 0\nAway Score: 8
END:VEVENT
END:VCALENDAR
