BEGIN:VCALENDAR
VERSION:2.0
PRODID:-//EZFacility.com, Inc.//EZL 2.5.5.28621
BEGIN:VEVENT
UID:14971682@ezleagues.ezfacility.com
DTSTAMP:20260424T044244Z
CREATED:20260424T044244Z
DTSTART:20230318T150000Z
DTEND:20230318T160000Z
LOCATION:6v6 Field 1
CONTACT:
SUMMARY:Gators VS. TS Cubs
DESCRIPTION:League Name: 3rd Session 2023- Recreation- U10 Coed Boarded Blu
 e\nGame Type: Regular\nGame Status: Complete\nHome Team: Gators\nAway Team
 : TS Cubs\nHome Score: 2\nAway Score: 3
END:VEVENT
BEGIN:VEVENT
UID:14971690@ezleagues.ezfacility.com
DTSTAMP:20260424T044244Z
CREATED:20260424T044244Z
DTSTART:20230401T170000Z
DTEND:20230401T180000Z
LOCATION:6v6 Field 1
CONTACT:
SUMMARY:Gators VS. TS Tornadoes
DESCRIPTION:League Name: 3rd Session 2023- Recreation- U10 Coed Boarded Blu
 e\nGame Type: Regular\nGame Status: Complete\nHome Team: Gators\nAway Team
 : TS Tornadoes\nHome Score: 1\nAway Score: 1
END:VEVENT
BEGIN:VEVENT
UID:14971694@ezleagues.ezfacility.com
DTSTAMP:20260424T044244Z
CREATED:20260424T044244Z
DTSTART:20230408T180000Z
DTEND:20230408T190000Z
LOCATION:6v6 Field 1
CONTACT:
SUMMARY:St Mary's VS. Gators
DESCRIPTION:League Name: 3rd Session 2023- Recreation- U10 Coed Boarded Blu
 e\nGame Type: Regular\nGame Status: Complete\nHome Team: St Mary's\nAway T
 eam: Gators\nHome Score: 9\nAway Score: 3
END:VEVENT
BEGIN:VEVENT
UID:14971698@ezleagues.ezfacility.com
DTSTAMP:20260424T044244Z
CREATED:20260424T044244Z
DTSTART:20230415T150000Z
DTEND:20230415T160000Z
LOCATION:6v6 Field 1
CONTACT:
SUMMARY:TS Lions VS. Gators
DESCRIPTION:League Name: 3rd Session 2023- Recreation- U10 Coed Boarded Blu
 e\nGame Type: Regular\nGame Status: Complete\nHome Team: TS Lions\nAway Te
 am: Gators\nHome Score: 12\nAway Score: 6
END:VEVENT
BEGIN:VEVENT
UID:14971702@ezleagues.ezfacility.com
DTSTAMP:20260424T044244Z
CREATED:20260424T044244Z
DTSTART:20230416T153000Z
DTEND:20230416T163000Z
LOCATION:6v6 Field 2
CONTACT:
SUMMARY:TS Hurricanes VS. Gators
DESCRIPTION:League Name: 3rd Session 2023- Recreation- U10 Coed Boarded Blu
 e\nGame Type: Regular\nGame Status: Complete\nHome Team: TS Hurricanes\nAw
 ay Team: Gators\nHome Score: 2\nAway Score: 3
END:VEVENT
BEGIN:VEVENT
UID:14971686@ezleagues.ezfacility.com
DTSTAMP:20260424T044244Z
CREATED:20260424T044244Z
DTSTART:20230421T220000Z
DTEND:20230421T230000Z
LOCATION:6v6 Field 1
CONTACT:
SUMMARY:Gators VS. TS Kickers
DESCRIPTION:League Name: 3rd Session 2023- Recreation- U10 Coed Boarded Blu
 e\nGame Type: Regular\nGame Status: Complete\nHome Team: Gators\nAway Team
 : TS Kickers\nHome Score: 6\nAway Score: 0
END:VEVENT
END:VCALENDAR
