BEGIN:VCALENDAR
VERSION:2.0
PRODID:-//EZFacility.com, Inc.//EZL 2.5.5.28621
BEGIN:VEVENT
UID:14961142@ezleagues.ezfacility.com
DTSTAMP:20260423T154031Z
CREATED:20260423T154031Z
DTSTART:20230412T220000Z
DTEND:20230412T230000Z
LOCATION:Wooster Edgewood Middle School
CONTACT:
SUMMARY:Wooster VS. Wadsworth
DESCRIPTION:League Name: NOLL Spring Season 2023-Boys-Grades 7-8-Evolve-Blu
 e Division\nGame Type: Regular\nGame Status: Complete\nHome Team: Wooster\
 nAway Team: Wadsworth\nHome Score: 4\nAway Score: 10
END:VEVENT
BEGIN:VEVENT
UID:14961239@ezleagues.ezfacility.com
DTSTAMP:20260423T154031Z
CREATED:20260423T154031Z
DTSTART:20230416T173000Z
DTEND:20230416T183000Z
LOCATION:Wooster - Follis Field
CONTACT:
SUMMARY:Wooster VS. Revere
DESCRIPTION:League Name: NOLL Spring Season 2023-Boys-Grades 7-8-Evolve-Blu
 e Division\nGame Type: Regular\nGame Status: Complete\nHome Team: Wooster\
 nAway Team: Revere\nHome Score: 6\nAway Score: 7
END:VEVENT
BEGIN:VEVENT
UID:14890340@ezleagues.ezfacility.com
DTSTAMP:20260423T154031Z
CREATED:20260423T154031Z
DTSTART:20230426T210000Z
DTEND:20230426T220000Z
LOCATION:Wooster - Kean School
CONTACT:
SUMMARY:Wooster VS. Medina Team 1
DESCRIPTION:League Name: NOLL Spring Season 2023-Boys-Grades 7-8-Evolve-Blu
 e Division\nGame Type: Regular\nGame Status: Pending\nHome Team: Wooster\n
 Away Team: Medina Team 1\n
END:VEVENT
BEGIN:VEVENT
UID:14970819@ezleagues.ezfacility.com
DTSTAMP:20260423T154031Z
CREATED:20260423T154031Z
DTSTART:20230503T220000Z
DTEND:20230503T230000Z
LOCATION:Avon - Veterans Park
CONTACT:
SUMMARY:Avon Team 1 VS. Wooster
DESCRIPTION:League Name: NOLL Spring Season 2023-Boys-Grades 7-8-Evolve-Blu
 e Division\nGame Type: Regular\nGame Status: Pending\nHome Team: Avon Team
  1\nAway Team: Wooster\n
END:VEVENT
BEGIN:VEVENT
UID:14961200@ezleagues.ezfacility.com
DTSTAMP:20260423T154031Z
CREATED:20260423T154031Z
DTSTART:20230510T220000Z
DTEND:20230510T230000Z
LOCATION:Wooster - Kean School
CONTACT:
SUMMARY:Wooster VS. Highland
DESCRIPTION:League Name: NOLL Spring Season 2023-Boys-Grades 7-8-Evolve-Blu
 e Division\nGame Type: Regular\nGame Status: Pending\nHome Team: Wooster\n
 Away Team: Highland\n
END:VEVENT
BEGIN:VEVENT
UID:14890362@ezleagues.ezfacility.com
DTSTAMP:20260423T154031Z
CREATED:20260423T154031Z
DTSTART:20230517T220000Z
DTEND:20230517T230000Z
LOCATION:Westlake Lee Burneson Middle S
CONTACT:
SUMMARY:Westlake Team 1 VS. Wooster
DESCRIPTION:League Name: NOLL Spring Season 2023-Boys-Grades 7-8-Evolve-Blu
 e Division\nGame Type: Regular\nGame Status: Pending\nHome Team: Westlake 
 Team 1\nAway Team: Wooster\n
END:VEVENT
BEGIN:VEVENT
UID:14961198@ezleagues.ezfacility.com
DTSTAMP:20260423T154031Z
CREATED:20260423T154031Z
DTSTART:20230524T223000Z
DTEND:20230524T233000Z
LOCATION:Lakewood
CONTACT:
SUMMARY:Lakewood VS. Wooster
DESCRIPTION:League Name: NOLL Spring Season 2023-Boys-Grades 7-8-Evolve-Blu
 e Division\nGame Type: Regular\nGame Status: Pending\nHome Team: Lakewood\
 nAway Team: Wooster\n
END:VEVENT
END:VCALENDAR
