BEGIN:VCALENDAR
VERSION:2.0
PRODID:-//EZFacility.com, Inc.//EZL 2.5.5.28621
BEGIN:VEVENT
UID:14961126@ezleagues.ezfacility.com
DTSTAMP:20260422T140250Z
CREATED:20260422T140250Z
DTSTART:20230317T020000Z
DTEND:20230317T030000Z
LOCATION:West Field 
CONTACT:Adan
SUMMARY:Secret's Out VS. Guardians of the Goalaxy
DESCRIPTION:League Name: Spring 2023 Thursday Coed Margarita Division\nGame
  Type: Regular\nGame Status: Complete\nHome Team: Secret's Out\nAway Team:
  Guardians of the Goalaxy\nHome Score: 4\nAway Score: 2
END:VEVENT
BEGIN:VEVENT
UID:14961136@ezleagues.ezfacility.com
DTSTAMP:20260422T140250Z
CREATED:20260422T140250Z
DTSTART:20230407T010000Z
DTEND:20230407T020000Z
LOCATION:East Field
CONTACT:
SUMMARY:Guardians of the Goalaxy VS. Brewventus
DESCRIPTION:League Name: Spring 2023 Thursday Coed Margarita Division\nGame
  Type: Regular\nGame Status: Complete\nHome Team: Guardians of the Goalaxy
 \nAway Team: Brewventus\nHome Score: 3\nAway Score: 6
END:VEVENT
END:VCALENDAR
