BEGIN:VCALENDAR
VERSION:2.0
PRODID:-//EZFacility.com, Inc.//EZL 2.5.5.28621
BEGIN:VEVENT
UID:14961124@ezleagues.ezfacility.com
DTSTAMP:20260426T033642Z
CREATED:20260426T033642Z
DTSTART:20230310T020000Z
DTEND:20230310T030000Z
LOCATION:East Field
CONTACT:Kirstein
SUMMARY:Save Big Money VS. Brewventus
DESCRIPTION:League Name: Spring 2023 Thursday Coed Margarita Division\nGame
  Type: Regular\nGame Status: Complete\nHome Team: Save Big Money\nAway Tea
 m: Brewventus\nHome Score: 5\nAway Score: 10
END:VEVENT
BEGIN:VEVENT
UID:14961134@ezleagues.ezfacility.com
DTSTAMP:20260426T033642Z
CREATED:20260426T033642Z
DTSTART:20230331T010000Z
DTEND:20230331T020000Z
LOCATION:East Field
CONTACT:
SUMMARY:PinkPanthers VS. Save Big Money
DESCRIPTION:League Name: Spring 2023 Thursday Coed Margarita Division\nGame
  Type: Regular\nGame Status: Complete\nHome Team: PinkPanthers\nAway Team:
  Save Big Money\nHome Score: 12\nAway Score: 3
END:VEVENT
END:VCALENDAR
