BEGIN:VCALENDAR
VERSION:2.0
PRODID:-//EZFacility.com, Inc.//EZL 2.5.5.28621
BEGIN:VEVENT
UID:14967400@ezleagues.ezfacility.com
DTSTAMP:20260426T034045Z
CREATED:20260426T034045Z
DTSTART:20230311T145000Z
DTEND:20230311T151500Z
LOCATION:Badminton 1
CONTACT:
SUMMARY:Devender Ranabothu VS. Ziqi Yang
DESCRIPTION:League Name: 2023 Michigan Winter Games - Men's Singles\nGame T
 ype: Regular\nGame Status: Complete\nHome Team: Devender Ranabothu\nAway T
 eam: Ziqi Yang\nHome Score: 2\nAway Score: 0
END:VEVENT
BEGIN:VEVENT
UID:14967416@ezleagues.ezfacility.com
DTSTAMP:20260426T034045Z
CREATED:20260426T034045Z
DTSTART:20230311T160500Z
DTEND:20230311T163000Z
LOCATION:Badminton 2
CONTACT:
SUMMARY:Ziqi Yang VS. Harish Krishnan
DESCRIPTION:League Name: 2023 Michigan Winter Games - Men's Singles\nGame T
 ype: Regular\nGame Status: Pending\nHome Team: Ziqi Yang\nAway Team: Haris
 h Krishnan\n
END:VEVENT
BEGIN:VEVENT
UID:14967425@ezleagues.ezfacility.com
DTSTAMP:20260426T034045Z
CREATED:20260426T034045Z
DTSTART:20230311T165500Z
DTEND:20230311T172000Z
LOCATION:Badminton 7
CONTACT:
SUMMARY:Ziqi Yang VS. Joshua La
DESCRIPTION:League Name: 2023 Michigan Winter Games - Men's Singles\nGame T
 ype: Regular\nGame Status: Complete\nHome Team: Ziqi Yang\nAway Team: Josh
 ua La\nHome Score: 2\nAway Score: 0
END:VEVENT
BEGIN:VEVENT
UID:14967434@ezleagues.ezfacility.com
DTSTAMP:20260426T034045Z
CREATED:20260426T034045Z
DTSTART:20230311T202500Z
DTEND:20230311T205000Z
LOCATION:Badminton 8
CONTACT:
SUMMARY:Ziqi Yang VS. Kah Fei Loo
DESCRIPTION:League Name: 2023 Michigan Winter Games - Men's Singles\nGame T
 ype: Regular\nGame Status: Complete\nHome Team: Ziqi Yang\nAway Team: Kah 
 Fei Loo\nHome Score: 0\nAway Score: 2
END:VEVENT
END:VCALENDAR
