BEGIN:VCALENDAR
VERSION:2.0
PRODID:-//EZFacility.com, Inc.//EZL 2.5.5.28621
BEGIN:VEVENT
UID:14973724@ezleagues.ezfacility.com
DTSTAMP:20260426T034817Z
CREATED:20260426T034817Z
DTSTART:20230319T230000Z
DTEND:20230320T000000Z
LOCATION:JCC Great Neck Court 1
CONTACT:
SUMMARY:Suns VS. Knicks
DESCRIPTION:League Name: JCC Mens League (18-30) Spring 2023 \nGame Type: R
 egular\nGame Status: Complete\nHome Team: Suns\nAway Team: Knicks\nHome Sc
 ore: 70\nAway Score: 62
END:VEVENT
BEGIN:VEVENT
UID:14973884@ezleagues.ezfacility.com
DTSTAMP:20260426T034817Z
CREATED:20260426T034817Z
DTSTART:20230326T223000Z
DTEND:20230326T233000Z
LOCATION:JCC Great Neck Court 2
CONTACT:
SUMMARY:Suns VS. Debatables
DESCRIPTION:League Name: JCC Mens League (18-30) Spring 2023 \nGame Type: R
 egular\nGame Status: Complete\nHome Team: Suns\nAway Team: Debatables\nHom
 e Score: 61\nAway Score: 59
END:VEVENT
BEGIN:VEVENT
UID:14973899@ezleagues.ezfacility.com
DTSTAMP:20260426T034817Z
CREATED:20260426T034817Z
DTSTART:20230501T003000Z
DTEND:20230501T013000Z
LOCATION:JCC Great Neck Court 2
CONTACT:
SUMMARY:Suns VS. Lakers
DESCRIPTION:League Name: JCC Mens League (18-30) Spring 2023 \nGame Type: R
 egular\nGame Status: Complete\nHome Team: Suns\nAway Team: Lakers\nHome Sc
 ore: 55\nAway Score: 48
END:VEVENT
BEGIN:VEVENT
UID:14973889@ezleagues.ezfacility.com
DTSTAMP:20260426T034817Z
CREATED:20260426T034817Z
DTSTART:20230504T234500Z
DTEND:20230505T004500Z
LOCATION:JCC Great Neck Court 1
CONTACT:
SUMMARY:Suns VS. Muzhiks
DESCRIPTION:League Name: JCC Mens League (18-30) Spring 2023 \nGame Type: R
 egular\nGame Status: Complete\nHome Team: Suns\nAway Team: Muzhiks\nHome S
 core: 38\nAway Score: 49
END:VEVENT
BEGIN:VEVENT
UID:14973903@ezleagues.ezfacility.com
DTSTAMP:20260426T034817Z
CREATED:20260426T034817Z
DTSTART:20230507T230000Z
DTEND:20230508T000000Z
LOCATION:JCC Great Neck Court 2
CONTACT:
SUMMARY:Suns VS. Clippers
DESCRIPTION:League Name: JCC Mens League (18-30) Spring 2023 \nGame Type: R
 egular\nGame Status: Complete\nHome Team: Suns\nAway Team: Clippers\nHome 
 Score: 30\nAway Score: 38
END:VEVENT
BEGIN:VEVENT
UID:14973904@ezleagues.ezfacility.com
DTSTAMP:20260426T034817Z
CREATED:20260426T034817Z
DTSTART:20230511T234500Z
DTEND:20230512T004500Z
LOCATION:JCC Great Neck Court 1
CONTACT:
SUMMARY:EasyMoneySnipers VS. Suns
DESCRIPTION:League Name: JCC Mens League (18-30) Spring 2023 \nGame Type: R
 egular\nGame Status: Complete\nHome Team: EasyMoneySnipers\nAway Team: Sun
 s\nHome Score: 58\nAway Score: 57
END:VEVENT
BEGIN:VEVENT
UID:14973913@ezleagues.ezfacility.com
DTSTAMP:20260426T034817Z
CREATED:20260426T034817Z
DTSTART:20230519T004500Z
DTEND:20230519T014500Z
LOCATION:JCC Great Neck Court 2
CONTACT:
SUMMARY:Suns VS. Full Senders
DESCRIPTION:League Name: JCC Mens League (18-30) Spring 2023 \nGame Type: R
 egular\nGame Status: Complete\nHome Team: Suns\nAway Team: Full Senders\nH
 ome Score: 74\nAway Score: 58
END:VEVENT
BEGIN:VEVENT
UID:14973910@ezleagues.ezfacility.com
DTSTAMP:20260426T034817Z
CREATED:20260426T034817Z
DTSTART:20230522T000000Z
DTEND:20230522T010000Z
LOCATION:JCC Great Neck Court 1
CONTACT:
SUMMARY:Mr. Handsomes VS. Suns
DESCRIPTION:League Name: JCC Mens League (18-30) Spring 2023 \nGame Type: R
 egular\nGame Status: Complete\nHome Team: Mr. Handsomes\nAway Team: Suns\n
 Home Score: 62\nAway Score: 70
END:VEVENT
END:VCALENDAR
