BEGIN:VCALENDAR
VERSION:2.0
PRODID:-//EZFacility.com, Inc.//EZL 2.5.5.28621
BEGIN:VEVENT
UID:14984061@ezleagues.ezfacility.com
DTSTAMP:20260426T035144Z
CREATED:20260426T035144Z
DTSTART:20230325T005500Z
DTEND:20230325T015000Z
LOCATION:VA Army National Guard Field 2
CONTACT:Trujillo
SUMMARY:Titans Over 40 VS. Berserkers
DESCRIPTION:League Name: Friday March 17, 2023 Men's Over 40\nGame Type: Re
 gular\nGame Status: Complete\nHome Team: Titans Over 40\nAway Team: Berser
 kers\nHome Score: 8\nAway Score: 15
END:VEVENT
BEGIN:VEVENT
UID:14984066@ezleagues.ezfacility.com
DTSTAMP:20260426T035144Z
CREATED:20260426T035144Z
DTSTART:20230401T005000Z
DTEND:20230401T014500Z
LOCATION:VA Army National Guard Field 2
CONTACT:
SUMMARY:Berserkers VS. Scorpions
DESCRIPTION:League Name: Friday March 17, 2023 Men's Over 40\nGame Type: Re
 gular\nGame Status: Complete\nHome Team: Berserkers\nAway Team: Scorpions\
 nHome Score: 5\nAway Score: 7
END:VEVENT
BEGIN:VEVENT
UID:14984071@ezleagues.ezfacility.com
DTSTAMP:20260426T035144Z
CREATED:20260426T035144Z
DTSTART:20230407T235500Z
DTEND:20230408T005000Z
LOCATION:Field 1
CONTACT:Martinez
SUMMARY:Berserkers VS. Berracos
DESCRIPTION:League Name: Friday March 17, 2023 Men's Over 40\nGame Type: Re
 gular\nGame Status: Complete\nHome Team: Berserkers\nAway Team: Berracos\n
 Home Score: 6\nAway Score: 6
END:VEVENT
BEGIN:VEVENT
UID:14984084@ezleagues.ezfacility.com
DTSTAMP:20260426T035144Z
CREATED:20260426T035144Z
DTSTART:20230421T235500Z
DTEND:20230422T005000Z
LOCATION: Field 3
CONTACT:
SUMMARY:Barrio Fino VS. Berserkers
DESCRIPTION:League Name: Friday March 17, 2023 Men's Over 40\nGame Type: Re
 gular\nGame Status: Complete\nHome Team: Barrio Fino\nAway Team: Berserker
 s\nHome Score: 8\nAway Score: 7
END:VEVENT
BEGIN:VEVENT
UID:14985124@ezleagues.ezfacility.com
DTSTAMP:20260426T035144Z
CREATED:20260426T035144Z
DTSTART:20230429T000000Z
DTEND:20230429T005500Z
LOCATION: Field 3
CONTACT:
SUMMARY:Tiki Taka VS. Berserkers
DESCRIPTION:League Name: Friday March 17, 2023 Men's Over 40\nGame Type: Re
 gular\nGame Status: Complete\nHome Team: Tiki Taka\nAway Team: Berserkers\
 nHome Score: 0\nAway Score: 3
END:VEVENT
BEGIN:VEVENT
UID:14984075@ezleagues.ezfacility.com
DTSTAMP:20260426T035144Z
CREATED:20260426T035144Z
DTSTART:20230506T005000Z
DTEND:20230506T014500Z
LOCATION: Field 3
CONTACT:Canales
SUMMARY:Los Galaticos  VS. Berserkers
DESCRIPTION:League Name: Friday March 17, 2023 Men's Over 40\nGame Type: Re
 gular\nGame Status: Complete\nHome Team: Los Galaticos \nAway Team: Berser
 kers\nHome Score: 11\nAway Score: 11
END:VEVENT
BEGIN:VEVENT
UID:14984081@ezleagues.ezfacility.com
DTSTAMP:20260426T035144Z
CREATED:20260426T035144Z
DTSTART:20230513T005000Z
DTEND:20230513T014500Z
LOCATION:VA Army National Guard Field 2
CONTACT:Cazun
SUMMARY:Goncho FC VS. Berserkers
DESCRIPTION:League Name: Friday March 17, 2023 Men's Over 40\nGame Type: Re
 gular\nGame Status: Complete\nHome Team: Goncho FC\nAway Team: Berserkers\
 nHome Score: 8\nAway Score: 8
END:VEVENT
BEGIN:VEVENT
UID:14984092@ezleagues.ezfacility.com
DTSTAMP:20260426T035144Z
CREATED:20260426T035144Z
DTSTART:20230520T005000Z
DTEND:20230520T014500Z
LOCATION:VA Army National Guard Field 2
CONTACT:Ramirez
SUMMARY:Berserkers VS. Barrio Fino
DESCRIPTION:League Name: Friday March 17, 2023 Men's Over 40\nGame Type: Po
 stseason\nGame Status: Complete\nHome Team: Berserkers\nAway Team: Barrio 
 Fino\nHome Score: 8\nAway Score: 12
END:VEVENT
END:VCALENDAR
