BEGIN:VCALENDAR
VERSION:2.0
PRODID:-//EZFacility.com, Inc.//EZL 2.5.5.28621
BEGIN:VEVENT
UID:14978932@ezleagues.ezfacility.com
DTSTAMP:20260426T033853Z
CREATED:20260426T033853Z
DTSTART:20230324T010000Z
DTEND:20230324T020000Z
LOCATION:Bridgeville RollerPlex
CONTACT:
SUMMARY:May the Schwartz be with you VS. Beauties
DESCRIPTION:League Name: Spring Puck (NORTH)(HIGHEST LEAGUE) Thursday/2023\
 nGame Type: Regular\nGame Status: Complete\nHome Team: May the Schwartz be
  with you\nAway Team: Beauties\nHome Score: 9\nAway Score: 4
END:VEVENT
BEGIN:VEVENT
UID:14978940@ezleagues.ezfacility.com
DTSTAMP:20260426T033853Z
CREATED:20260426T033853Z
DTSTART:20230407T020000Z
DTEND:20230407T030000Z
LOCATION:Bridgeville RollerPlex
CONTACT:
SUMMARY:Ed's Mommbas VS. May the Schwartz be with you
DESCRIPTION:League Name: Spring Puck (NORTH)(HIGHEST LEAGUE) Thursday/2023\
 nGame Type: Regular\nGame Status: Complete\nHome Team: Ed's Mommbas\nAway 
 Team: May the Schwartz be with you\nHome Score: 7\nAway Score: 4
END:VEVENT
BEGIN:VEVENT
UID:14978943@ezleagues.ezfacility.com
DTSTAMP:20260426T033853Z
CREATED:20260426T033853Z
DTSTART:20230414T010000Z
DTEND:20230414T020000Z
LOCATION:Bridgeville RollerPlex
CONTACT:
SUMMARY:May the Schwartz be with you VS. Sharp Cheddar
DESCRIPTION:League Name: Spring Puck (NORTH)(HIGHEST LEAGUE) Thursday/2023\
 nGame Type: Regular\nGame Status: Complete\nHome Team: May the Schwartz be
  with you\nAway Team: Sharp Cheddar\nHome Score: 3\nAway Score: 6
END:VEVENT
BEGIN:VEVENT
UID:14978945@ezleagues.ezfacility.com
DTSTAMP:20260426T033853Z
CREATED:20260426T033853Z
DTSTART:20230421T020000Z
DTEND:20230421T030000Z
LOCATION:Bridgeville RollerPlex
CONTACT:
SUMMARY:New Age VS. May the Schwartz be with you
DESCRIPTION:League Name: Spring Puck (NORTH)(HIGHEST LEAGUE) Thursday/2023\
 nGame Type: Regular\nGame Status: Complete\nHome Team: New Age\nAway Team:
  May the Schwartz be with you\nHome Score: 8\nAway Score: 0
END:VEVENT
BEGIN:VEVENT
UID:14978947@ezleagues.ezfacility.com
DTSTAMP:20260426T033853Z
CREATED:20260426T033853Z
DTSTART:20230428T020000Z
DTEND:20230428T030000Z
LOCATION:Bridgeville RollerPlex
CONTACT:
SUMMARY:Beauties VS. May the Schwartz be with you
DESCRIPTION:League Name: Spring Puck (NORTH)(HIGHEST LEAGUE) Thursday/2023\
 nGame Type: Regular\nGame Status: Complete\nHome Team: Beauties\nAway Team
 : May the Schwartz be with you\nHome Score: 5\nAway Score: 11
END:VEVENT
BEGIN:VEVENT
UID:14978955@ezleagues.ezfacility.com
DTSTAMP:20260426T033853Z
CREATED:20260426T033853Z
DTSTART:20230512T010000Z
DTEND:20230512T020000Z
LOCATION:Bridgeville RollerPlex
CONTACT:
SUMMARY:Ed's Mommbas VS. May the Schwartz be with you
DESCRIPTION:League Name: Spring Puck (NORTH)(HIGHEST LEAGUE) Thursday/2023\
 nGame Type: Regular\nGame Status: Complete\nHome Team: Ed's Mommbas\nAway 
 Team: May the Schwartz be with you\nHome Score: 7\nAway Score: 3
END:VEVENT
BEGIN:VEVENT
UID:14979015@ezleagues.ezfacility.com
DTSTAMP:20260426T033853Z
CREATED:20260426T033853Z
DTSTART:20230519T020000Z
DTEND:20230519T030000Z
LOCATION:Bridgeville RollerPlex
CONTACT:
SUMMARY:May the Schwartz be with you VS. Sharp Cheddar
DESCRIPTION:League Name: Spring Puck (NORTH)(HIGHEST LEAGUE) Thursday/2023\
 nGame Type: Regular\nGame Status: Complete\nHome Team: May the Schwartz be
  with you\nAway Team: Sharp Cheddar\nHome Score: 3\nAway Score: 6
END:VEVENT
BEGIN:VEVENT
UID:14978960@ezleagues.ezfacility.com
DTSTAMP:20260426T033853Z
CREATED:20260426T033853Z
DTSTART:20230526T010000Z
DTEND:20230526T020000Z
LOCATION:Bridgeville RollerPlex
CONTACT:
SUMMARY:May the Schwartz be with you VS. New Age
DESCRIPTION:League Name: Spring Puck (NORTH)(HIGHEST LEAGUE) Thursday/2023\
 nGame Type: Regular\nGame Status: Complete\nHome Team: May the Schwartz be
  with you\nAway Team: New Age\nHome Score: 3\nAway Score: 7
END:VEVENT
BEGIN:VEVENT
UID:14978962@ezleagues.ezfacility.com
DTSTAMP:20260426T033853Z
CREATED:20260426T033853Z
DTSTART:20230602T010000Z
DTEND:20230602T020000Z
LOCATION:Bridgeville RollerPlex
CONTACT:
SUMMARY:May the Schwartz be with you VS. Beauties
DESCRIPTION:League Name: Spring Puck (NORTH)(HIGHEST LEAGUE) Thursday/2023\
 nGame Type: Regular\nGame Status: Complete\nHome Team: May the Schwartz be
  with you\nAway Team: Beauties\nHome Score: 13\nAway Score: 9
END:VEVENT
BEGIN:VEVENT
UID:14978970@ezleagues.ezfacility.com
DTSTAMP:20260426T033853Z
CREATED:20260426T033853Z
DTSTART:20230616T020000Z
DTEND:20230616T030000Z
LOCATION:Bridgeville RollerPlex
CONTACT:
SUMMARY:May the Schwartz be with you VS. Ed's Mommbas
DESCRIPTION:League Name: Spring Puck (NORTH)(HIGHEST LEAGUE) Thursday/2023\
 nGame Type: Regular\nGame Status: Complete\nHome Team: May the Schwartz be
  with you\nAway Team: Ed's Mommbas\nHome Score: 4\nAway Score: 2
END:VEVENT
BEGIN:VEVENT
UID:15113640@ezleagues.ezfacility.com
DTSTAMP:20260426T033853Z
CREATED:20260426T033853Z
DTSTART:20230623T020000Z
DTEND:20230623T030000Z
LOCATION:Bridgeville RollerPlex
CONTACT:
SUMMARY:New Age VS. May the Schwartz be with you
DESCRIPTION:League Name: Spring Puck (NORTH)(HIGHEST LEAGUE) Thursday/2023\
 nGame Type: Postseason\nGame Status: Complete\nHome Team: New Age\nAway Te
 am: May the Schwartz be with you\nHome Score: 7\nAway Score: 1
END:VEVENT
END:VCALENDAR
