BEGIN:VCALENDAR
VERSION:2.0
PRODID:-//EZFacility.com, Inc.//EZL 2.5.5.28621
BEGIN:VEVENT
UID:14980694@ezleagues.ezfacility.com
DTSTAMP:20260426T033709Z
CREATED:20260426T033709Z
DTSTART:20230404T010000Z
DTEND:20230404T020000Z
LOCATION:Field 1 (Adult)
CONTACT:
SUMMARY:Huskies VS. Midwest BOOM 14U Yellow
DESCRIPTION:League Name: 7on7 Football-14U\nGame Type: Regular\nGame Status
 : Complete\nHome Team: Huskies\nAway Team: Midwest BOOM 14U Yellow\nHome S
 core: 11\nAway Score: 47
END:VEVENT
BEGIN:VEVENT
UID:14980704@ezleagues.ezfacility.com
DTSTAMP:20260426T033709Z
CREATED:20260426T033709Z
DTSTART:20230410T230000Z
DTEND:20230411T000000Z
LOCATION:Field 1 (Adult)
CONTACT:
SUMMARY:Midwest BOOM 14U Yellow VS. hard hitters
DESCRIPTION:League Name: 7on7 Football-14U\nGame Type: Regular\nGame Status
 : Complete\nHome Team: Midwest BOOM 14U Yellow\nAway Team: hard hitters\nH
 ome Score: 65\nAway Score: 14
END:VEVENT
BEGIN:VEVENT
UID:14980705@ezleagues.ezfacility.com
DTSTAMP:20260426T033709Z
CREATED:20260426T033709Z
DTSTART:20230411T000000Z
DTEND:20230411T010000Z
LOCATION:Field 1 (Adult)
CONTACT:
SUMMARY:Midwest BOOM 14U Yellow VS. Crusader Football 14U
DESCRIPTION:League Name: 7on7 Football-14U\nGame Type: Regular\nGame Status
 : Complete\nHome Team: Midwest BOOM 14U Yellow\nAway Team: Crusader Footba
 ll 14U\nHome Score: 56\nAway Score: 2
END:VEVENT
BEGIN:VEVENT
UID:14980725@ezleagues.ezfacility.com
DTSTAMP:20260426T033709Z
CREATED:20260426T033709Z
DTSTART:20230425T010000Z
DTEND:20230425T020000Z
LOCATION:Field 1 (Adult)
CONTACT:
SUMMARY:Naperville Revolution VS. Midwest BOOM 14U Yellow
DESCRIPTION:League Name: 7on7 Football-14U\nGame Type: Regular\nGame Status
 : Complete\nHome Team: Naperville Revolution\nAway Team: Midwest BOOM 14U 
 Yellow\nHome Score: 0\nAway Score: 60
END:VEVENT
BEGIN:VEVENT
UID:14980742@ezleagues.ezfacility.com
DTSTAMP:20260426T033709Z
CREATED:20260426T033709Z
DTSTART:20230502T010000Z
DTEND:20230502T020000Z
LOCATION:Field 2 (Adult)
CONTACT:
SUMMARY:Midwest BOOM 14U Yellow VS. Warriors 14U
DESCRIPTION:League Name: 7on7 Football-14U\nGame Type: Regular\nGame Status
 : Complete\nHome Team: Midwest BOOM 14U Yellow\nAway Team: Warriors 14U\nH
 ome Score: 32\nAway Score: 15
END:VEVENT
BEGIN:VEVENT
UID:14980758@ezleagues.ezfacility.com
DTSTAMP:20260426T033709Z
CREATED:20260426T033709Z
DTSTART:20230515T230000Z
DTEND:20230516T000000Z
LOCATION:Field 1 (Adult)
CONTACT:
SUMMARY:Midwest BOOM 14U Yellow VS. Supreme 7v7 14U
DESCRIPTION:League Name: 7on7 Football-14U\nGame Type: Regular\nGame Status
 : Complete\nHome Team: Midwest BOOM 14U Yellow\nAway Team: Supreme 7v7 14U
 \nHome Score: 42\nAway Score: 24
END:VEVENT
BEGIN:VEVENT
UID:14980793@ezleagues.ezfacility.com
DTSTAMP:20260426T033709Z
CREATED:20260426T033709Z
DTSTART:20230516T000000Z
DTEND:20230516T010000Z
LOCATION:Field 2 (Adult)
CONTACT:
SUMMARY:Midwest BOOM 14U Yellow VS. Three B Bobcats
DESCRIPTION:League Name: 7on7 Football-14U\nGame Type: Regular\nGame Status
 : Complete\nHome Team: Midwest BOOM 14U Yellow\nAway Team: Three B Bobcats
 \nHome Score: 16\nAway Score: 40
END:VEVENT
BEGIN:VEVENT
UID:14980771@ezleagues.ezfacility.com
DTSTAMP:20260426T033709Z
CREATED:20260426T033709Z
DTSTART:20230523T000000Z
DTEND:20230523T010000Z
LOCATION:Field 1 (Adult)
CONTACT:
SUMMARY:Midwest BOOM 14U Yellow VS. BOMBERS
DESCRIPTION:League Name: 7on7 Football-14U\nGame Type: Regular\nGame Status
 : Complete\nHome Team: Midwest BOOM 14U Yellow\nAway Team: BOMBERS\nHome S
 core: 84\nAway Score: 0
END:VEVENT
BEGIN:VEVENT
UID:15029686@ezleagues.ezfacility.com
DTSTAMP:20260426T033709Z
CREATED:20260426T033709Z
DTSTART:20230530T230000Z
DTEND:20230531T000000Z
LOCATION:Field 1 (Adult)
CONTACT:
SUMMARY:Midwest BOOM 14U Yellow VS. Three B Bobcats
DESCRIPTION:League Name: 7on7 Football-14U\nGame Type: Postseason\nGame Sta
 tus: Complete\nHome Team: Midwest BOOM 14U Yellow\nAway Team: Three B Bobc
 ats\nHome Score: 27\nAway Score: 24
END:VEVENT
BEGIN:VEVENT
UID:15029689@ezleagues.ezfacility.com
DTSTAMP:20260426T033709Z
CREATED:20260426T033709Z
DTSTART:20230531T000000Z
DTEND:20230531T010000Z
LOCATION:Field 2 (Adult)
CONTACT:
SUMMARY:Eagle Air Raid VS. Midwest BOOM 14U Yellow
DESCRIPTION:League Name: 7on7 Football-14U\nGame Type: Postseason\nGame Sta
 tus: Complete\nHome Team: Eagle Air Raid\nAway Team: Midwest BOOM 14U Yell
 ow\nHome Score: 53\nAway Score: 32
END:VEVENT
END:VCALENDAR
