BEGIN:VCALENDAR
VERSION:2.0
PRODID:-//EZFacility.com, Inc.//EZL 2.5.5.28621
BEGIN:VEVENT
UID:14982842@ezleagues.ezfacility.com
DTSTAMP:20260422T092058Z
CREATED:20260422T092058Z
DTSTART:20230317T160000Z
DTEND:20230317T170000Z
LOCATION:Turf 2
CONTACT:
SUMMARY:Beers and Bags VS. Throwing Bags
DESCRIPTION:League Name: Cornhole Recreational 2023 (March)\nGame Type: Reg
 ular\nGame Status: Complete\nHome Team: Beers and Bags\nAway Team: Throwin
 g Bags\nHome Score: 11\nAway Score: 21
END:VEVENT
BEGIN:VEVENT
UID:14982950@ezleagues.ezfacility.com
DTSTAMP:20260422T092058Z
CREATED:20260422T092058Z
DTSTART:20230317T160000Z
DTEND:20230317T170000Z
LOCATION:Turf 2
CONTACT:
SUMMARY:Corn Dogs VS. Throwing Bags
DESCRIPTION:League Name: Cornhole Recreational 2023 (March)\nGame Type: Reg
 ular\nGame Status: Complete\nHome Team: Corn Dogs\nAway Team: Throwing Bag
 s\nHome Score: 16\nAway Score: 21
END:VEVENT
BEGIN:VEVENT
UID:14982969@ezleagues.ezfacility.com
DTSTAMP:20260422T092058Z
CREATED:20260422T092058Z
DTSTART:20230317T160000Z
DTEND:20230317T170000Z
LOCATION:Turf 2
CONTACT:
SUMMARY:Feeling Corny VS. Throwing Bags
DESCRIPTION:League Name: Cornhole Recreational 2023 (March)\nGame Type: Reg
 ular\nGame Status: Complete\nHome Team: Feeling Corny\nAway Team: Throwing
  Bags\nHome Score: 21\nAway Score: 10
END:VEVENT
BEGIN:VEVENT
UID:14998404@ezleagues.ezfacility.com
DTSTAMP:20260422T092058Z
CREATED:20260422T092058Z
DTSTART:20230324T230000Z
DTEND:20230324T232000Z
LOCATION:Turf 2
CONTACT:
SUMMARY:Seabags VS. Throwing Bags
DESCRIPTION:League Name: Cornhole Recreational 2023 (March)\nGame Type: Reg
 ular\nGame Status: Complete\nHome Team: Seabags\nAway Team: Throwing Bags\
 nHome Score: 21\nAway Score: 8
END:VEVENT
BEGIN:VEVENT
UID:14998406@ezleagues.ezfacility.com
DTSTAMP:20260422T092058Z
CREATED:20260422T092058Z
DTSTART:20230324T232000Z
DTEND:20230324T234000Z
LOCATION:Turf 2
CONTACT:
SUMMARY:Jofas VS. Throwing Bags
DESCRIPTION:League Name: Cornhole Recreational 2023 (March)\nGame Type: Reg
 ular\nGame Status: Complete\nHome Team: Jofas\nAway Team: Throwing Bags\nH
 ome Score: 21\nAway Score: 11
END:VEVENT
BEGIN:VEVENT
UID:14998415@ezleagues.ezfacility.com
DTSTAMP:20260422T092058Z
CREATED:20260422T092058Z
DTSTART:20230324T234000Z
DTEND:20230325T000000Z
LOCATION:Turf 2
CONTACT:
SUMMARY:Game of Throws VS. Throwing Bags
DESCRIPTION:League Name: Cornhole Recreational 2023 (March)\nGame Type: Reg
 ular\nGame Status: Complete\nHome Team: Game of Throws\nAway Team: Throwin
 g Bags\nHome Score: 0\nAway Score: 21
END:VEVENT
BEGIN:VEVENT
UID:15005074@ezleagues.ezfacility.com
DTSTAMP:20260422T092058Z
CREATED:20260422T092058Z
DTSTART:20230331T160000Z
DTEND:20230331T162000Z
LOCATION:Turf 2
CONTACT:
SUMMARY:Throwing Bags VS. Wrong hole
DESCRIPTION:League Name: Cornhole Recreational 2023 (March)\nGame Type: Reg
 ular\nGame Status: Complete\nHome Team: Throwing Bags\nAway Team: Wrong ho
 le\nHome Score: 7\nAway Score: 21
END:VEVENT
BEGIN:VEVENT
UID:15005081@ezleagues.ezfacility.com
DTSTAMP:20260422T092058Z
CREATED:20260422T092058Z
DTSTART:20230331T162000Z
DTEND:20230331T164000Z
LOCATION:Turf 2
CONTACT:
SUMMARY:Lucky Bucks VS. Throwing Bags
DESCRIPTION:League Name: Cornhole Recreational 2023 (March)\nGame Type: Reg
 ular\nGame Status: Complete\nHome Team: Lucky Bucks\nAway Team: Throwing B
 ags\nHome Score: 13\nAway Score: 21
END:VEVENT
BEGIN:VEVENT
UID:15005094@ezleagues.ezfacility.com
DTSTAMP:20260422T092058Z
CREATED:20260422T092058Z
DTSTART:20230331T170000Z
DTEND:20230331T172000Z
LOCATION:Turf 2
CONTACT:
SUMMARY:Buttered Bean Bags VS. Throwing Bags
DESCRIPTION:League Name: Cornhole Recreational 2023 (March)\nGame Type: Reg
 ular\nGame Status: Complete\nHome Team: Buttered Bean Bags\nAway Team: Thr
 owing Bags\nHome Score: 21\nAway Score: 3
END:VEVENT
BEGIN:VEVENT
UID:15018892@ezleagues.ezfacility.com
DTSTAMP:20260422T092058Z
CREATED:20260422T092058Z
DTSTART:20230407T170000Z
DTEND:20230407T172000Z
LOCATION:Turf 2
CONTACT:
SUMMARY:Crappy Bags  VS. Throwing Bags
DESCRIPTION:League Name: Cornhole Recreational 2023 (March)\nGame Type: Reg
 ular\nGame Status: Complete\nHome Team: Crappy Bags \nAway Team: Throwing 
 Bags\nHome Score: 21\nAway Score: 16
END:VEVENT
BEGIN:VEVENT
UID:15018904@ezleagues.ezfacility.com
DTSTAMP:20260422T092058Z
CREATED:20260422T092058Z
DTSTART:20230407T172000Z
DTEND:20230407T174000Z
LOCATION:Turf 2
CONTACT:
SUMMARY:Thomass Tew VS. Throwing Bags
DESCRIPTION:League Name: Cornhole Recreational 2023 (March)\nGame Type: Reg
 ular\nGame Status: Complete\nHome Team: Thomass Tew\nAway Team: Throwing B
 ags\nHome Score: 21\nAway Score: 13
END:VEVENT
BEGIN:VEVENT
UID:15018925@ezleagues.ezfacility.com
DTSTAMP:20260422T092058Z
CREATED:20260422T092058Z
DTSTART:20230407T174000Z
DTEND:20230407T180000Z
LOCATION:Turf 2
CONTACT:
SUMMARY:Bag Ladies VS. Throwing Bags
DESCRIPTION:League Name: Cornhole Recreational 2023 (March)\nGame Type: Reg
 ular\nGame Status: Complete\nHome Team: Bag Ladies\nAway Team: Throwing Ba
 gs\nHome Score: 8\nAway Score: 21
END:VEVENT
BEGIN:VEVENT
UID:15030730@ezleagues.ezfacility.com
DTSTAMP:20260422T092058Z
CREATED:20260422T092058Z
DTSTART:20230414T170000Z
DTEND:20230414T172000Z
LOCATION:Turf 2
CONTACT:
SUMMARY:Dudas of the Corn VS. Throwing Bags
DESCRIPTION:League Name: Cornhole Recreational 2023 (March)\nGame Type: Reg
 ular\nGame Status: Complete\nHome Team: Dudas of the Corn\nAway Team: Thro
 wing Bags\nHome Score: 9\nAway Score: 21
END:VEVENT
BEGIN:VEVENT
UID:15030748@ezleagues.ezfacility.com
DTSTAMP:20260422T092058Z
CREATED:20260422T092058Z
DTSTART:20230414T172000Z
DTEND:20230414T174000Z
LOCATION:Turf 2
CONTACT:
SUMMARY:Throwing Bags VS. Team A-CORN
DESCRIPTION:League Name: Cornhole Recreational 2023 (March)\nGame Type: Reg
 ular\nGame Status: Complete\nHome Team: Throwing Bags\nAway Team: Team A-C
 ORN\nHome Score: 5\nAway Score: 21
END:VEVENT
BEGIN:VEVENT
UID:15030755@ezleagues.ezfacility.com
DTSTAMP:20260422T092058Z
CREATED:20260422T092058Z
DTSTART:20230414T174000Z
DTEND:20230414T180000Z
LOCATION:Turf 2
CONTACT:
SUMMARY:Bro Baggins  VS. Throwing Bags
DESCRIPTION:League Name: Cornhole Recreational 2023 (March)\nGame Type: Reg
 ular\nGame Status: Complete\nHome Team: Bro Baggins \nAway Team: Throwing 
 Bags\nHome Score: 21\nAway Score: 9
END:VEVENT
END:VCALENDAR
