BEGIN:VCALENDAR
VERSION:2.0
PRODID:-//EZFacility.com, Inc.//EZL 2.5.5.28621
BEGIN:VEVENT
UID:14988174@ezleagues.ezfacility.com
DTSTAMP:20260421T223357Z
CREATED:20260421T223357Z
DTSTART:20230404T020000Z
DTEND:20230404T030000Z
LOCATION:Field 3
CONTACT:Far Side
SUMMARY:B Y O B VS. Purple Rain
DESCRIPTION:League Name: Coed Soccer - Spring 2023 (COPY) (COPY)\nGame Type
 : Regular\nGame Status: Complete\nHome Team: B Y O B\nAway Team: Purple Ra
 in\nHome Score: 10\nAway Score: 1
END:VEVENT
BEGIN:VEVENT
UID:14988178@ezleagues.ezfacility.com
DTSTAMP:20260421T223357Z
CREATED:20260421T223357Z
DTSTART:20230411T030000Z
DTEND:20230411T040000Z
LOCATION:Field 3
CONTACT:Far Side
SUMMARY:B Y O B VS. United
DESCRIPTION:League Name: Coed Soccer - Spring 2023 (COPY) (COPY)\nGame Type
 : Regular\nGame Status: Complete\nHome Team: B Y O B\nAway Team: United\nH
 ome Score: 0\nAway Score: 3
END:VEVENT
BEGIN:VEVENT
UID:14988182@ezleagues.ezfacility.com
DTSTAMP:20260421T223357Z
CREATED:20260421T223357Z
DTSTART:20230418T030000Z
DTEND:20230418T040000Z
LOCATION:Field 3
CONTACT:
SUMMARY:Wolfpack VS. B Y O B
DESCRIPTION:League Name: Coed Soccer - Spring 2023 (COPY) (COPY)\nGame Type
 : Regular\nGame Status: Complete\nHome Team: Wolfpack\nAway Team: B Y O B\
 nHome Score: 2\nAway Score: 1
END:VEVENT
BEGIN:VEVENT
UID:14988186@ezleagues.ezfacility.com
DTSTAMP:20260421T223357Z
CREATED:20260421T223357Z
DTSTART:20230425T030000Z
DTEND:20230425T040000Z
LOCATION:Field 3
CONTACT:
SUMMARY:B Y O B VS. The Krew
DESCRIPTION:League Name: Coed Soccer - Spring 2023 (COPY) (COPY)\nGame Type
 : Regular\nGame Status: Complete\nHome Team: B Y O B\nAway Team: The Krew\
 nHome Score: 1\nAway Score: 7
END:VEVENT
BEGIN:VEVENT
UID:14988190@ezleagues.ezfacility.com
DTSTAMP:20260421T223357Z
CREATED:20260421T223357Z
DTSTART:20230502T020000Z
DTEND:20230502T030000Z
LOCATION:Field 3
CONTACT:
SUMMARY:Panthers VS. B Y O B
DESCRIPTION:League Name: Coed Soccer - Spring 2023 (COPY) (COPY)\nGame Type
 : Regular\nGame Status: Complete\nHome Team: Panthers\nAway Team: B Y O B\
 nHome Score: 0\nAway Score: 3
END:VEVENT
BEGIN:VEVENT
UID:14988194@ezleagues.ezfacility.com
DTSTAMP:20260421T223357Z
CREATED:20260421T223357Z
DTSTART:20230509T030000Z
DTEND:20230509T040000Z
LOCATION:Field 3
CONTACT:Far Side
SUMMARY:Cuervos FC VS. B Y O B
DESCRIPTION:League Name: Coed Soccer - Spring 2023 (COPY) (COPY)\nGame Type
 : Regular\nGame Status: Complete\nHome Team: Cuervos FC\nAway Team: B Y O 
 B\nHome Score: 5\nAway Score: 0
END:VEVENT
BEGIN:VEVENT
UID:14988198@ezleagues.ezfacility.com
DTSTAMP:20260421T223357Z
CREATED:20260421T223357Z
DTSTART:20230516T020000Z
DTEND:20230516T030000Z
LOCATION:Field 3
CONTACT:Far Side
SUMMARY:Los Bunnies VS. B Y O B
DESCRIPTION:League Name: Coed Soccer - Spring 2023 (COPY) (COPY)\nGame Type
 : Regular\nGame Status: Complete\nHome Team: Los Bunnies\nAway Team: B Y O
  B\nHome Score: 4\nAway Score: 4
END:VEVENT
BEGIN:VEVENT
UID:14988202@ezleagues.ezfacility.com
DTSTAMP:20260421T223357Z
CREATED:20260421T223357Z
DTSTART:20230523T020000Z
DTEND:20230523T030000Z
LOCATION:Field 3
CONTACT:Far Side
SUMMARY:Purple Rain VS. B Y O B
DESCRIPTION:League Name: Coed Soccer - Spring 2023 (COPY) (COPY)\nGame Type
 : Regular\nGame Status: Complete\nHome Team: Purple Rain\nAway Team: B Y O
  B\nHome Score: 2\nAway Score: 4
END:VEVENT
BEGIN:VEVENT
UID:14988206@ezleagues.ezfacility.com
DTSTAMP:20260421T223357Z
CREATED:20260421T223357Z
DTSTART:20230606T020000Z
DTEND:20230606T030000Z
LOCATION:Field 3
CONTACT:
SUMMARY:B Y O B VS. United
DESCRIPTION:League Name: Coed Soccer - Spring 2023 (COPY) (COPY)\nGame Type
 : Regular\nGame Status: Complete\nHome Team: B Y O B\nAway Team: United\nH
 ome Score: 0\nAway Score: 7
END:VEVENT
BEGIN:VEVENT
UID:14988170@ezleagues.ezfacility.com
DTSTAMP:20260421T223357Z
CREATED:20260421T223357Z
DTSTART:20230613T020000Z
DTEND:20230613T030000Z
LOCATION:Field 3
CONTACT:
SUMMARY:B Y O B VS. Los Bunnies
DESCRIPTION:League Name: Coed Soccer - Spring 2023 (COPY) (COPY)\nGame Type
 : Regular\nGame Status: Complete\nHome Team: B Y O B\nAway Team: Los Bunni
 es\nHome Score: 0\nAway Score: 5
END:VEVENT
BEGIN:VEVENT
UID:15108738@ezleagues.ezfacility.com
DTSTAMP:20260421T223357Z
CREATED:20260421T223357Z
DTSTART:20230620T020000Z
DTEND:20230620T030000Z
LOCATION:Field 3
CONTACT:
SUMMARY:B Y O B VS. Purple Rain
DESCRIPTION:League Name: Coed Soccer - Spring 2023 (COPY) (COPY)\nGame Type
 : Postseason\nGame Status: Complete\nHome Team: B Y O B\nAway Team: Purple
  Rain\nHome Score: 4\nAway Score: 5
END:VEVENT
END:VCALENDAR
