BEGIN:VCALENDAR
VERSION:2.0
PRODID:-//EZFacility.com, Inc.//EZL 2.5.5.28621
BEGIN:VEVENT
UID:14991686@ezleagues.ezfacility.com
DTSTAMP:20260423T014455Z
CREATED:20260423T014455Z
DTSTART:20230329T193000Z
DTEND:20230329T201500Z
LOCATION:1 John Charles
CONTACT:
SUMMARY:Stroke City VS. Unprotected Cescs
DESCRIPTION:League Name: Cardiff Wednesday League Division 1\nGame Type: Re
 gular\nGame Status: Complete\nHome Team: Stroke City\nAway Team: Unprotect
 ed Cescs\nHome Score: 11\nAway Score: 6
END:VEVENT
BEGIN:VEVENT
UID:14991689@ezleagues.ezfacility.com
DTSTAMP:20260423T014455Z
CREATED:20260423T014455Z
DTSTART:20230405T193000Z
DTEND:20230405T201500Z
LOCATION:1 John Charles
CONTACT:
SUMMARY:Berocca Juniors VS. Unprotected Cescs
DESCRIPTION:League Name: Cardiff Wednesday League Division 1\nGame Type: Re
 gular\nGame Status: Complete\nHome Team: Berocca Juniors\nAway Team: Unpro
 tected Cescs\nHome Score: 2\nAway Score: 9
END:VEVENT
BEGIN:VEVENT
UID:14991692@ezleagues.ezfacility.com
DTSTAMP:20260423T014455Z
CREATED:20260423T014455Z
DTSTART:20230412T201500Z
DTEND:20230412T210000Z
LOCATION:1 John Charles
CONTACT:
SUMMARY:Ewan's Lazy VS. Unprotected Cescs
DESCRIPTION:League Name: Cardiff Wednesday League Division 1\nGame Type: Re
 gular\nGame Status: Complete\nHome Team: Ewan's Lazy\nAway Team: Unprotect
 ed Cescs\nHome Score: 4\nAway Score: 7
END:VEVENT
BEGIN:VEVENT
UID:14991695@ezleagues.ezfacility.com
DTSTAMP:20260423T014455Z
CREATED:20260423T014455Z
DTSTART:20230419T201500Z
DTEND:20230419T210000Z
LOCATION:1 John Charles
CONTACT:
SUMMARY:Unprotected Cescs VS. Cegin Oriel
DESCRIPTION:League Name: Cardiff Wednesday League Division 1\nGame Type: Re
 gular\nGame Status: Complete\nHome Team: Unprotected Cescs\nAway Team: Ceg
 in Oriel\nHome Score: 5\nAway Score: 2
END:VEVENT
BEGIN:VEVENT
UID:14991698@ezleagues.ezfacility.com
DTSTAMP:20260423T014455Z
CREATED:20260423T014455Z
DTSTART:20230426T193000Z
DTEND:20230426T201500Z
LOCATION:1 John Charles
CONTACT:
SUMMARY:Unprotected Cescs VS. Chunky Bakers
DESCRIPTION:League Name: Cardiff Wednesday League Division 1\nGame Type: Re
 gular\nGame Status: Complete\nHome Team: Unprotected Cescs\nAway Team: Chu
 nky Bakers\nHome Score: 4\nAway Score: 5
END:VEVENT
BEGIN:VEVENT
UID:14991701@ezleagues.ezfacility.com
DTSTAMP:20260423T014455Z
CREATED:20260423T014455Z
DTSTART:20230503T193000Z
DTEND:20230503T201500Z
LOCATION:1 John Charles
CONTACT:
SUMMARY:Stroke City VS. Unprotected Cescs
DESCRIPTION:League Name: Cardiff Wednesday League Division 1\nGame Type: Re
 gular\nGame Status: Complete\nHome Team: Stroke City\nAway Team: Unprotect
 ed Cescs\nHome Score: 6\nAway Score: 4
END:VEVENT
BEGIN:VEVENT
UID:14991704@ezleagues.ezfacility.com
DTSTAMP:20260423T014455Z
CREATED:20260423T014455Z
DTSTART:20230510T201500Z
DTEND:20230510T210000Z
LOCATION:1 John Charles
CONTACT:
SUMMARY:Unprotected Cescs VS. Berocca Juniors
DESCRIPTION:League Name: Cardiff Wednesday League Division 1\nGame Type: Re
 gular\nGame Status: Complete\nHome Team: Unprotected Cescs\nAway Team: Ber
 occa Juniors\nHome Score: 11\nAway Score: 4
END:VEVENT
BEGIN:VEVENT
UID:14991707@ezleagues.ezfacility.com
DTSTAMP:20260423T014455Z
CREATED:20260423T014455Z
DTSTART:20230517T193000Z
DTEND:20230517T201500Z
LOCATION:1 John Charles
CONTACT:
SUMMARY:Unprotected Cescs VS. Ewan's Lazy
DESCRIPTION:League Name: Cardiff Wednesday League Division 1\nGame Type: Re
 gular\nGame Status: Complete\nHome Team: Unprotected Cescs\nAway Team: Ewa
 n's Lazy\nHome Score: 7\nAway Score: 4
END:VEVENT
BEGIN:VEVENT
UID:14991710@ezleagues.ezfacility.com
DTSTAMP:20260423T014455Z
CREATED:20260423T014455Z
DTSTART:20230524T201500Z
DTEND:20230524T210000Z
LOCATION:1 John Charles
CONTACT:
SUMMARY:Cegin Oriel VS. Unprotected Cescs
DESCRIPTION:League Name: Cardiff Wednesday League Division 1\nGame Type: Re
 gular\nGame Status: Complete\nHome Team: Cegin Oriel\nAway Team: Unprotect
 ed Cescs\nHome Score: 1\nAway Score: 4
END:VEVENT
BEGIN:VEVENT
UID:14991713@ezleagues.ezfacility.com
DTSTAMP:20260423T014455Z
CREATED:20260423T014455Z
DTSTART:20230531T201500Z
DTEND:20230531T210000Z
LOCATION:1 John Charles
CONTACT:
SUMMARY:Chunky Bakers VS. Unprotected Cescs
DESCRIPTION:League Name: Cardiff Wednesday League Division 1\nGame Type: Re
 gular\nGame Status: Complete\nHome Team: Chunky Bakers\nAway Team: Unprote
 cted Cescs\nHome Score: 11\nAway Score: 5
END:VEVENT
BEGIN:VEVENT
UID:14991719@ezleagues.ezfacility.com
DTSTAMP:20260423T014455Z
CREATED:20260423T014455Z
DTSTART:20230614T184500Z
DTEND:20230614T193000Z
LOCATION:1 John Charles
CONTACT:
SUMMARY:Unprotected Cescs VS. Berocca Juniors
DESCRIPTION:League Name: Cardiff Wednesday League Division 1\nGame Type: Re
 gular\nGame Status: Complete\nHome Team: Unprotected Cescs\nAway Team: Ber
 occa Juniors\nHome Score: 4\nAway Score: 1
END:VEVENT
BEGIN:VEVENT
UID:14991722@ezleagues.ezfacility.com
DTSTAMP:20260423T014455Z
CREATED:20260423T014455Z
DTSTART:20230614T193000Z
DTEND:20230614T201500Z
LOCATION:1 John Charles
CONTACT:
SUMMARY:Unprotected Cescs VS. Ewan's Lazy
DESCRIPTION:League Name: Cardiff Wednesday League Division 1\nGame Type: Re
 gular\nGame Status: Complete\nHome Team: Unprotected Cescs\nAway Team: Ewa
 n's Lazy\nHome Score: 6\nAway Score: 4
END:VEVENT
BEGIN:VEVENT
UID:14991716@ezleagues.ezfacility.com
DTSTAMP:20260423T014455Z
CREATED:20260423T014455Z
DTSTART:20230621T120000Z
DTEND:20230621T124500Z
LOCATION:1 John Charles
CONTACT:
SUMMARY:Unprotected Cescs VS. Stroke City
DESCRIPTION:League Name: Cardiff Wednesday League Division 1\nGame Type: Re
 gular\nGame Status: Complete\nHome Team: Unprotected Cescs\nAway Team: Str
 oke City\nHome Score: 0\nAway Score: 10
END:VEVENT
BEGIN:VEVENT
UID:14991725@ezleagues.ezfacility.com
DTSTAMP:20260423T014455Z
CREATED:20260423T014455Z
DTSTART:20230628T193000Z
DTEND:20230628T201500Z
LOCATION:1 John Charles
CONTACT:
SUMMARY:Cegin Oriel VS. Unprotected Cescs
DESCRIPTION:League Name: Cardiff Wednesday League Division 1\nGame Type: Re
 gular\nGame Status: Complete\nHome Team: Cegin Oriel\nAway Team: Unprotect
 ed Cescs\nHome Score: 2\nAway Score: 6
END:VEVENT
BEGIN:VEVENT
UID:14991728@ezleagues.ezfacility.com
DTSTAMP:20260423T014455Z
CREATED:20260423T014455Z
DTSTART:20230705T193000Z
DTEND:20230705T201500Z
LOCATION:1 John Charles
CONTACT:
SUMMARY:Chunky Bakers VS. Unprotected Cescs
DESCRIPTION:League Name: Cardiff Wednesday League Division 1\nGame Type: Re
 gular\nGame Status: Complete\nHome Team: Chunky Bakers\nAway Team: Unprote
 cted Cescs\nHome Score: 3\nAway Score: 5
END:VEVENT
END:VCALENDAR
